BEGIN:VCALENDAR
VERSION:2.0
PRODID:-//Mecop - ECPv6.5.1.5//NONSGML v1.0//EN
CALSCALE:GREGORIAN
METHOD:PUBLISH
X-WR-CALNAME:Mecop
X-ORIGINAL-URL:https://mecop.org
X-WR-CALDESC:Events for Mecop
REFRESH-INTERVAL;VALUE=DURATION:PT1H
X-Robots-Tag:noindex
X-PUBLISHED-TTL:PT1H
BEGIN:VTIMEZONE
TZID:America/Chicago
BEGIN:DAYLIGHT
TZOFFSETFROM:-0600
TZOFFSETTO:-0500
TZNAME:CDT
DTSTART:20260308T080000
END:DAYLIGHT
BEGIN:STANDARD
TZOFFSETFROM:-0500
TZOFFSETTO:-0600
TZNAME:CST
DTSTART:20261101T070000
END:STANDARD
END:VTIMEZONE
BEGIN:VEVENT
DTSTART;TZID=America/Chicago:20260117T080000
DTEND;TZID=America/Chicago:20260118T170000
DTSTAMP:20260419T235830
CREATED:20260120T173114Z
LAST-MODIFIED:20260120T173603Z
UID:66930-1768636800-1768755600@mecop.org
SUMMARY:Fundamentals with Injector Coach International
DESCRIPTION:Assess facial anatomy to determine proper treatment and placement. Demonstrate competency in facial anatomy as it pertains to placement of botulinium toxin and filler. Demonstrate efficiency in neurotoxin and filler. Perform proper placement and injection of neurotoxin and filler for glabella\, frontalis and crow’s feet\, as well as cheeks\, lips and nasolabial folds.
URL:https://mecop.org/event/fundamentals-with-injector-coach-international-2/
LOCATION:Mind Body Soul Medical
CATEGORIES:AMA
END:VEVENT
BEGIN:VEVENT
DTSTART;TZID=America/Chicago:20260117T080000
DTEND;TZID=America/Chicago:20260117T170000
DTSTAMP:20260419T235830
CREATED:20260328T182432Z
LAST-MODIFIED:20260328T182438Z
UID:67977-1768636800-1768669200@mecop.org
SUMMARY:PEEP Risk Adjustment and Back to the Future Year-End Review
DESCRIPTION:See content.
URL:https://mecop.org/event/peep-risk-adjustment-and-back-to-the-future-year-end-review-3/
LOCATION:Internet Enduring Material
CATEGORIES:AMA
END:VEVENT
BEGIN:VEVENT
DTSTART;TZID=America/Chicago:20260116T080000
DTEND;TZID=America/Chicago:20260116T170000
DTSTAMP:20260419T235830
CREATED:20260316T205945Z
LAST-MODIFIED:20260316T205945Z
UID:67773-1768550400-1768582800@mecop.org
SUMMARY:2026 Faculty Teaching Credits Orthopedics Clerkship
DESCRIPTION:Unavailable
URL:https://mecop.org/event/2026-faculty-teaching-credits-orthopedics-clerkship/
LOCATION:Tallahassee Regional Campus\, Tallahassee\, FL\, United States
CATEGORIES:AMA
END:VEVENT
BEGIN:VEVENT
DTSTART;TZID=America/Chicago:20260116T080000
DTEND;TZID=America/Chicago:20260116T170000
DTSTAMP:20260419T235830
CREATED:20260219T141344Z
LAST-MODIFIED:20260219T141344Z
UID:67434-1768550400-1768582800@mecop.org
SUMMARY:2026 Faculty Teaching Credits Orthopedic Surgery Clerkship
DESCRIPTION:Unavailable
URL:https://mecop.org/event/2026-faculty-teaching-credits-orthopedic-surgery-clerkship/
LOCATION:Tallahassee Regional Campus\, Tallahassee\, FL\, United States
CATEGORIES:AMA
END:VEVENT
BEGIN:VEVENT
DTSTART;TZID=America/Chicago:20260116T080000
DTEND;TZID=America/Chicago:20260116T170000
DTSTAMP:20260419T235830
CREATED:20260207T220823Z
LAST-MODIFIED:20260212T185025Z
UID:67245-1768550400-1768582800@mecop.org
SUMMARY:2026 Faculty Teaching Credits Surgery Clerkship
DESCRIPTION:Unavailable
URL:https://mecop.org/event/2026-faculty-teaching-credits-surgery-clerkship/
LOCATION:Daytona Beach Regional Campus\, 1200 W International Speedway\, Daytona Beach\, FL\, 32114\, United States
CATEGORIES:AMA
END:VEVENT
BEGIN:VEVENT
DTSTART;TZID=America/Chicago:20260116T080000
DTEND;TZID=America/Chicago:20260116T170000
DTSTAMP:20260419T235830
CREATED:20260207T185741Z
LAST-MODIFIED:20260316T205313Z
UID:67228-1768550400-1768582800@mecop.org
SUMMARY:2026 Faculty Teaching Credits Cardiology Clerkship
DESCRIPTION:Unavailable
URL:https://mecop.org/event/2026-faculty-teaching-credits-cardiology-clerkship/
LOCATION:Fort Pierce Regional Campus\, 1200 W International Speedway Blvd #101\, Daytona Beach\, FL\, 32114\, United States
CATEGORIES:AMA
END:VEVENT
BEGIN:VEVENT
DTSTART;TZID=America/Chicago:20260116T080000
DTEND;TZID=America/Chicago:20260116T170000
DTSTAMP:20260419T235830
CREATED:20260116T190839Z
LAST-MODIFIED:20260416T150400Z
UID:66879-1768550400-1768582800@mecop.org
SUMMARY:2026 Faculty Teaching Credits Emergency Medicine Clerkship
DESCRIPTION:Unavailable
URL:https://mecop.org/event/2026-faculty-teaching-credits-emergency-medicine-clerkship/
LOCATION:Fort Pierce Regional Campus\, 1200 W International Speedway Blvd #101\, Daytona Beach\, FL\, 32114\, United States
CATEGORIES:AMA
END:VEVENT
BEGIN:VEVENT
DTSTART;TZID=America/Chicago:20260115T080000
DTEND;TZID=America/Chicago:20260115T170000
DTSTAMP:20260419T235830
CREATED:20260213T203636Z
LAST-MODIFIED:20260213T203636Z
UID:67355-1768464000-1768496400@mecop.org
SUMMARY:2026 Faculty Teaching Credits Physical Medicine and Rehabilitation Clerkship
DESCRIPTION:Unavailable
URL:https://mecop.org/event/2026-faculty-teaching-credits-physical-medicine-and-rehabilitation-clerkship/
LOCATION:Tallahassee Regional Campus\, Tallahassee\, FL\, United States
CATEGORIES:AMA
END:VEVENT
BEGIN:VEVENT
DTSTART;TZID=America/Chicago:20260115T080000
DTEND;TZID=America/Chicago:20260115T170000
DTSTAMP:20260419T235830
CREATED:20260213T120335Z
LAST-MODIFIED:20260213T120513Z
UID:67343-1768464000-1768496400@mecop.org
SUMMARY:Part 1: Pain and Opioid Use Disorder:
DESCRIPTION:Unavailable
URL:https://mecop.org/event/part-1-pain-and-opioid-use-disorder/
LOCATION:Enduring Educational Activity
CATEGORIES:AMA
END:VEVENT
BEGIN:VEVENT
DTSTART;TZID=America/Chicago:20260115T080000
DTEND;TZID=America/Chicago:20260115T170000
DTSTAMP:20260419T235830
CREATED:20260211T204524Z
LAST-MODIFIED:20260213T114524Z
UID:67314-1768464000-1768496400@mecop.org
SUMMARY:Opioids and Opioid Use Disorder:
DESCRIPTION:Unavailable
URL:https://mecop.org/event/opioids-and-opioid-use-disorder/
LOCATION:Enduring Activity
CATEGORIES:AMA
END:VEVENT
BEGIN:VEVENT
DTSTART;TZID=America/Chicago:20260114T123000
DTEND;TZID=America/Chicago:20260114T133000
DTSTAMP:20260419T235830
CREATED:20260102T095717Z
LAST-MODIFIED:20260120T202449Z
UID:66587-1768393800-1768397400@mecop.org
SUMMARY:MUSM Pediatric Alliance Webinar Series
DESCRIPTION:Describe the common causes and treatment of stroke in children \nExplain the principles of mechanical thrombectomy for treatment of stroke \nDescribe the unique challenges associated with thrombectomy in children compared to adults \nExplain the indications for mechanical thrombectomy in pediatric patients \nExplain the current evidence for mechanical thrombectomy in pediatric patients
URL:https://mecop.org/event/musm-pediatric-alliance-webinar-series-8/
LOCATION:Virtual
CATEGORIES:AMA
END:VEVENT
BEGIN:VEVENT
DTSTART;TZID=America/Chicago:20260114T080000
DTEND;TZID=America/Chicago:20260114T170000
DTSTAMP:20260419T235830
CREATED:20260328T190906Z
LAST-MODIFIED:20260328T190912Z
UID:67995-1768377600-1768410000@mecop.org
SUMMARY:PEEP Risk Adjustment and Managing the Summertime Blues Behavioral Health Part 1
DESCRIPTION:See content.
URL:https://mecop.org/event/peep-risk-adjustment-and-managing-the-summertime-blues-behavioral-health-part-1-5/
LOCATION:Internet Enduring Material
CATEGORIES:AMA
END:VEVENT
BEGIN:VEVENT
DTSTART;TZID=America/Chicago:20260114T080000
DTEND;TZID=America/Chicago:20260114T170000
DTSTAMP:20260419T235830
CREATED:20260327T214854Z
LAST-MODIFIED:20260327T214900Z
UID:67908-1768377600-1768410000@mecop.org
SUMMARY:Diabetes Type 2 Basic Care ACT
DESCRIPTION:See content.
URL:https://mecop.org/event/diabetes-type-2-basic-care-act-7/
LOCATION:Enduring Material
CATEGORIES:AMA
END:VEVENT
BEGIN:VEVENT
DTSTART;TZID=America/Chicago:20260114T080000
DTEND;TZID=America/Chicago:20260114T170000
DTSTAMP:20260419T235830
CREATED:20260213T122023Z
LAST-MODIFIED:20260213T122325Z
UID:67350-1768377600-1768410000@mecop.org
SUMMARY:Medical Errors:
DESCRIPTION:Unavailable
URL:https://mecop.org/event/medical-errors-15/
LOCATION:Enduring Educational Activity
CATEGORIES:AMA
END:VEVENT
BEGIN:VEVENT
DTSTART;TZID=America/Chicago:20260114T080000
DTEND;TZID=America/Chicago:20260114T170000
DTSTAMP:20260419T235830
CREATED:20260213T121119Z
LAST-MODIFIED:20260213T121553Z
UID:67346-1768377600-1768410000@mecop.org
SUMMARY:You Got This! From Fear to Empowerment:
DESCRIPTION:Unavailable
URL:https://mecop.org/event/you-got-this-from-fear-to-empowerment/
LOCATION:Enduring Educational Activity
CATEGORIES:AMA,HIV/AIDS
END:VEVENT
BEGIN:VEVENT
DTSTART;TZID=America/Chicago:20260114T080000
DTEND;TZID=America/Chicago:20260114T170000
DTSTAMP:20260419T235830
CREATED:20260213T115809Z
LAST-MODIFIED:20260213T115809Z
UID:67341-1768377600-1768410000@mecop.org
SUMMARY:Medical Errors:
DESCRIPTION:Unavailable
URL:https://mecop.org/event/medical-errors-14/
LOCATION:Enduring Educational Activity
CATEGORIES:AMA
END:VEVENT
BEGIN:VEVENT
DTSTART;TZID=America/Chicago:20260114T080000
DTEND;TZID=America/Chicago:20260114T170000
DTSTAMP:20260419T235830
CREATED:20260213T115036Z
LAST-MODIFIED:20260213T115204Z
UID:67338-1768377600-1768410000@mecop.org
SUMMARY:Dealing with Impairment in the Medical Workplace (State of Florida Specific)
DESCRIPTION:Unavailable
URL:https://mecop.org/event/dealing-with-impairment-in-the-medical-workplace-state-of-florida-specific/
LOCATION:Enduring Activity
CATEGORIES:AMA
END:VEVENT
BEGIN:VEVENT
DTSTART;TZID=America/Chicago:20260114T080000
DTEND;TZID=America/Chicago:20260114T170000
DTSTAMP:20260419T235830
CREATED:20260201T175816Z
LAST-MODIFIED:20260201T175816Z
UID:67130-1768377600-1768410000@mecop.org
SUMMARY:General Adult Tumor Board 2026
DESCRIPTION:Unavailable
URL:https://mecop.org/event/general-adult-tumor-board-2026-2/
LOCATION:Ascension Sacred Heart Hospital\, FL
CATEGORIES:AMA
END:VEVENT
BEGIN:VEVENT
DTSTART;TZID=America/Chicago:20260114T080000
DTEND;TZID=America/Chicago:20260114T170000
DTSTAMP:20260419T235830
CREATED:20260120T155346Z
LAST-MODIFIED:20260120T155351Z
UID:66918-1768377600-1768410000@mecop.org
SUMMARY:Beyond the Prescription: Advancing Ear Diagnostics
DESCRIPTION:Sharpen your ear exam skills\, master tympanometry\, and reduce unnecessary antibiotics—backed by real cases and practical coding/billing guidance.
URL:https://mecop.org/event/beyond-the-prescription-advancing-ear-diagnostics-2/
LOCATION:Internet Enduring Material
CATEGORIES:AMA
END:VEVENT
BEGIN:VEVENT
DTSTART;TZID=America/Chicago:20260114T080000
DTEND;TZID=America/Chicago:20260114T170000
DTSTAMP:20260419T235830
CREATED:20260106T122508Z
LAST-MODIFIED:20260129T161322Z
UID:66655-1768377600-1768410000@mecop.org
SUMMARY:VIP Care Performance Forum
DESCRIPTION:TBA
URL:https://mecop.org/event/vip-care-performance-forum-12/
LOCATION:Virtual
CATEGORIES:AMA
END:VEVENT
BEGIN:VEVENT
DTSTART;TZID=America/Chicago:20260113T120000
DTEND;TZID=America/Chicago:20260113T130000
DTSTAMP:20260419T235830
CREATED:20260108T152841Z
LAST-MODIFIED:20260123T182108Z
UID:66689-1768305600-1768309200@mecop.org
SUMMARY:MUSM Clinical Faculty Development Series
DESCRIPTION:Discuss Ukraine and their experiences with difficulties in combat casualty evacuation due to drone warfare. \nDiscuss preparation need and action plans of the US Trauma systems for conflict planning related to care coordination \nDiscuss regional care coordination concepts\, advantages\, and barriers for patient management
URL:https://mecop.org/event/musm-clinical-faculty-development-series-53/
LOCATION:Virtual
CATEGORIES:AMA
END:VEVENT
BEGIN:VEVENT
DTSTART;TZID=America/Chicago:20260113T080000
DTEND;TZID=America/Chicago:20260113T170000
DTSTAMP:20260419T235830
CREATED:20260120T160121Z
LAST-MODIFIED:20260120T160126Z
UID:66925-1768291200-1768323600@mecop.org
SUMMARY:ENT Pearls and Mastery of the Ear & Oral Cavity
DESCRIPTION:Understand oral cavity and oropharyngeal anatomy\, learn proper exam technique\, identify common oral cavity/oropharyngeal disease presentations\, and understand best treatment approaches for these conditions\nUnderstand nasal cavity anatomy\, learn proper exam techniques\, and identify common nasal cavity diagnoses with correct treatment protocols.\nLearn proper neck examination\, best imaging choices for various diagnoses\, and identify common neck pathological states with appropriate treatments.\nBecome much more confident in ear examinations through the use of otoscopy (normal and pneumatic otoscopy)\nLearn the use of performing the Valsalva maneuver during otoscopy – and how this may help diagnostic accuracy.\nLearn the proper use of the tuning fork – and implementing this to help discern middle ear pathology or tympanic membrane perforations.\nLearn how to perform tympanometry – and utilizing this to help detect the presence or absence of middle ear fluid/purulence or a tympanic membrane perforation.\nIdentification and proper treatment of otitis externa\nLearn various cerumen removal tools and techniques for cerumen and ear foreign bodies.\nLearn how to drain an auricular hematoma and properly place bolster.
URL:https://mecop.org/event/ent-pearls-and-mastery-of-the-ear-oral-cavity-7/
LOCATION:Internet Enduring Material
CATEGORIES:AMA
END:VEVENT
BEGIN:VEVENT
DTSTART;TZID=America/Chicago:20260112T080000
DTEND;TZID=America/Chicago:20260112T170000
DTSTAMP:20260419T235830
CREATED:20260327T220336Z
LAST-MODIFIED:20260327T220344Z
UID:67926-1768204800-1768237200@mecop.org
SUMMARY:Advance Care Planning ACT
DESCRIPTION:See content.
URL:https://mecop.org/event/advance-care-planning-act-10/
LOCATION:Internet Enduring Material
CATEGORIES:AMA
END:VEVENT
BEGIN:VEVENT
DTSTART;TZID=America/Chicago:20260112T080000
DTEND;TZID=America/Chicago:20260112T170000
DTSTAMP:20260419T235830
CREATED:20260201T182342Z
LAST-MODIFIED:20260201T182449Z
UID:67148-1768204800-1768237200@mecop.org
SUMMARY:Quantification of Interstitial Lung Diseases
DESCRIPTION:Unavailable
URL:https://mecop.org/event/quantification-of-interstitial-lung-diseases/
LOCATION:Enduring Activity
CATEGORIES:AMA
END:VEVENT
BEGIN:VEVENT
DTSTART;TZID=America/Chicago:20260112T080000
DTEND;TZID=America/Chicago:20260112T170000
DTSTAMP:20260419T235830
CREATED:20260201T181053Z
LAST-MODIFIED:20260201T181150Z
UID:67139-1768204800-1768237200@mecop.org
SUMMARY:DXA for Osteoporosis Screening
DESCRIPTION:Unavailable
URL:https://mecop.org/event/dxa-for-osteoporosis-screening/
LOCATION:Enduring Activity
CATEGORIES:AMA
END:VEVENT
BEGIN:VEVENT
DTSTART;TZID=America/Chicago:20260112T080000
DTEND;TZID=America/Chicago:20260112T170000
DTSTAMP:20260419T235830
CREATED:20260201T180240Z
LAST-MODIFIED:20260201T180341Z
UID:67133-1768204800-1768237200@mecop.org
SUMMARY:AI Versus Radiologists in Digital Mammography and DBT
DESCRIPTION:Unavailable
URL:https://mecop.org/event/ai-versus-radiologists-in-digital-mammography-and-dbt/
LOCATION:Enduring Activity
CATEGORIES:AMA
END:VEVENT
BEGIN:VEVENT
DTSTART;TZID=America/Chicago:20260111T080000
DTEND;TZID=America/Chicago:20260113T170000
DTSTAMP:20260419T235830
CREATED:20260129T011333Z
LAST-MODIFIED:20260330T145318Z
UID:67062-1768118400-1768323600@mecop.org
SUMMARY:2026 APGO Martin L. Stone Faculty Development Seminar
DESCRIPTION:Apply best practices and innovative strategies in student advising\nImplement AI and other innovative approaches to optimize educator impact and efficiency\nList strategies that promote inclusive and positive learning environments\nApply strategies to mitigate burnout and promote wellness\nDescribe strategies to optimize student assessment in pre-clerkship and clinical settings\nIdentify effective mentorship approaches and other strategies to promote career advancement
URL:https://mecop.org/event/2026-apgo-martin-l-stone-faculty-development-seminar/
LOCATION:Amelia Island\, Florida
CATEGORIES:AMA
END:VEVENT
BEGIN:VEVENT
DTSTART;TZID=America/Chicago:20260111T080000
DTEND;TZID=America/Chicago:20260111T170000
DTSTAMP:20260419T235830
CREATED:20260130T143142Z
LAST-MODIFIED:20260130T143148Z
UID:67097-1768118400-1768150800@mecop.org
SUMMARY:2026 APGO Martin L. Stone Faculty Development Seminar
DESCRIPTION:Apply best practices and innovative strategies in student advising\nImplement AI and other innovative approaches to optimize educator impact and efficiency\nList strategies that promote inclusive and positive learning environments\nApply strategies to mitigate burnout and promote wellness\nDescribe strategies to optimize student assessment in pre-clerkship and clinical settings\nIdentify effective mentorship approaches and other strategies to promote career advancement
URL:https://mecop.org/event/2026-apgo-martin-l-stone-faculty-development-seminar-7/
LOCATION:Amelia Island\, Florida
CATEGORIES:AMA
END:VEVENT
BEGIN:VEVENT
DTSTART;TZID=America/Chicago:20260111T080000
DTEND;TZID=America/Chicago:20260111T170000
DTSTAMP:20260419T235830
CREATED:20260130T143017Z
LAST-MODIFIED:20260130T143023Z
UID:67095-1768118400-1768150800@mecop.org
SUMMARY:2026 APGO Martin L. Stone Faculty Development Seminar
DESCRIPTION:Apply best practices and innovative strategies in student advising\nImplement AI and other innovative approaches to optimize educator impact and efficiency\nList strategies that promote inclusive and positive learning environments\nApply strategies to mitigate burnout and promote wellness\nDescribe strategies to optimize student assessment in pre-clerkship and clinical settings\nIdentify effective mentorship approaches and other strategies to promote career advancement
URL:https://mecop.org/event/2026-apgo-martin-l-stone-faculty-development-seminar-6/
LOCATION:Amelia Island\, Florida
CATEGORIES:AMA
END:VEVENT
BEGIN:VEVENT
DTSTART;TZID=America/Chicago:20260111T080000
DTEND;TZID=America/Chicago:20260111T170000
DTSTAMP:20260419T235830
CREATED:20260129T173815Z
LAST-MODIFIED:20260129T173925Z
UID:67088-1768118400-1768150800@mecop.org
SUMMARY:2026 APGO Martin L. Stone Faculty Development Seminar
DESCRIPTION:Apply best practices and innovative strategies in student advising\nImplement AI and other innovative approaches to optimize educator impact and efficiency\nList strategies that promote inclusive and positive learning environments\nApply strategies to mitigate burnout and promote wellness\nDescribe strategies to optimize student assessment in pre-clerkship and clinical settings\nIdentify effective mentorship approaches and other strategies to promote career advancement
URL:https://mecop.org/event/2026-apgo-martin-l-stone-faculty-development-seminar-5/
LOCATION:Amelia Island\, Florida
CATEGORIES:AMA
END:VEVENT
END:VCALENDAR