BEGIN:VCALENDAR
VERSION:2.0
PRODID:-//Mecop - ECPv6.5.1.5//NONSGML v1.0//EN
CALSCALE:GREGORIAN
METHOD:PUBLISH
X-WR-CALNAME:Mecop
X-ORIGINAL-URL:https://mecop.org
X-WR-CALDESC:Events for Mecop
REFRESH-INTERVAL;VALUE=DURATION:PT1H
X-Robots-Tag:noindex
X-PUBLISHED-TTL:PT1H
BEGIN:VTIMEZONE
TZID:America/Chicago
BEGIN:DAYLIGHT
TZOFFSETFROM:-0600
TZOFFSETTO:-0500
TZNAME:CDT
DTSTART:20250309T080000
END:DAYLIGHT
BEGIN:STANDARD
TZOFFSETFROM:-0500
TZOFFSETTO:-0600
TZNAME:CST
DTSTART:20251102T070000
END:STANDARD
END:VTIMEZONE
BEGIN:VEVENT
DTSTART;TZID=America/Chicago:20251215T080000
DTEND;TZID=America/Chicago:20251215T170000
DTSTAMP:20260420T102446
CREATED:20260120T211850Z
LAST-MODIFIED:20260120T213948Z
UID:66939-1765785600-1765818000@mecop.org
SUMMARY:Prescribing Controlled Substances
DESCRIPTION:Unavailable
URL:https://mecop.org/event/prescribing-controlled-substances-9/
LOCATION:Enduring Activity
CATEGORIES:AMA,Prescribing of Controlled Substances
END:VEVENT
BEGIN:VEVENT
DTSTART;TZID=America/Chicago:20251215T080000
DTEND;TZID=America/Chicago:20251215T170000
DTSTAMP:20260420T102446
CREATED:20251222T162152Z
LAST-MODIFIED:20251222T162207Z
UID:66518-1765785600-1765818000@mecop.org
SUMMARY:KAMAP Intro to Dermal Fillers
DESCRIPTION:Explain the mechanism of action of hyaluronic acid dermal fillers.\nIdentify safe prescribing practices of hyaluronic acid dermal fillers\nDemonstrate safe administration of hyaluronic acid dermal fillers\nAnticipate the risk of side effects\, adverse events\, and complications of administration of hyaluronic acid dermal fillers.\nOutline possible side effects of hyaluronic acid dermal fillers.\nUnderstand management of emergent complications of hyaluronic acid dermal fillers.
URL:https://mecop.org/event/kamap-intro-to-dermal-fillers/
LOCATION:Lexington\, KY
CATEGORIES:AMA
END:VEVENT
BEGIN:VEVENT
DTSTART;TZID=America/Chicago:20251215T080000
DTEND;TZID=America/Chicago:20251215T170000
DTSTAMP:20260420T102446
CREATED:20251217T190134Z
LAST-MODIFIED:20251217T190134Z
UID:66402-1765785600-1765818000@mecop.org
SUMMARY:FSU Fundamentals for Inspired FSUCOM Clinical Educators Module:
DESCRIPTION:Unavailable
URL:https://mecop.org/event/fsu-fundamentals-for-inspired-fsucom-clinical-educators-module-9/
LOCATION:Enduring Activity
CATEGORIES:AMA
END:VEVENT
BEGIN:VEVENT
DTSTART;TZID=America/Chicago:20251212T080000
DTEND;TZID=America/Chicago:20251212T170000
DTSTAMP:20260420T102446
CREATED:20260108T165009Z
LAST-MODIFIED:20260108T165014Z
UID:66694-1765526400-1765558800@mecop.org
SUMMARY:Management of Obesity in Adults ACT
DESCRIPTION:See content.
URL:https://mecop.org/event/management-of-obesity-in-adults-act-7/
LOCATION:Internet Enduring Material
CATEGORIES:AMA
END:VEVENT
BEGIN:VEVENT
DTSTART;TZID=America/Chicago:20251212T080000
DTEND;TZID=America/Chicago:20251212T170000
DTSTAMP:20260420T102446
CREATED:20260108T164806Z
LAST-MODIFIED:20260108T164812Z
UID:66692-1765526400-1765558800@mecop.org
SUMMARY:COPD ACT
DESCRIPTION:See document
URL:https://mecop.org/event/copd-act-6/
LOCATION:Internet Enduring Material
CATEGORIES:AMA
END:VEVENT
BEGIN:VEVENT
DTSTART;TZID=America/Chicago:20251212T080000
DTEND;TZID=America/Chicago:20251212T170000
DTSTAMP:20260420T102446
CREATED:20251213T222129Z
LAST-MODIFIED:20251218T213956Z
UID:66306-1765526400-1765558800@mecop.org
SUMMARY:Risk Adjustment and Back to the Future-Year in Review
DESCRIPTION:Gain understanding of risk adjustment methodology and its role in Value Based Care models.\nReview specific official ICD-10-CM coding guidelines and how they are applied to diagnosis coding and reporting.\nIdentify elements of the medical record that help support the validation of reported conditions.\nIdentify documentation deficiencies for specific conditions.
URL:https://mecop.org/event/risk-adjustment-and-back-to-the-future-year-in-review-3/
LOCATION:Internet Live Webcast
CATEGORIES:AMA
END:VEVENT
BEGIN:VEVENT
DTSTART;TZID=America/Chicago:20251211T080000
DTEND;TZID=America/Chicago:20251211T170000
DTSTAMP:20260420T102446
CREATED:20260108T165845Z
LAST-MODIFIED:20260108T165851Z
UID:66702-1765440000-1765472400@mecop.org
SUMMARY:PEEP V28 CMS HCC Risk Adjustment and The Never Ending Story
DESCRIPTION:Review CMS-HCC risk adjustment model and why it is important\nReview specific official ICD-10-CM coding guidelines and how they are applied for HCC diagnosis coding\nIdentify elements of the medical record that help support the validation of an HCC diagnosis condition\nIdentify documentation deficiencies for specific conditions.
URL:https://mecop.org/event/peep-v28-cms-hcc-risk-adjustment-and-the-never-ending-story-7/
LOCATION:Internet Enduring Material
CATEGORIES:AMA
END:VEVENT
BEGIN:VEVENT
DTSTART;TZID=America/Chicago:20251211T080000
DTEND;TZID=America/Chicago:20251211T170000
DTSTAMP:20260420T102446
CREATED:20260108T165714Z
LAST-MODIFIED:20260109T194425Z
UID:66700-1765440000-1765472400@mecop.org
SUMMARY:PEEP Risk Adjustment and There's Something About Mary's Diabetes
DESCRIPTION:See content.
URL:https://mecop.org/event/peep-risk-adjustment-and-theres-something-about-marys-diabetes-2/
LOCATION:Internet Enduring Material
CATEGORIES:AMA
END:VEVENT
BEGIN:VEVENT
DTSTART;TZID=America/Chicago:20251211T080000
DTEND;TZID=America/Chicago:20251211T170000
DTSTAMP:20260420T102446
CREATED:20260108T165530Z
LAST-MODIFIED:20260109T195556Z
UID:66698-1765440000-1765472400@mecop.org
SUMMARY:PEEP Risk Adjustment and a Tale of Two Kidneys
DESCRIPTION:See content.
URL:https://mecop.org/event/peep-risk-adjustment-and-a-tale-of-two-kidneys-6/
LOCATION:Internet Enduring Material
CATEGORIES:AMA
END:VEVENT
BEGIN:VEVENT
DTSTART;TZID=America/Chicago:20251211T080000
DTEND;TZID=America/Chicago:20251211T170000
DTSTAMP:20260420T102446
CREATED:20251212T122536Z
LAST-MODIFIED:20251215T154654Z
UID:66266-1765440000-1765472400@mecop.org
SUMMARY:Risk Adjustment and Back to the Future-Year in Review
DESCRIPTION:Gain understanding of risk adjustment methodology and its role in Value Based Care models.\nReview specific official ICD-10-CM coding guidelines and how they are applied to diagnosis coding and reporting.\nIdentify elements of the medical record that help support the validation of reported conditions.\nIdentify documentation deficiencies for specific conditions.
URL:https://mecop.org/event/risk-adjustment-and-back-to-the-future-year-in-review-2/
LOCATION:Internet Live Webcast
CATEGORIES:AMA
END:VEVENT
BEGIN:VEVENT
DTSTART;TZID=America/Chicago:20251211T060000
DTEND;TZID=America/Chicago:20251211T200000
DTSTAMP:20260420T102446
CREATED:20251119T190407Z
LAST-MODIFIED:20260107T214715Z
UID:65714-1765432800-1765483200@mecop.org
SUMMARY:FSU-Sarasota
DESCRIPTION:1.	Understand basic principles of management that apply to the major vascular conditions – Peripheral Arterial Disease (PAD) Aortic Aneurysms\, and carotid plaque.\n2.	Describe the paradigm shift in treatment modalities that have occurred over the last quarter century.\n3.	Define the controversies that have arisen.\n4.	Recognize when medical management outperforms invasive procedures\n5.	Recognize the causes and risks of overutilization of invasive procedures.\n6.	Some ideas about what we can do to counter abusive behavior.
URL:https://mecop.org/event/fsu-sarasota-133/
LOCATION:Zoom
CATEGORIES:AMA
END:VEVENT
BEGIN:VEVENT
DTSTART;TZID=America/Chicago:20251210T080000
DTEND;TZID=America/Chicago:20251210T170000
DTSTAMP:20260420T102446
CREATED:20251217T203250Z
LAST-MODIFIED:20251218T131736Z
UID:66414-1765353600-1765386000@mecop.org
SUMMARY:FSU Reducing the Potential for FSU COM Student Mistreatment Module:
DESCRIPTION:Unavailable
URL:https://mecop.org/event/fsu-reducing-the-potential-for-fsu-com-student-mistreatment-module-11/
LOCATION:Enduring Activity
CATEGORIES:AMA
END:VEVENT
BEGIN:VEVENT
DTSTART;TZID=America/Chicago:20251210T080000
DTEND;TZID=America/Chicago:20251210T170000
DTSTAMP:20260420T102446
CREATED:20251215T095511Z
LAST-MODIFIED:20251215T095511Z
UID:66331-1765353600-1765386000@mecop.org
SUMMARY:General Adult Tumor Board 2025
DESCRIPTION:Unavailable
URL:https://mecop.org/event/general-adult-tumor-board-2025-38/
LOCATION:Ascension Sacred Heart Hospital\, FL
CATEGORIES:AMA
END:VEVENT
BEGIN:VEVENT
DTSTART;TZID=America/Chicago:20251210T080000
DTEND;TZID=America/Chicago:20251210T170000
DTSTAMP:20260420T102446
CREATED:20251211T100314Z
LAST-MODIFIED:20251214T223001Z
UID:66220-1765353600-1765386000@mecop.org
SUMMARY:Risk Adjustment and Back to the Future-Year in Review
DESCRIPTION:Gain understanding of risk adjustment methodology and its role in Value Based Care models.\nReview specific official ICD-10-CM coding guidelines and how they are applied to diagnosis coding and reporting.\nIdentify elements of the medical record that help support the validation of reported conditions.\nIdentify documentation deficiencies for specific conditions.
URL:https://mecop.org/event/risk-adjustment-and-back-to-the-future-year-in-review/
LOCATION:Internet Live Webcast
CATEGORIES:AMA
END:VEVENT
BEGIN:VEVENT
DTSTART;TZID=America/Chicago:20251209T080000
DTEND;TZID=America/Chicago:20251209T170000
DTSTAMP:20260420T102446
CREATED:20251229T144214Z
LAST-MODIFIED:20251229T175814Z
UID:66547-1765267200-1765299600@mecop.org
SUMMARY:VIP Care Performance Forum
DESCRIPTION:TBA
URL:https://mecop.org/event/vip-care-performance-forum-11/
LOCATION:Virtual
CATEGORIES:AMA
END:VEVENT
BEGIN:VEVENT
DTSTART;TZID=America/Chicago:20251208T120000
DTEND;TZID=America/Chicago:20251208T130000
DTSTAMP:20260420T102446
CREATED:20251205T123722Z
LAST-MODIFIED:20251218T195256Z
UID:66109-1765195200-1765198800@mecop.org
SUMMARY:MUSM Clinical Faculty Development Series
DESCRIPTION:Identify how patients can convert personal hardships to improve their outcomes and help to minimize these hardships for other patients.\nIdentify potential pitfalls in insurance coverage for pediatric healthcare that can be improved through legislative leadership.\nIdentify how patients can use their experience with existing pitfalls in insurance coverage to facilitate crafting and legislation for healthcare reform.\nBecome familiar with development of the Ensuring Lasting Smiles Act (ELSA) based on patient-initiated advocacy.
URL:https://mecop.org/event/musm-clinical-faculty-development-series-52/
LOCATION:Virtual
CATEGORIES:AMA
END:VEVENT
BEGIN:VEVENT
DTSTART;TZID=America/Chicago:20251208T080000
DTEND;TZID=America/Chicago:20251208T170000
DTSTAMP:20260420T102446
CREATED:20260123T150432Z
LAST-MODIFIED:20260123T150432Z
UID:67003-1765180800-1765213200@mecop.org
SUMMARY:Florida Prescribing Controlled Substances Course
DESCRIPTION:Unavailable
URL:https://mecop.org/event/florida-prescribing-controlled-substances-course-4/
LOCATION:Enduring Material
CATEGORIES:AMA,Prescribing of Controlled Substances
END:VEVENT
BEGIN:VEVENT
DTSTART;TZID=America/Chicago:20251208T080000
DTEND;TZID=America/Chicago:20251208T170000
DTSTAMP:20260420T102446
CREATED:20260123T150056Z
LAST-MODIFIED:20260123T150056Z
UID:67001-1765180800-1765213200@mecop.org
SUMMARY:Florida Medical Errors
DESCRIPTION:Unavailable
URL:https://mecop.org/event/florida-medical-errors-3/
LOCATION:Enduring Material
CATEGORIES:AMA,MedErrors
END:VEVENT
BEGIN:VEVENT
DTSTART;TZID=America/Chicago:20251208T080000
DTEND;TZID=America/Chicago:20251208T170000
DTSTAMP:20260420T102446
CREATED:20251216T153628Z
LAST-MODIFIED:20260107T153220Z
UID:66380-1765180800-1765213200@mecop.org
SUMMARY:Community Medical Services Provider Manual: Addiction Primer
DESCRIPTION:
URL:https://mecop.org/event/community-medical-services-provider-manual-addiction-primer-16/
LOCATION:Enduring Material
CATEGORIES:AMA
END:VEVENT
BEGIN:VEVENT
DTSTART;TZID=America/Chicago:20251207T080000
DTEND;TZID=America/Chicago:20251207T170000
DTSTAMP:20260420T102446
CREATED:20251214T003439Z
LAST-MODIFIED:20260105T195733Z
UID:66316-1765094400-1765126800@mecop.org
SUMMARY:FSU Assisting Students with Motivational Interviewing Skills to Enhance Patient Care Module
DESCRIPTION:Unavailable
URL:https://mecop.org/event/fsu-assisting-students-with-motivational-interviewing-skills-to-enhance-patient-care-module-11/
LOCATION:Enduring Activity
CATEGORIES:AMA
END:VEVENT
BEGIN:VEVENT
DTSTART;TZID=America/Chicago:20251207T080000
DTEND;TZID=America/Chicago:20251207T170000
DTSTAMP:20260420T102446
CREATED:20251214T002009Z
LAST-MODIFIED:20251214T002009Z
UID:66313-1765094400-1765126800@mecop.org
SUMMARY:FSU Integrating Learners into Your Busy Practice Module
DESCRIPTION:Unavailable
URL:https://mecop.org/event/fsu-integrating-learners-into-your-busy-practice-module-3/
LOCATION:Enduring Activity
CATEGORIES:AMA
END:VEVENT
BEGIN:VEVENT
DTSTART;TZID=America/Chicago:20251207T080000
DTEND;TZID=America/Chicago:20251207T170000
DTSTAMP:20260420T102446
CREATED:20251214T001603Z
LAST-MODIFIED:20251214T001603Z
UID:66311-1765094400-1765126800@mecop.org
SUMMARY:FSU Essentials for Inpatient Teaching Rounds: From Classroom to Bedside Module
DESCRIPTION:Unavailable
URL:https://mecop.org/event/fsu-essentials-for-inpatient-teaching-rounds-from-classroom-to-bedside-module-4/
LOCATION:Enduring Activity
CATEGORIES:AMA
END:VEVENT
BEGIN:VEVENT
DTSTART;TZID=America/Chicago:20251206T080000
DTEND;TZID=America/Chicago:20251206T170000
DTSTAMP:20260420T102446
CREATED:20260318T212827Z
LAST-MODIFIED:20260318T213757Z
UID:67813-1765008000-1765040400@mecop.org
SUMMARY:21st Annual International Pediatric Orthopaedic Symposium (IPOS®)
DESCRIPTION:Unavailable
URL:https://mecop.org/event/21st-annual-international-pediatric-orthopaedic-symposium-ipos/
LOCATION:Live Activity
CATEGORIES:AMA
END:VEVENT
BEGIN:VEVENT
DTSTART;TZID=America/Chicago:20251206T080000
DTEND;TZID=America/Chicago:20251206T170000
DTSTAMP:20260420T102446
CREATED:20251211T231339Z
LAST-MODIFIED:20260105T193443Z
UID:66264-1765008000-1765040400@mecop.org
SUMMARY:FSU Fundamentals of Teaching in the FSU COM Clinical Education Program II Module
DESCRIPTION:Unavailable
URL:https://mecop.org/event/fsu-fundamentals-of-teaching-in-the-fsu-com-clinical-education-program-ii-module-22/
LOCATION:Enduring Activity
CATEGORIES:AMA
END:VEVENT
BEGIN:VEVENT
DTSTART;TZID=America/Chicago:20251206T080000
DTEND;TZID=America/Chicago:20251206T170000
DTSTAMP:20260420T102446
CREATED:20251208T182002Z
LAST-MODIFIED:20251208T182002Z
UID:66172-1765008000-1765040400@mecop.org
SUMMARY:Prescribing Controlled Substances
DESCRIPTION:Unavailable
URL:https://mecop.org/event/prescribing-controlled-substances-8/
LOCATION:Enduring Activity
CATEGORIES:AMA,Prescribing of Controlled Substances
END:VEVENT
BEGIN:VEVENT
DTSTART;TZID=America/Chicago:20251205T080000
DTEND;TZID=America/Chicago:20251205T170000
DTSTAMP:20260420T102446
CREATED:20251219T162402Z
LAST-MODIFIED:20251219T162453Z
UID:66485-1764921600-1764954000@mecop.org
SUMMARY:Case Challenge: Exploring Optimal Diagnosis and Treatment of Epithelioid Sarcoma
DESCRIPTION:Unavailable
URL:https://mecop.org/event/case-challenge-exploring-optimal-diagnosis-and-treatment-of-epithelioid-sarcoma/
LOCATION:Enduring Material
CATEGORIES:AMA
END:VEVENT
BEGIN:VEVENT
DTSTART;TZID=America/Chicago:20251205T080000
DTEND;TZID=America/Chicago:20251205T170000
DTSTAMP:20260420T102446
CREATED:20251219T162133Z
LAST-MODIFIED:20251219T162227Z
UID:66482-1764921600-1764954000@mecop.org
SUMMARY:Cardiac Myosin Inhibitors in Hypertrophic Cardiomyopathy: From Fast Facts to Patient-Centered Solutions
DESCRIPTION:Unavailable
URL:https://mecop.org/event/cardiac-myosin-inhibitors-in-hypertrophic-cardiomyopathy-from-fast-facts-to-patient-centered-solutions/
LOCATION:Enduring Material
CATEGORIES:AMA
END:VEVENT
BEGIN:VEVENT
DTSTART;TZID=America/Chicago:20251205T080000
DTEND;TZID=America/Chicago:20251205T170000
DTSTAMP:20260420T102446
CREATED:20251219T161641Z
LAST-MODIFIED:20251219T161849Z
UID:66479-1764921600-1764954000@mecop.org
SUMMARY:Building a Comprehensive Treatment Pathway in Ovarian Cancer
DESCRIPTION:Unavailable
URL:https://mecop.org/event/building-a-comprehensive-treatment-pathway-in-ovarian-cancer/
LOCATION:Enduring Material
CATEGORIES:AMA
END:VEVENT
BEGIN:VEVENT
DTSTART;TZID=America/Chicago:20251205T080000
DTEND;TZID=America/Chicago:20251205T170000
DTSTAMP:20260420T102446
CREATED:20251219T161323Z
LAST-MODIFIED:20251219T161421Z
UID:66476-1764921600-1764954000@mecop.org
SUMMARY:Goals of Analgesic Treatment: Understanding What's Important in Acute and Chronic Pain
DESCRIPTION:Unavailable
URL:https://mecop.org/event/goals-of-analgesic-treatment-understanding-whats-important-in-acute-and-chronic-pain/
LOCATION:Enduring Material
CATEGORIES:AMA
END:VEVENT
BEGIN:VEVENT
DTSTART;TZID=America/Chicago:20251205T080000
DTEND;TZID=America/Chicago:20251205T170000
DTSTAMP:20260420T102446
CREATED:20251219T145938Z
LAST-MODIFIED:20251219T150057Z
UID:66445-1764921600-1764954000@mecop.org
SUMMARY:2025 Faculty Teaching Credits Pediatrics/Summer Clinical Practicum
DESCRIPTION:Unavailable
URL:https://mecop.org/event/2025-faculty-teaching-credits-pediatrics-summer-clinical-practicum/
LOCATION:FSU-Immokalee
CATEGORIES:AMA
END:VEVENT
END:VCALENDAR