BEGIN:VCALENDAR
VERSION:2.0
PRODID:-//Mecop - ECPv6.5.1.5//NONSGML v1.0//EN
CALSCALE:GREGORIAN
METHOD:PUBLISH
X-WR-CALNAME:Mecop
X-ORIGINAL-URL:https://mecop.org
X-WR-CALDESC:Events for Mecop
REFRESH-INTERVAL;VALUE=DURATION:PT1H
X-Robots-Tag:noindex
X-PUBLISHED-TTL:PT1H
BEGIN:VTIMEZONE
TZID:America/Chicago
BEGIN:DAYLIGHT
TZOFFSETFROM:-0600
TZOFFSETTO:-0500
TZNAME:CDT
DTSTART:20240310T080000
END:DAYLIGHT
BEGIN:STANDARD
TZOFFSETFROM:-0500
TZOFFSETTO:-0600
TZNAME:CST
DTSTART:20241103T070000
END:STANDARD
END:VTIMEZONE
BEGIN:VEVENT
DTSTART;TZID=America/Chicago:20241020T080000
DTEND;TZID=America/Chicago:20241020T170000
DTSTAMP:20260425T221701
CREATED:20241226T145457Z
LAST-MODIFIED:20241226T145502Z
UID:60313-1729411200-1729443600@mecop.org
SUMMARY:Chronic Non-Cancer Pain ACT
DESCRIPTION:See content
URL:https://mecop.org/event/chronic-non-cancer-pain-act-3/
LOCATION:Internet Enduring Material
CATEGORIES:AMA
END:VEVENT
BEGIN:VEVENT
DTSTART;TZID=America/Chicago:20241020T080000
DTEND;TZID=America/Chicago:20241020T170000
DTSTAMP:20260425T221701
CREATED:20241115T153610Z
LAST-MODIFIED:20241115T153641Z
UID:59373-1729411200-1729443600@mecop.org
SUMMARY:Heart Failure ACT
DESCRIPTION:See content.
URL:https://mecop.org/event/heart-failure-act-4/
LOCATION:Internet Enduring Material
CATEGORIES:AMA
END:VEVENT
BEGIN:VEVENT
DTSTART;TZID=America/Chicago:20241020T080000
DTEND;TZID=America/Chicago:20241020T170000
DTSTAMP:20260425T221701
CREATED:20241022T090834Z
LAST-MODIFIED:20241022T090834Z
UID:58981-1729411200-1729443600@mecop.org
SUMMARY:Medical Management of Shoulder Dystocia
DESCRIPTION:Unavailable
URL:https://mecop.org/event/medical-management-of-shoulder-dystocia-3/
LOCATION:Enduring Activity
CATEGORIES:AMA
END:VEVENT
BEGIN:VEVENT
DTSTART;TZID=America/Chicago:20241019T080000
DTEND;TZID=America/Chicago:20241019T170000
DTSTAMP:20260425T221701
CREATED:20241021T180954Z
LAST-MODIFIED:20241021T183012Z
UID:58975-1729324800-1729357200@mecop.org
SUMMARY:Non-Surgical BBL with Injector Coach Institute
DESCRIPTION:Outline available proceudres\, techniques and methodologies to improve\, lift and contour the buttocks.\nDiscuss complications\, indications\, consent\, and anatomy.\nOutline materials needed and product preparation.\nDemonstrate the mapping process and its uniqueness to each patient.\nEffectively apply skills in a lab setting under direct supervision.\nAchieve symmetry\, projection and desired results on model patients.
URL:https://mecop.org/event/non-surgical-bbl-with-injector-coach-institute/
LOCATION:Mind Body Soul Medical
CATEGORIES:AMA
END:VEVENT
BEGIN:VEVENT
DTSTART;TZID=America/Chicago:20241018T080000
DTEND;TZID=America/Chicago:20241018T170000
DTSTAMP:20260425T221701
CREATED:20241115T231507Z
LAST-MODIFIED:20241115T231638Z
UID:59439-1729238400-1729270800@mecop.org
SUMMARY:Skin Esteem Institute: Neurotoxin and Dermal Filler for Beginners
DESCRIPTION:Review the aging process and facial anatomy\nReview an effective consultation and patient selection\nReview beginner injectable rejuvenation techniques using Neurotoxins\nReview beginner injectable rejuvenation techniques using Dermal Fillers\nHands-on Injectable training
URL:https://mecop.org/event/skin-esteem-institute-neurotoxin-and-dermal-filler-for-beginners-8/
LOCATION:Kentucky
CATEGORIES:AMA
END:VEVENT
BEGIN:VEVENT
DTSTART;TZID=America/Chicago:20241018T080000
DTEND;TZID=America/Chicago:20241018T170000
DTSTAMP:20260425T221701
CREATED:20241115T224945Z
LAST-MODIFIED:20250226T163648Z
UID:59431-1729238400-1729270800@mecop.org
SUMMARY:Community Medical Services Provider Manual: Addiction Primer
DESCRIPTION:Content/Robert Sherrick\, MD
URL:https://mecop.org/event/community-medical-services-provider-manual-addiction-primer-3/
LOCATION:Enduring Material
CATEGORIES:AMA
END:VEVENT
BEGIN:VEVENT
DTSTART;TZID=America/Chicago:20241018T080000
DTEND;TZID=America/Chicago:20241018T170000
DTSTAMP:20260425T221701
CREATED:20241029T143659Z
LAST-MODIFIED:20241029T143707Z
UID:59087-1729238400-1729270800@mecop.org
SUMMARY:KAMAP The Science Behind PRP/PRF
DESCRIPTION:
URL:https://mecop.org/event/kamap-the-science-behind-prp-prf-3/
LOCATION:Internet Enduring Material
CATEGORIES:AMA
END:VEVENT
BEGIN:VEVENT
DTSTART;TZID=America/Chicago:20241018T080000
DTEND;TZID=America/Chicago:20241018T170000
DTSTAMP:20260425T221701
CREATED:20241024T184135Z
LAST-MODIFIED:20241031T140602Z
UID:59020-1729238400-1729270800@mecop.org
SUMMARY:FSU Fundamentals of Teaching in the FSU COM Clinical Education Program II Module
DESCRIPTION:Unavailable
URL:https://mecop.org/event/fsu-fundamentals-of-teaching-in-the-fsu-com-clinical-education-program-ii-module-8/
LOCATION:Enduring Activity
CATEGORIES:AMA
END:VEVENT
BEGIN:VEVENT
DTSTART;TZID=America/Chicago:20241018T080000
DTEND;TZID=America/Chicago:20241018T170000
DTSTAMP:20260425T221701
CREATED:20241021T154633Z
LAST-MODIFIED:20241021T154638Z
UID:58962-1729238400-1729270800@mecop.org
SUMMARY:KAMAP Hyaluronidase: The Safety Net of Aesthetics
DESCRIPTION:Explain the mechanism of action of hyaluronidase\nIdentify safe prescribing practices of hyaluronidase\nDemonstrate safe administration of hyaluronidase\nCompare primary and secondary uses of hyaluronidase in medical aesthetics\nAnticipate the risk of allergic reaction to hyaluronidase\nOutline possible side effects of hyaluronidase administration
URL:https://mecop.org/event/kamap-hyaluronidase-the-safety-net-of-aesthetics-3/
LOCATION:Internet Enduring Material
CATEGORIES:AMA
END:VEVENT
BEGIN:VEVENT
DTSTART;TZID=America/Chicago:20241018T080000
DTEND;TZID=America/Chicago:20241018T170000
DTSTAMP:20260425T221701
CREATED:20241021T153021Z
LAST-MODIFIED:20241021T153026Z
UID:58958-1729238400-1729270800@mecop.org
SUMMARY:KAMAP Mastering the Frontalis with Neurotoxins
DESCRIPTION:Explain the mechanism of action of neurotoxin.\nIdentify safe prescribing practices of neurotoxin\nUnderstand how to utilize the Theory of Convergence in practice.\nIdentify ways to mitigate possible complications from neurotoxin administration.\nUtilize clinical pearls to improve practice of neurotoxin administration.
URL:https://mecop.org/event/kamap-mastering-the-frontalis-with-neurotoxins-2/
LOCATION:Internet Enduring Material
CATEGORIES:AMA
END:VEVENT
BEGIN:VEVENT
DTSTART;TZID=America/Chicago:20241016T080000
DTEND;TZID=America/Chicago:20241030T170000
DTSTAMP:20260425T221701
CREATED:20241030T160915Z
LAST-MODIFIED:20241030T161236Z
UID:59108-1729065600-1730307600@mecop.org
SUMMARY:NFO Business of Medicine Web Series: Understanding the Incident to Provision
DESCRIPTION:Incident to is a CMS billing concept. During our session we will discuss the requirements of incident to billing and how to remain compliant. We will also review some clinical scenarios. \nAt the conclusion of this program\, participants should be able to: 1. What is incident to billing? 2. What is the reimbursement model for incident to billing. 3. What the guidelines are for incident to billing. 4. Documentation requirements for incident to billing. 5. How to apply the incident to guidelines
URL:https://mecop.org/event/nfo-business-of-medicine-web-series-understanding-the-incident-to-provision-3/
LOCATION:Internet Live Webcast
CATEGORIES:AMA
END:VEVENT
BEGIN:VEVENT
DTSTART;TZID=America/Chicago:20241016T080000
DTEND;TZID=America/Chicago:20241016T170000
DTSTAMP:20260425T221701
CREATED:20241020T122746Z
LAST-MODIFIED:20241020T122905Z
UID:58933-1729065600-1729098000@mecop.org
SUMMARY:Pitfalls of AI in Radiology
DESCRIPTION:Unavailable
URL:https://mecop.org/event/pitfalls-of-ai-in-radiology/
LOCATION:Enduring Activity
CATEGORIES:AMA
END:VEVENT
BEGIN:VEVENT
DTSTART;TZID=America/Chicago:20241016T080000
DTEND;TZID=America/Chicago:20241016T170000
DTSTAMP:20260425T221701
CREATED:20241020T122137Z
LAST-MODIFIED:20241020T122554Z
UID:58930-1729065600-1729098000@mecop.org
SUMMARY:FDG PET/CT Versus FDG PET/MRI in Patients With Cancer
DESCRIPTION:Unavailable
URL:https://mecop.org/event/fdg-pet-ct-versus-fdg-pet-mri-in-patients-with-cancer/
LOCATION:Enduring Activity
CATEGORIES:AMA
END:VEVENT
BEGIN:VEVENT
DTSTART;TZID=America/Chicago:20241016T080000
DTEND;TZID=America/Chicago:20241016T170000
DTSTAMP:20260425T221701
CREATED:20241020T112237Z
LAST-MODIFIED:20241020T112404Z
UID:58927-1729065600-1729098000@mecop.org
SUMMARY:Myositis and Its Mimics
DESCRIPTION:Unavailable
URL:https://mecop.org/event/myositis-and-its-mimics/
LOCATION:Enduring Activity
CATEGORIES:AMA
END:VEVENT
BEGIN:VEVENT
DTSTART;TZID=America/Chicago:20241016T080000
DTEND;TZID=America/Chicago:20241016T170000
DTSTAMP:20260425T221701
CREATED:20241020T111538Z
LAST-MODIFIED:20241020T111658Z
UID:58924-1729065600-1729098000@mecop.org
SUMMARY:Management of Severe Allergic-Like Contrast Media Reactions
DESCRIPTION:Unavailable
URL:https://mecop.org/event/management-of-severe-allergic-like-contrast-media-reactions/
LOCATION:Enduring Activity
CATEGORIES:AMA
END:VEVENT
BEGIN:VEVENT
DTSTART;TZID=America/Chicago:20241016T080000
DTEND;TZID=America/Chicago:20241016T170000
DTSTAMP:20260425T221701
CREATED:20241019T224622Z
LAST-MODIFIED:20241019T224907Z
UID:58921-1729065600-1729098000@mecop.org
SUMMARY:Recommendations for Incidental Gallbladder Polyp Management
DESCRIPTION:Unavailable
URL:https://mecop.org/event/recommendations-for-incidental-gallbladder-polyp-management/
LOCATION:Enduring Activity
CATEGORIES:AMA
END:VEVENT
BEGIN:VEVENT
DTSTART;TZID=America/Chicago:20241016T080000
DTEND;TZID=America/Chicago:20241016T170000
DTSTAMP:20260425T221701
CREATED:20241019T223959Z
LAST-MODIFIED:20241019T224203Z
UID:58918-1729065600-1729098000@mecop.org
SUMMARY:Radiologic Extranodal Extension of Metastatic Lymph Nodes
DESCRIPTION:Unavailable
URL:https://mecop.org/event/radiologic-extranodal-extension-of-metastatic-lymph-nodes/
LOCATION:Enduring Activity
CATEGORIES:AMA
END:VEVENT
BEGIN:VEVENT
DTSTART;TZID=America/Chicago:20241016T080000
DTEND;TZID=America/Chicago:20241016T170000
DTSTAMP:20260425T221701
CREATED:20241019T223140Z
LAST-MODIFIED:20241019T223340Z
UID:58915-1729065600-1729098000@mecop.org
SUMMARY:Use of ChatGPT in Radiology Reporting and Patient Questions
DESCRIPTION:Unavailable
URL:https://mecop.org/event/use-of-chatgpt-in-radiology-reporting-and-patient-questions/
LOCATION:Enduring Activity
CATEGORIES:AMA
END:VEVENT
BEGIN:VEVENT
DTSTART;TZID=America/Chicago:20241016T080000
DTEND;TZID=America/Chicago:20241016T170000
DTSTAMP:20260425T221701
CREATED:20241016T184017Z
LAST-MODIFIED:20241016T184126Z
UID:58728-1729065600-1729098000@mecop.org
SUMMARY:Management of Negative Multiparametric Prostate MRI Examinations
DESCRIPTION:Unavailable
URL:https://mecop.org/event/management-of-negative-multiparametric-prostate-mri-examinations/
LOCATION:Enduring Activity
CATEGORIES:AMA
END:VEVENT
BEGIN:VEVENT
DTSTART;TZID=America/Chicago:20241016T080000
DTEND;TZID=America/Chicago:20241016T170000
DTSTAMP:20260425T221701
CREATED:20241016T183237Z
LAST-MODIFIED:20241016T183649Z
UID:58725-1729065600-1729098000@mecop.org
SUMMARY:PCa Upgrade and Downgrade Rates for PI-RADS v2.0 Versus v2.1
DESCRIPTION:Unavailable
URL:https://mecop.org/event/pca-upgrade-and-downgrade-rates-for-pi-rads-v2-0-versus-v2-1/
LOCATION:Enduring Activity
CATEGORIES:AMA
END:VEVENT
BEGIN:VEVENT
DTSTART;TZID=America/Chicago:20241016T080000
DTEND;TZID=America/Chicago:20241016T170000
DTSTAMP:20260425T221701
CREATED:20241016T181250Z
LAST-MODIFIED:20241016T181615Z
UID:58719-1729065600-1729098000@mecop.org
SUMMARY:FDG PET/CT and Lymphoma Treated With CAR T-Cell Therapy
DESCRIPTION:Unavailable
URL:https://mecop.org/event/fdg-pet-ct-and-lymphoma-treated-with-car-t-cell-therapy/
LOCATION:Enduring Activity
CATEGORIES:AMA
END:VEVENT
BEGIN:VEVENT
DTSTART;TZID=America/Chicago:20241016T080000
DTEND;TZID=America/Chicago:20241016T170000
DTSTAMP:20260425T221701
CREATED:20241016T180647Z
LAST-MODIFIED:20241016T180946Z
UID:58716-1729065600-1729098000@mecop.org
SUMMARY:AKI Risk After IV Iodinated Contrast Media Exposure
DESCRIPTION:Unavailable
URL:https://mecop.org/event/aki-risk-after-iv-iodinated-contrast-media-exposure/
LOCATION:Enduring Activity
CATEGORIES:AMA
END:VEVENT
BEGIN:VEVENT
DTSTART;TZID=America/Chicago:20241016T080000
DTEND;TZID=America/Chicago:20241016T170000
DTSTAMP:20260425T221701
CREATED:20241016T175538Z
LAST-MODIFIED:20241016T175538Z
UID:58714-1729065600-1729098000@mecop.org
SUMMARY:#95131 Prescription Opioids and Pain Management:
DESCRIPTION:Unavailable
URL:https://mecop.org/event/95131-prescription-opioids-and-pain-management-2/
LOCATION:Enduring Material
CATEGORIES:AMA,Prescribing of Controlled Substances
END:VEVENT
BEGIN:VEVENT
DTSTART;TZID=America/Chicago:20241016T080000
DTEND;TZID=America/Chicago:20241016T170000
DTSTAMP:20260425T221701
CREATED:20240923T184954Z
LAST-MODIFIED:20241024T143930Z
UID:58443-1729065600-1729098000@mecop.org
SUMMARY:Better Health Group Monthly Town Hall Meeting
DESCRIPTION:TBA
URL:https://mecop.org/event/better-health-group-monthly-town-hall-meeting-7/
LOCATION:Zoom
CATEGORIES:AMA
END:VEVENT
BEGIN:VEVENT
DTSTART;TZID=America/Chicago:20241015T120000
DTEND;TZID=America/Chicago:20241015T130000
DTSTAMP:20260425T221701
CREATED:20241015T134828Z
LAST-MODIFIED:20241023T114335Z
UID:58694-1728993600-1728997200@mecop.org
SUMMARY:MUSM Clinical Faculty Development Series
DESCRIPTION:Participants will learn how to define burnout and recognize its key characteristics.\nParticipants will understand the importance of addressing burnout and its impact on professional careers.\nParticipants will identify the pillars of wellness and practice microskill techniques to combat burnout in themselves and others.
URL:https://mecop.org/event/musm-clinical-faculty-development-series-22/
LOCATION:Live
CATEGORIES:AMA
END:VEVENT
BEGIN:VEVENT
DTSTART;TZID=America/Chicago:20241015T080000
DTEND;TZID=America/Chicago:20241015T170000
DTSTAMP:20260425T221701
CREATED:20241114T191001Z
LAST-MODIFIED:20241114T191006Z
UID:59341-1728979200-1729011600@mecop.org
SUMMARY:COPD ACT
DESCRIPTION:See document
URL:https://mecop.org/event/copd-act-4/
LOCATION:Internet Enduring Material
CATEGORIES:AMA
END:VEVENT
BEGIN:VEVENT
DTSTART;TZID=America/Chicago:20241015T080000
DTEND;TZID=America/Chicago:20241015T170000
DTSTAMP:20260425T221701
CREATED:20241021T163223Z
LAST-MODIFIED:20241021T163228Z
UID:58964-1728979200-1729011600@mecop.org
SUMMARY:ENT Pearls and Mastery of the Ear & Oral Cavity
DESCRIPTION:Understand oral cavity and oropharyngeal anatomy\, learn proper exam technique\, identify common oral cavity/oropharyngeal disease presentations\, and understand best treatment approaches for these conditions\nUnderstand nasal cavity anatomy\, learn proper exam techniques\, and identify common nasal cavity diagnoses with correct treatment protocols.\nLearn proper neck examination\, best imaging choices for various diagnoses\, and identify common neck pathological states with appropriate treatments.\nBecome much more confident in ear examinations through the use of otoscopy (normal and pneumatic otoscopy)\nLearn the use of performing the Valsalva maneuver during otoscopy – and how this may help diagnostic accuracy.\nLearn the proper use of the tuning fork – and implementing this to help discern middle ear pathology or tympanic membrane perforations.\nLearn how to perform tympanometry – and utilizing this to help detect the presence or absence of middle ear fluid/purulence or a tympanic membrane perforation.\nIdentification and proper treatment of otitis externa\nLearn various cerumen removal tools and techniques for cerumen and ear foreign bodies.\nLearn how to drain an auricular hematoma and properly place bolster.
URL:https://mecop.org/event/ent-pearls-and-mastery-of-the-ear-oral-cavity/
LOCATION:Internet Enduring Material
CATEGORIES:AMA
END:VEVENT
BEGIN:VEVENT
DTSTART;TZID=America/Chicago:20241015T080000
DTEND;TZID=America/Chicago:20241015T170000
DTSTAMP:20260425T221701
CREATED:20241017T112205Z
LAST-MODIFIED:20241018T172021Z
UID:58763-1728979200-1729011600@mecop.org
SUMMARY:Risk Adjustment and The Rules of Engagement: ICD-10-CM Coding Updates
DESCRIPTION:Review CMS-HCC risk adjustment model and why it is important\nReview specific official ICD-10-CM coding guidelines and how they are applied for HCC diagnosis coding\nIdentify elements of the medical record that help support the validation of an HCC diagnosis condition\nIdentify documentation deficiencies for specific conditions
URL:https://mecop.org/event/risk-adjustment-and-the-rules-of-engagement-for-icd-10-coding-updates-endeavour/
LOCATION:Live Webinar
CATEGORIES:AMA
END:VEVENT
BEGIN:VEVENT
DTSTART;TZID=America/Chicago:20241015T080000
DTEND;TZID=America/Chicago:20241015T170000
DTSTAMP:20260425T221701
CREATED:20241016T110546Z
LAST-MODIFIED:20241016T110546Z
UID:58705-1728979200-1729011600@mecop.org
SUMMARY:Prescribing Controlled Substances
DESCRIPTION:Unavailable
URL:https://mecop.org/event/prescribing-controlled-substances-7/
LOCATION:Enduring Activity
CATEGORIES:AMA,Prescribing of Controlled Substances
END:VEVENT
BEGIN:VEVENT
DTSTART;TZID=America/Chicago:20241015T080000
DTEND;TZID=America/Chicago:20241015T170000
DTSTAMP:20260425T221701
CREATED:20241015T175738Z
LAST-MODIFIED:20241015T175738Z
UID:58699-1728979200-1729011600@mecop.org
SUMMARY:Medical Errors:
DESCRIPTION:Unavailable
URL:https://mecop.org/event/medical-errors-8/
LOCATION:Enduring Material
CATEGORIES:AMA,MedErrors
END:VEVENT
END:VCALENDAR