BEGIN:VCALENDAR
VERSION:2.0
PRODID:-//Mecop - ECPv6.5.1.5//NONSGML v1.0//EN
CALSCALE:GREGORIAN
METHOD:PUBLISH
X-WR-CALNAME:Mecop
X-ORIGINAL-URL:https://mecop.org
X-WR-CALDESC:Events for Mecop
REFRESH-INTERVAL;VALUE=DURATION:PT1H
X-Robots-Tag:noindex
X-PUBLISHED-TTL:PT1H
BEGIN:VTIMEZONE
TZID:America/Chicago
BEGIN:DAYLIGHT
TZOFFSETFROM:-0600
TZOFFSETTO:-0500
TZNAME:CDT
DTSTART:20240310T080000
END:DAYLIGHT
BEGIN:STANDARD
TZOFFSETFROM:-0500
TZOFFSETTO:-0600
TZNAME:CST
DTSTART:20241103T070000
END:STANDARD
END:VTIMEZONE
BEGIN:VEVENT
DTSTART;TZID=America/Chicago:20241107T080000
DTEND;TZID=America/Chicago:20241107T170000
DTSTAMP:20260425T203744
CREATED:20241108T230826Z
LAST-MODIFIED:20241108T230955Z
UID:59212-1730966400-1730998800@mecop.org
SUMMARY:FSU Identifying and Preventing Academic and Non-academic Difficulties Among M3 and M4 Learners Module
DESCRIPTION:Unavailable
URL:https://mecop.org/event/fsu-identifying-and-preventing-academic-and-non-academic-difficulties-among-m3-and-m4-learners-module-8/
LOCATION:Enduring Activity
CATEGORIES:AMA
END:VEVENT
BEGIN:VEVENT
DTSTART;TZID=America/Chicago:20241107T080000
DTEND;TZID=America/Chicago:20241107T170000
DTSTAMP:20260425T203744
CREATED:20241108T204302Z
LAST-MODIFIED:20241108T205141Z
UID:59203-1730966400-1730998800@mecop.org
SUMMARY:33rd Annual "Surviving Trauma" Conference
DESCRIPTION:Unavailable
URL:https://mecop.org/event/33rd-annual-surviving-trauma-conference/
LOCATION:Pensacola Beach\, FL
CATEGORIES:AMA,Trauma
END:VEVENT
BEGIN:VEVENT
DTSTART;TZID=America/Chicago:20241106T080000
DTEND;TZID=America/Chicago:20241106T170000
DTSTAMP:20260425T203744
CREATED:20241112T133017Z
LAST-MODIFIED:20241112T133022Z
UID:59287-1730880000-1730912400@mecop.org
SUMMARY:KAMAP Mastering the Frontalis with Neurotoxins
DESCRIPTION:Explain the mechanism of action of neurotoxin.\nIdentify safe prescribing practices of neurotoxin\nUnderstand how to utilize the Theory of Convergence in practice.\nIdentify ways to mitigate possible complications from neurotoxin administration.\nUtilize clinical pearls to improve practice of neurotoxin administration.
URL:https://mecop.org/event/kamap-mastering-the-frontalis-with-neurotoxins-3/
LOCATION:Internet Enduring Material
CATEGORIES:AMA
END:VEVENT
BEGIN:VEVENT
DTSTART;TZID=America/Chicago:20241106T080000
DTEND;TZID=America/Chicago:20241106T170000
DTSTAMP:20260425T203744
CREATED:20241112T132746Z
LAST-MODIFIED:20241112T132753Z
UID:59285-1730880000-1730912400@mecop.org
SUMMARY:KAMAP The Science Behind PRP/PRF
DESCRIPTION:
URL:https://mecop.org/event/kamap-the-science-behind-prp-prf-4/
LOCATION:Internet Enduring Material
CATEGORIES:AMA
END:VEVENT
BEGIN:VEVENT
DTSTART;TZID=America/Chicago:20241106T080000
DTEND;TZID=America/Chicago:20241106T170000
DTSTAMP:20260425T203744
CREATED:20241106T183354Z
LAST-MODIFIED:20241106T185210Z
UID:59175-1730880000-1730912400@mecop.org
SUMMARY:General Adult Tumor Board 2024
DESCRIPTION:Unavailable
URL:https://mecop.org/event/general-adult-tumor-board-2024-26/
LOCATION:Ascension Sacred Heart Hospital\, FL
CATEGORIES:AMA
END:VEVENT
BEGIN:VEVENT
DTSTART;TZID=America/Chicago:20241103T080000
DTEND;TZID=America/Chicago:20241104T170000
DTSTAMP:20260425T203744
CREATED:20241104T162020Z
LAST-MODIFIED:20241104T162025Z
UID:59152-1730620800-1730739600@mecop.org
SUMMARY:Signature Lip Filler Advanced Training with Jaime
DESCRIPTION:Thoroughly outline lip anatomy\, shape\, tissue\, and treatment options\nEffectively assess patient lips\, select product and place product\nAddress complications and complementary treatments or combination therapies
URL:https://mecop.org/event/signature-lip-filler-advanced-training-with-jaime/
LOCATION:Watt Plastic Surgery
CATEGORIES:AMA
END:VEVENT
BEGIN:VEVENT
DTSTART;TZID=America/Chicago:20241102T080000
DTEND;TZID=America/Chicago:20241104T170000
DTSTAMP:20260425T203744
CREATED:20241104T161747Z
LAST-MODIFIED:20241104T161752Z
UID:59150-1730534400-1730739600@mecop.org
SUMMARY:Neurotoxin Training w/Jaime
DESCRIPTION:Discuss the FDA-approved and off-label uses of neurotoxin. \nOutline proper product preparation and placement. \nDiscuss facial anatomy\, contraindications and patient consult. \nDemonstrate proper preparation\, patient consultation\, technique and injection of neurotoxin.
URL:https://mecop.org/event/neurotoxin-training-w-jaime-2/
LOCATION:Watt Plastic Surgery
CATEGORIES:AMA
END:VEVENT
BEGIN:VEVENT
DTSTART;TZID=America/Chicago:20241102T080000
DTEND;TZID=America/Chicago:20241102T170000
DTSTAMP:20260425T203744
CREATED:20241107T225731Z
LAST-MODIFIED:20250904T172655Z
UID:59197-1730534400-1730566800@mecop.org
SUMMARY:FSU Fundamentals of Teaching in the FSU COM Clinical Education Program I Module
DESCRIPTION:Unavailable
URL:https://mecop.org/event/fsu-fundamentals-of-teaching-in-the-fsu-com-clinical-education-program-i-module-6/
LOCATION:Enduring Activity
CATEGORIES:AMA
END:VEVENT
BEGIN:VEVENT
DTSTART;TZID=America/Chicago:20241102T080000
DTEND;TZID=America/Chicago:20241102T170000
DTSTAMP:20260425T203744
CREATED:20241107T224602Z
LAST-MODIFIED:20241202T224542Z
UID:59194-1730534400-1730566800@mecop.org
SUMMARY:FSU Fundamentals of Teaching in the FSU COM Clinical Education Program II Module
DESCRIPTION:Unavailable
URL:https://mecop.org/event/fsu-fundamentals-of-teaching-in-the-fsu-com-clinical-education-program-ii-module-9/
LOCATION:Enduring Activity
CATEGORIES:AMA
END:VEVENT
BEGIN:VEVENT
DTSTART;TZID=America/Chicago:20241101T080000
DTEND;TZID=America/Chicago:20241101T170000
DTSTAMP:20260425T203744
CREATED:20241209T183713Z
LAST-MODIFIED:20241209T184552Z
UID:60032-1730448000-1730480400@mecop.org
SUMMARY:2024 Faculty Teaching Credits Internal Medicine/Hospitalist Clerkship
DESCRIPTION:Unavailable
URL:https://mecop.org/event/2024-faculty-teaching-credits-internal-medicine-hospitalist-clerkship-2/
LOCATION:Daytona Beach Regional Campus\, 1200 W International Speedway\, Daytona Beach\, FL\, 32114\, United States
CATEGORIES:AMA
END:VEVENT
BEGIN:VEVENT
DTSTART;TZID=America/Chicago:20241101T080000
DTEND;TZID=America/Chicago:20241101T170000
DTSTAMP:20260425T203744
CREATED:20241120T215032Z
LAST-MODIFIED:20241120T215238Z
UID:59541-1730448000-1730480400@mecop.org
SUMMARY:2024 Faculty Teaching Credits General Pediatrics Outpatient Clinical Clerkship
DESCRIPTION:Unavailable
URL:https://mecop.org/event/2024-faculty-teaching-credits-general-pediatrics-outpatient-clinical-clerkship/
LOCATION:Pensacola Regional Campus\, 11000 University Parkway Bldg 234\, 2nd Floor\, Pensacola\, FL\, 32514-5750\, United States
CATEGORIES:AMA
END:VEVENT
BEGIN:VEVENT
DTSTART;TZID=America/Chicago:20241101T080000
DTEND;TZID=America/Chicago:20241101T170000
DTSTAMP:20260425T203744
CREATED:20241101T101428Z
LAST-MODIFIED:20241209T185440Z
UID:59142-1730448000-1730480400@mecop.org
SUMMARY:2024 Faculty Teaching Credits Internal Medicine Clerkship
DESCRIPTION:Unavailable
URL:https://mecop.org/event/2024-faculty-teaching-credits-internal-medicine-clerkship-3/
LOCATION:Tallahassee Regional Campus\, Tallahassee\, FL\, United States
CATEGORIES:AMA
END:VEVENT
BEGIN:VEVENT
DTSTART;TZID=America/Chicago:20241031T080000
DTEND;TZID=America/Chicago:20241031T170000
DTSTAMP:20260425T203744
CREATED:20241204T185856Z
LAST-MODIFIED:20241204T185902Z
UID:59856-1730361600-1730394000@mecop.org
SUMMARY:NFO Business of Medicine Web Series: HIPAA Updates 2024
DESCRIPTION:Healthcare providers need to have a basic understanding of the Health Insurance Portability and Accountability Act (HIPAA). This program on HIPAA Privacy and Security Essentials covers the key provisions of this complex law\, and it addresses common vulnerabilities in healthcare practices and organizations that result in HIPAA breaches. Best practices are identified that might mitigate the risk of breaches\, and understanding how to respond to incidents and breaches is presented. Fines and penalties for noncompliance are discussed as well as HIPAA considerations for electronic communications. Strategies to reduce the incidence and impact of cyberattacks and ransomware are also included in the program. \nAt the conclusion of this program\, participants should be able to: 1. Review key provisions of the Health Insurance Portability and Accountability Act (HIPAA) Privacy and Security Rules. 2. Discuss common vulnerabilities in healthcare practices and organizations that result in HIPAA breaches. 3. Identify best practices that might mitigate the risk of breaches. 4. Understand how to respond to incidents and breaches. 5. Discuss fines and penalties for HIPAA noncompliance. 6. Identify best practices to reduce the incidence and impact of cyberattacks and ransomware. 7. Review proposed Final Rule.
URL:https://mecop.org/event/nfo-business-of-medicine-web-series-hipaa-updates-2024/
LOCATION:Internet Live Webcast
CATEGORIES:AMA
END:VEVENT
BEGIN:VEVENT
DTSTART;TZID=America/Chicago:20241029T180000
DTEND;TZID=America/Chicago:20241029T200000
DTSTAMP:20260425T203744
CREATED:20241007T173926Z
LAST-MODIFIED:20241031T125311Z
UID:58624-1730224800-1730232000@mecop.org
SUMMARY:FSU-Ft. Pierce
DESCRIPTION:Access and navigate the library web site\nFind an eBook or e-Journal\nUse a drug and decision support resource\nFind a patient education handout\nFind mobile resources\nGet help: online or in person
URL:https://mecop.org/event/fsu-ft-pierce-194/
LOCATION:Fort Pierce Regional Campus\, 1200 W International Speedway Blvd #101\, Daytona Beach\, FL\, 32114\, United States
CATEGORIES:AMA
END:VEVENT
BEGIN:VEVENT
DTSTART;TZID=America/Chicago:20241029T080000
DTEND;TZID=America/Chicago:20241029T170000
DTSTAMP:20260425T203744
CREATED:20241030T144612Z
LAST-MODIFIED:20241030T145619Z
UID:59097-1730188800-1730221200@mecop.org
SUMMARY:KAMAP Introduction to Neuromodulators
DESCRIPTION:Explain the mechanism of action of neuromodulators.\nIdentify safe prescribing practices of neuromodulators.\nDemonstrate safe administration of neuromodulators.\nAnticipate the risk of side effects\, adverse events\, and complications of administration of neuromodulators.\nOutline possible side effects of neuromodulator administration.
URL:https://mecop.org/event/kamap-introduction-to-neuromodulators-5/
LOCATION:Kentucky
CATEGORIES:AMA
END:VEVENT
BEGIN:VEVENT
DTSTART;TZID=America/Chicago:20241027T080000
DTEND;TZID=America/Chicago:20241027T170000
DTSTAMP:20260425T203744
CREATED:20241226T150045Z
LAST-MODIFIED:20241226T150246Z
UID:60319-1730016000-1730048400@mecop.org
SUMMARY:PEEP Risk Adjustment and Neurology
DESCRIPTION:Review CMS-HCC risk adjustment model and why it is important\nReview specific official ICD-10-CM coding guidelines and how they are applied for HCC diagnosis coding\nIdentify elements of the medical record that help support the validation of an HCC diagnosis condition\nIdentify documentation deficiencies for specific conditions
URL:https://mecop.org/event/peep-risk-adjustment-and-neurology-5/
LOCATION:Internet Enduring Material
CATEGORIES:AMA
END:VEVENT
BEGIN:VEVENT
DTSTART;TZID=America/Chicago:20241026T080000
DTEND;TZID=America/Chicago:20241026T170000
DTSTAMP:20260425T203744
CREATED:20241112T142742Z
LAST-MODIFIED:20241112T142742Z
UID:59299-1729929600-1729962000@mecop.org
SUMMARY:2024 Maintenance of Certification (MOC) Program
DESCRIPTION:Unavailable
URL:https://mecop.org/event/2024-maintenance-of-certification-moc-program-3/
LOCATION:Enduring Activity
CATEGORIES:AMA
END:VEVENT
BEGIN:VEVENT
DTSTART;TZID=America/Chicago:20241025T080000
DTEND;TZID=America/Chicago:20241206T170000
DTSTAMP:20260425T203744
CREATED:20241115T153404Z
LAST-MODIFIED:20241226T150332Z
UID:59371-1729843200-1733504400@mecop.org
SUMMARY:PEEP Risk Adjustment Heart Failure and Arrhythmias
DESCRIPTION:Review CMS-HCC risk adjustment model and why it is important\nReview specific official ICD-10-CM coding guidelines and how they are applied for HCC diagnosis coding\nIdentify elements of the medical record that help support the validation of an HCC diagnosis condition\nIdentify documentation deficiencies for specific conditions
URL:https://mecop.org/event/peep-risk-adjustment-heart-failure-and-arrhythmias-4/
LOCATION:Internet Enduring Material
CATEGORIES:AMA
END:VEVENT
BEGIN:VEVENT
DTSTART;TZID=America/Chicago:20241025T080000
DTEND;TZID=America/Chicago:20241025T170000
DTSTAMP:20260425T203744
CREATED:20241226T150946Z
LAST-MODIFIED:20241226T150950Z
UID:60329-1729843200-1729875600@mecop.org
SUMMARY:Advance Care Planning ACT
DESCRIPTION:See document
URL:https://mecop.org/event/advance-care-planning-act-6/
LOCATION:Internet Enduring Material
CATEGORIES:AMA
END:VEVENT
BEGIN:VEVENT
DTSTART;TZID=America/Chicago:20241024T080000
DTEND;TZID=America/Chicago:20241024T170000
DTSTAMP:20260425T203744
CREATED:20241120T162044Z
LAST-MODIFIED:20241120T162050Z
UID:59515-1729756800-1729789200@mecop.org
SUMMARY:NFO Business of Medicine Web Series: Use of Lasers to treat TMD and Pain
DESCRIPTION:This interactive webinar will explore the clinical application of Low-Level Laser Therapy (LLLT) in treating Temporomandibular Joint Disorders (TMD) and associated pain in the head and neck region. Participants will gain insights into the biological mechanisms behind LLLT\, including its anti-inflammatory and analgesic properties\, and how it can stimulate tissue repair. The session will cover best practices for laser implementation\, patient selection criteria\, and case studies demonstrating successful treatment outcomes. Attendees will leave with a deeper understanding of how LLLT can enhance treatment plans\, improve patient recovery times\, and potentially reduce the need for more invasive interventions. \nAt the conclusion of this program\, participants should be able to: 1. To learn how lasers can be implemented and used to promote healing and reduce pain. 2. To understand the mechanisms of Low-Level Laser Therapy (LLLT) in stimulating tissue repair and reducing inflammation in patients with TMD. 3. To explore patient selection criteria and practical guidelines for incorporating laser therapy into clinical practice for head and neck pain. 4. To review case studies highlighting the effectiveness of laser treatment in improving patient outcomes for TMD and related conditions.
URL:https://mecop.org/event/nfo-business-of-medicine-web-series-use-of-lasers-to-treat-tmd-and-pain/
LOCATION:Internet Live Webcast
CATEGORIES:AMA
END:VEVENT
BEGIN:VEVENT
DTSTART;TZID=America/Chicago:20241024T080000
DTEND;TZID=America/Chicago:20241024T170000
DTSTAMP:20260425T203744
CREATED:20241104T192823Z
LAST-MODIFIED:20241105T172914Z
UID:59156-1729756800-1729789200@mecop.org
SUMMARY:SMG Risk Adjustment and New Provider Training
DESCRIPTION:The goal of today’s session is to enhance your knowledge to the principles of Value Based Hierarchical Condition Category(HCC) Risk Adjustment(RA) model(s) and the importance of accurate and complete documentation requirements for ICD-10-CM diagnosis coding. \nReview Hierarchical Condition Category (HCC) Value Based Risk Adjustment model(s) and why it is important \nStronger understanding of the medical coding guidelines and regulations\, including compliance and the impact of diagnosis coding \nMindfulness to the auditing process for Center for Medicare and Medicaid Services (CMS) – HCC risk adjustment models and documenting and reporting chronic conditions yearly \nAwareness of “other” HCC Risk Models (Commercial\, Medicaid (TENNCARE)) \nRealize the importance of a Risk Adjustment auditing process \nQuality Updates
URL:https://mecop.org/event/smg-risk-adjustment-and-new-provider-training-3/
LOCATION:Internet Live Webcast
CATEGORIES:AMA
END:VEVENT
BEGIN:VEVENT
DTSTART;TZID=America/Chicago:20241022T080000
DTEND;TZID=America/Chicago:20241022T170000
DTSTAMP:20260425T203744
CREATED:20241023T154257Z
LAST-MODIFIED:20241023T162638Z
UID:59002-1729584000-1729616400@mecop.org
SUMMARY:MUSM Clinical Faculty Development Series
DESCRIPTION:Trace the historical development of vaccines and their impact on public health.\nDifferentiate between vaccine types and their mechanisms of action.\nAssess the positive effects of vaccination on disease prevention.\nExplore current issues affecting vaccination rates and access.\nExamine factors contributing to declining vaccination rates in communities.
URL:https://mecop.org/event/musm-clinical-faculty-development-series-26/
LOCATION:Live
CATEGORIES:AMA
END:VEVENT
BEGIN:VEVENT
DTSTART;TZID=America/Chicago:20241022T080000
DTEND;TZID=America/Chicago:20241022T170000
DTSTAMP:20260425T203744
CREATED:20241022T232522Z
LAST-MODIFIED:20241024T150125Z
UID:58996-1729584000-1729616400@mecop.org
SUMMARY:Risk Adjustment and The Rules of Engagement: ICD-10-CM Coding Updates
DESCRIPTION:Review CMS-HCC risk adjustment model and why it is important\nReview specific official ICD-10-CM coding guidelines and how they are applied for HCC diagnosis coding\nIdentify elements of the medical record that help support the validation of an HCC diagnosis condition\nIdentify documentation deficiencies for specific conditions
URL:https://mecop.org/event/risk-adjustment-and-the-rules-of-engagement-icd-10-coding-updates/
LOCATION:Live Webinar
CATEGORIES:AMA
END:VEVENT
BEGIN:VEVENT
DTSTART;TZID=America/Chicago:20241022T070000
DTEND;TZID=America/Chicago:20241022T080000
DTSTAMP:20260425T203744
CREATED:20240925T124619Z
LAST-MODIFIED:20241117T135947Z
UID:58474-1729580400-1729584000@mecop.org
SUMMARY:Baldwin Health Tumor Board
DESCRIPTION:1. Review patient cases and all necessary findings (pathology\, radiology\, surgery\, etc.) and discuss key\nfindings to determine course of treatment.\n2. Discuss implications amongst multidisciplinary team members\, and review best practices\, current\nevidence-based findings\, etc.\n3. Assign treatment protocols based on consensus of the multidisciplinary team.
URL:https://mecop.org/event/south-baldwin-tumor-board-33/
LOCATION:Baldwin Health
CATEGORIES:AMA
END:VEVENT
BEGIN:VEVENT
DTSTART;TZID=America/Chicago:20241020T080000
DTEND;TZID=America/Chicago:20241020T170000
DTSTAMP:20260425T203744
CREATED:20241226T145457Z
LAST-MODIFIED:20241226T145502Z
UID:60313-1729411200-1729443600@mecop.org
SUMMARY:Chronic Non-Cancer Pain ACT
DESCRIPTION:See content
URL:https://mecop.org/event/chronic-non-cancer-pain-act-3/
LOCATION:Internet Enduring Material
CATEGORIES:AMA
END:VEVENT
BEGIN:VEVENT
DTSTART;TZID=America/Chicago:20241020T080000
DTEND;TZID=America/Chicago:20241020T170000
DTSTAMP:20260425T203744
CREATED:20241115T153610Z
LAST-MODIFIED:20241115T153641Z
UID:59373-1729411200-1729443600@mecop.org
SUMMARY:Heart Failure ACT
DESCRIPTION:See content.
URL:https://mecop.org/event/heart-failure-act-4/
LOCATION:Internet Enduring Material
CATEGORIES:AMA
END:VEVENT
BEGIN:VEVENT
DTSTART;TZID=America/Chicago:20241020T080000
DTEND;TZID=America/Chicago:20241020T170000
DTSTAMP:20260425T203744
CREATED:20241022T090834Z
LAST-MODIFIED:20241022T090834Z
UID:58981-1729411200-1729443600@mecop.org
SUMMARY:Medical Management of Shoulder Dystocia
DESCRIPTION:Unavailable
URL:https://mecop.org/event/medical-management-of-shoulder-dystocia-3/
LOCATION:Enduring Activity
CATEGORIES:AMA
END:VEVENT
BEGIN:VEVENT
DTSTART;TZID=America/Chicago:20241019T080000
DTEND;TZID=America/Chicago:20241019T170000
DTSTAMP:20260425T203744
CREATED:20241021T180954Z
LAST-MODIFIED:20241021T183012Z
UID:58975-1729324800-1729357200@mecop.org
SUMMARY:Non-Surgical BBL with Injector Coach Institute
DESCRIPTION:Outline available proceudres\, techniques and methodologies to improve\, lift and contour the buttocks.\nDiscuss complications\, indications\, consent\, and anatomy.\nOutline materials needed and product preparation.\nDemonstrate the mapping process and its uniqueness to each patient.\nEffectively apply skills in a lab setting under direct supervision.\nAchieve symmetry\, projection and desired results on model patients.
URL:https://mecop.org/event/non-surgical-bbl-with-injector-coach-institute/
LOCATION:Mind Body Soul Medical
CATEGORIES:AMA
END:VEVENT
BEGIN:VEVENT
DTSTART;TZID=America/Chicago:20241018T080000
DTEND;TZID=America/Chicago:20241018T170000
DTSTAMP:20260425T203744
CREATED:20241115T231507Z
LAST-MODIFIED:20241115T231638Z
UID:59439-1729238400-1729270800@mecop.org
SUMMARY:Skin Esteem Institute: Neurotoxin and Dermal Filler for Beginners
DESCRIPTION:Review the aging process and facial anatomy\nReview an effective consultation and patient selection\nReview beginner injectable rejuvenation techniques using Neurotoxins\nReview beginner injectable rejuvenation techniques using Dermal Fillers\nHands-on Injectable training
URL:https://mecop.org/event/skin-esteem-institute-neurotoxin-and-dermal-filler-for-beginners-8/
LOCATION:Kentucky
CATEGORIES:AMA
END:VEVENT
BEGIN:VEVENT
DTSTART;TZID=America/Chicago:20241018T080000
DTEND;TZID=America/Chicago:20241018T170000
DTSTAMP:20260425T203744
CREATED:20241115T224945Z
LAST-MODIFIED:20250226T163648Z
UID:59431-1729238400-1729270800@mecop.org
SUMMARY:Community Medical Services Provider Manual: Addiction Primer
DESCRIPTION:Content/Robert Sherrick\, MD
URL:https://mecop.org/event/community-medical-services-provider-manual-addiction-primer-3/
LOCATION:Enduring Material
CATEGORIES:AMA
END:VEVENT
END:VCALENDAR