BEGIN:VCALENDAR
VERSION:2.0
PRODID:-//Mecop - ECPv6.5.1.5//NONSGML v1.0//EN
CALSCALE:GREGORIAN
METHOD:PUBLISH
X-WR-CALNAME:Mecop
X-ORIGINAL-URL:https://mecop.org
X-WR-CALDESC:Events for Mecop
REFRESH-INTERVAL;VALUE=DURATION:PT1H
X-Robots-Tag:noindex
X-PUBLISHED-TTL:PT1H
BEGIN:VTIMEZONE
TZID:America/Chicago
BEGIN:DAYLIGHT
TZOFFSETFROM:-0600
TZOFFSETTO:-0500
TZNAME:CDT
DTSTART:20250309T080000
END:DAYLIGHT
BEGIN:STANDARD
TZOFFSETFROM:-0500
TZOFFSETTO:-0600
TZNAME:CST
DTSTART:20251102T070000
END:STANDARD
END:VTIMEZONE
BEGIN:VEVENT
DTSTART;TZID=America/Chicago:20250507T080000
DTEND;TZID=America/Chicago:20250507T170000
DTSTAMP:20260424T023837
CREATED:20250516T135944Z
LAST-MODIFIED:20250516T141157Z
UID:62907-1746604800-1746637200@mecop.org
SUMMARY:CORE: Communicate Openly\, Respond Empathetically. 1 Hr On Demand
DESCRIPTION:Unavailable
URL:https://mecop.org/event/core-communicate-openly-respond-empathetically-1-hr-on-demand/
LOCATION:Live Activity
CATEGORIES:AMA
END:VEVENT
BEGIN:VEVENT
DTSTART;TZID=America/Chicago:20250507T080000
DTEND;TZID=America/Chicago:20250507T170000
DTSTAMP:20260424T023837
CREATED:20250512T120615Z
LAST-MODIFIED:20250617T210118Z
UID:62662-1746604800-1746637200@mecop.org
SUMMARY:FSU Fundamentals of Teaching in the FSU COM Clinical Education Program II Module
DESCRIPTION:
URL:https://mecop.org/event/fsu-fundamentals-of-teaching-in-the-fsu-com-clinical-education-program-ii-module-15/
LOCATION:Enduring Material
CATEGORIES:AMA
END:VEVENT
BEGIN:VEVENT
DTSTART;TZID=America/Chicago:20250507T080000
DTEND;TZID=America/Chicago:20250507T170000
DTSTAMP:20260424T023837
CREATED:20250512T115634Z
LAST-MODIFIED:20250515T085746Z
UID:62660-1746604800-1746637200@mecop.org
SUMMARY:FSU Fundamentals of Teaching in the FSU COM Clinical Education Program I Module
DESCRIPTION:
URL:https://mecop.org/event/fsu-fundamentals-of-teaching-in-the-fsu-com-clinical-educational-program-i-module/
LOCATION:Enduring Material
CATEGORIES:AMA
END:VEVENT
BEGIN:VEVENT
DTSTART;TZID=America/Chicago:20250507T080000
DTEND;TZID=America/Chicago:20250507T170000
DTSTAMP:20260424T023837
CREATED:20250501T113134Z
LAST-MODIFIED:20260204T143837Z
UID:62280-1746604800-1746637200@mecop.org
SUMMARY:Summit Medical Grand Rounds: Recognizing and Responding to Human Trafficking
DESCRIPTION:Consider myths about human trafficking vs. the reality of the crime\nOutline the different types of human trafficking and relevant federal and state statutes\nExamine the prevalence and scope of human trafficking in East TN (regional data and trends)\nIdentify human trafficking risk factors and vulnerable populations/individuals\nIdentify barriers to help-seeking and recommended responses for healthcare professionals\nOutline regional/local counter-trafficking resources (including CCAHT programs and services) for referral purposes.
URL:https://mecop.org/event/summit-medical-group-grand-rounds-2/
LOCATION:Live
CATEGORIES:AMA
END:VEVENT
BEGIN:VEVENT
DTSTART;TZID=America/Chicago:20250506T180000
DTEND;TZID=America/Chicago:20250506T200000
DTSTAMP:20260424T023837
CREATED:20250523T194109Z
LAST-MODIFIED:20250611T183844Z
UID:63036-1746554400-1746561600@mecop.org
SUMMARY:FSU-Orlando
DESCRIPTION:• Understand our Educational Model and your role as mentor\nand teacher\n• Understand the curriculum\n• Know how to provide feedback\n• Know how to evaluate the students
URL:https://mecop.org/event/fundamentals-of-teaching-i/
LOCATION:Zoom
CATEGORIES:AMA
END:VEVENT
BEGIN:VEVENT
DTSTART;TZID=America/Chicago:20250502T080000
DTEND;TZID=America/Chicago:20250502T170000
DTSTAMP:20260424T023837
CREATED:20251210T173649Z
LAST-MODIFIED:20251210T205855Z
UID:66208-1746172800-1746205200@mecop.org
SUMMARY:2025 Faculty Teaching Credits Advanced Clinical Foundations
DESCRIPTION:Unavailable
URL:https://mecop.org/event/2025-faculty-teaching-credits-advanced-clinical-foundations/
LOCATION:Tallahassee Regional Campus\, Tallahassee\, FL\, United States
CATEGORIES:AMA
END:VEVENT
BEGIN:VEVENT
DTSTART;TZID=America/Chicago:20250502T080000
DTEND;TZID=America/Chicago:20250502T170000
DTSTAMP:20260424T023837
CREATED:20250822T201746Z
LAST-MODIFIED:20251211T201044Z
UID:64231-1746172800-1746205200@mecop.org
SUMMARY:2025 Faculty Teaching Credits Neurology Clerkship
DESCRIPTION:Unavailable
URL:https://mecop.org/event/2025-faculty-teaching-credits-neurology-clerkship-2/
LOCATION:Tallahassee Regional Campus\, Tallahassee\, FL\, United States
CATEGORIES:AMA
END:VEVENT
BEGIN:VEVENT
DTSTART;TZID=America/Chicago:20250502T080000
DTEND;TZID=America/Chicago:20250502T170000
DTSTAMP:20260424T023837
CREATED:20250627T133301Z
LAST-MODIFIED:20251124T131809Z
UID:63456-1746172800-1746205200@mecop.org
SUMMARY:2025 Faculty Teaching Credits Internal Medicine Clerkship
DESCRIPTION:Unavailable
URL:https://mecop.org/event/2025-faculty-teaching-credits-internal-medicine-clerkship-3/
LOCATION:Tallahassee Regional Campus\, Tallahassee\, FL\, United States
CATEGORIES:AMA
END:VEVENT
BEGIN:VEVENT
DTSTART;TZID=America/Chicago:20250501T080000
DTEND;TZID=America/Chicago:20250501T170000
DTSTAMP:20260424T023837
CREATED:20250516T120153Z
LAST-MODIFIED:20250516T120251Z
UID:62896-1746086400-1746118800@mecop.org
SUMMARY:Whole-Body Multiparametric PET in Clinical Oncology
DESCRIPTION:Unavailable
URL:https://mecop.org/event/whole-body-multiparametric-pet-in-clinical-oncology/
LOCATION:Enduring Activity
CATEGORIES:AMA
END:VEVENT
BEGIN:VEVENT
DTSTART;TZID=America/Chicago:20250501T080000
DTEND;TZID=America/Chicago:20250501T170000
DTSTAMP:20260424T023837
CREATED:20250516T115746Z
LAST-MODIFIED:20250516T115915Z
UID:62893-1746086400-1746118800@mecop.org
SUMMARY:Small Cell Lung Cancer
DESCRIPTION:Unavailable
URL:https://mecop.org/event/small-cell-lung-cancer/
LOCATION:Journal based CME activity
CATEGORIES:AMA
END:VEVENT
BEGIN:VEVENT
DTSTART;TZID=America/Chicago:20250501T080000
DTEND;TZID=America/Chicago:20250501T170000
DTSTAMP:20260424T023837
CREATED:20250515T192133Z
LAST-MODIFIED:20250515T192441Z
UID:62869-1746086400-1746118800@mecop.org
SUMMARY:Care of Patients With Chronic Venous Disease of the Legs
DESCRIPTION:Unavailable
URL:https://mecop.org/event/care-of-patients-with-chronic-venous-disease-of-the-legs/
LOCATION:Enduring Activity
CATEGORIES:AMA
END:VEVENT
BEGIN:VEVENT
DTSTART;TZID=America/Chicago:20250501T080000
DTEND;TZID=America/Chicago:20250501T170000
DTSTAMP:20260424T023837
CREATED:20250515T191707Z
LAST-MODIFIED:20250515T191937Z
UID:62866-1746086400-1746118800@mecop.org
SUMMARY:Assessment of Cutaneous and Mucosal Direct Immunofluorescence Testing Practices in the US
DESCRIPTION:Unavailable
URL:https://mecop.org/event/assessment-of-cutaneous-and-mucosal-direct-immunofluorescence-testing-practices-in-the-us/
LOCATION:Journal based CME activity
CATEGORIES:AMA
END:VEVENT
BEGIN:VEVENT
DTSTART;TZID=America/Chicago:20250501T080000
DTEND;TZID=America/Chicago:20250501T170000
DTSTAMP:20260424T023837
CREATED:20250515T191305Z
LAST-MODIFIED:20250515T191419Z
UID:62863-1746086400-1746118800@mecop.org
SUMMARY:Iron Deficiency in Adults
DESCRIPTION:Unavailable
URL:https://mecop.org/event/iron-deficiency-in-adults/
LOCATION:Journal based CME activity
CATEGORIES:AMA
END:VEVENT
BEGIN:VEVENT
DTSTART;TZID=America/Chicago:20250501T080000
DTEND;TZID=America/Chicago:20250501T170000
DTSTAMP:20260424T023837
CREATED:20250515T190631Z
LAST-MODIFIED:20250515T190747Z
UID:62857-1746086400-1746118800@mecop.org
SUMMARY:MRI and FDG PET/CT for Preoperative Colon Cancer Staging
DESCRIPTION:Unavailable
URL:https://mecop.org/event/mri-and-fdg-pet-ct-for-preoperative-colon-cancer-staging/
LOCATION:Enduring Activity
CATEGORIES:AMA
END:VEVENT
BEGIN:VEVENT
DTSTART;TZID=America/Chicago:20250501T080000
DTEND;TZID=America/Chicago:20250501T170000
DTSTAMP:20260424T023837
CREATED:20250515T134659Z
LAST-MODIFIED:20250515T134659Z
UID:62846-1746086400-1746118800@mecop.org
SUMMARY:FSU Managing Gossip and Rumors in Healthcare Module
DESCRIPTION:Unavailable
URL:https://mecop.org/event/fsu-managing-gossip-and-rumors-in-healthcare-module-2/
LOCATION:Enduring Material
CATEGORIES:AMA
END:VEVENT
BEGIN:VEVENT
DTSTART;TZID=America/Chicago:20250501T080000
DTEND;TZID=America/Chicago:20250501T170000
DTSTAMP:20260424T023837
CREATED:20250514T230018Z
LAST-MODIFIED:20250514T230104Z
UID:62833-1746086400-1746118800@mecop.org
SUMMARY:FSU Generational Differences: Implications on Teaching and Learning Module
DESCRIPTION:Unavailable
URL:https://mecop.org/event/fsu-generational-differences-implications-on-teaching-and-learning-module-2/
LOCATION:Enduring Material
CATEGORIES:AMA
END:VEVENT
BEGIN:VEVENT
DTSTART;TZID=America/Chicago:20250430T080000
DTEND;TZID=America/Chicago:20250430T170000
DTSTAMP:20260424T023837
CREATED:20250515T144819Z
LAST-MODIFIED:20250515T144819Z
UID:62851-1746000000-1746032400@mecop.org
SUMMARY:General Adult Tumor Board 2025
DESCRIPTION:Unavailable
URL:https://mecop.org/event/general-adult-tumor-board-2025-10/
LOCATION:Ascension Sacred Heart Hospital\, FL
CATEGORIES:AMA
END:VEVENT
BEGIN:VEVENT
DTSTART;TZID=America/Chicago:20250429T120000
DTEND;TZID=America/Chicago:20250429T130000
DTSTAMP:20260424T023837
CREATED:20250430T135818Z
LAST-MODIFIED:20250519T191326Z
UID:62268-1745928000-1745931600@mecop.org
SUMMARY:MUSM Clinical Faculty Development Series
DESCRIPTION:Explain the development of a novel procedure in a vulnerable population. \nExplain which patients HIPEC is effective. \nDescribe the evaluation and treatment of Desmoplastic Small Round Cell Tumor (DSRCT). \nIdentify the outcomes of cytoreductive surgery and HIPEC in DSRCT. \nExplore what controls growth and metastasis of DSRCT.
URL:https://mecop.org/event/musm-clinical-faculty-development-series-41/
LOCATION:Live
CATEGORIES:AMA
END:VEVENT
BEGIN:VEVENT
DTSTART;TZID=America/Chicago:20250428T120000
DTEND;TZID=America/Chicago:20250428T130000
DTSTAMP:20260424T023837
CREATED:20250425T104308Z
LAST-MODIFIED:20250519T183058Z
UID:62218-1745841600-1745845200@mecop.org
SUMMARY:MUSM Clinical Faculty Development Series
DESCRIPTION:Review the importance of perioperative nutrition assessment and interventions\nObtain a better understanding of how to screen patients for nutritional risk and malnutrition\nObtain a better understanding of current pre- and post-operative nutrition guidelines\nReview examples of appropriate oral nutrition supplements and Immunonutrition supplements.
URL:https://mecop.org/event/musm-clinical-faculty-development-series-40/
LOCATION:Live
CATEGORIES:AMA
END:VEVENT
BEGIN:VEVENT
DTSTART;TZID=America/Chicago:20250428T080000
DTEND;TZID=America/Chicago:20250428T170000
DTSTAMP:20260424T023837
CREATED:20250429T131321Z
LAST-MODIFIED:20250429T131700Z
UID:62258-1745827200-1745859600@mecop.org
SUMMARY:ASAM 55th Annual Conference
DESCRIPTION:Unavailable
URL:https://mecop.org/event/asam-55th-annual-conference/
LOCATION:Live
CATEGORIES:AMA,Prescribing of Controlled Substances
END:VEVENT
BEGIN:VEVENT
DTSTART;TZID=America/Chicago:20250427T080000
DTEND;TZID=America/Chicago:20250427T170000
DTSTAMP:20260424T023837
CREATED:20250602T114327Z
LAST-MODIFIED:20250602T114327Z
UID:63153-1745740800-1745773200@mecop.org
SUMMARY:ASAM 56th Annual Conference
DESCRIPTION:Unavailable
URL:https://mecop.org/event/asam-56th-annual-conference/
LOCATION:Live Activity
CATEGORIES:AMA
END:VEVENT
BEGIN:VEVENT
DTSTART;TZID=America/Chicago:20250427T080000
DTEND;TZID=America/Chicago:20250427T170000
DTSTAMP:20260424T023837
CREATED:20250516T133059Z
LAST-MODIFIED:20250516T133159Z
UID:62899-1745740800-1745773200@mecop.org
SUMMARY:Vitamin D for Prevention of Disease
DESCRIPTION:Unavailable
URL:https://mecop.org/event/vitamin-d-for-prevention-of-disease/
LOCATION:Journal based CME activity
CATEGORIES:AMA
END:VEVENT
BEGIN:VEVENT
DTSTART;TZID=America/Chicago:20250427T080000
DTEND;TZID=America/Chicago:20250427T170000
DTSTAMP:20260424T023837
CREATED:20250515T190942Z
LAST-MODIFIED:20250515T191100Z
UID:62860-1745740800-1745773200@mecop.org
SUMMARY:Lipoprotein(a)
DESCRIPTION:Unavailable
URL:https://mecop.org/event/lipoproteina/
LOCATION:Journal based CME activity
CATEGORIES:AMA
END:VEVENT
BEGIN:VEVENT
DTSTART;TZID=America/Chicago:20250426T080000
DTEND;TZID=America/Chicago:20250427T170000
DTSTAMP:20260424T023837
CREATED:20250501T163044Z
LAST-MODIFIED:20250502T223804Z
UID:62286-1745654400-1745773200@mecop.org
SUMMARY:MedSpa Militia: Confidence to Command
DESCRIPTION:Define challenges for running a successful medspa. \nDiscuss best practices in hiring and firing medspa clinical and non-clinical support staff. \nOutline tools for hosting $50\,000 medspa events. \nOutline tools for effective marketing and social media branding. \nOutline best practices for maximizing patient relationships. \nConduct multiple in-depth roundtables around solving learner hurdles to moving forward in their business. \n 
URL:https://mecop.org/event/medspa-militia-confidence-to-command/
LOCATION:Mind Body Soul Medical
CATEGORIES:AMA
END:VEVENT
BEGIN:VEVENT
DTSTART;TZID=America/Chicago:20250426T080000
DTEND;TZID=America/Chicago:20250426T170000
DTSTAMP:20260424T023837
CREATED:20250430T175436Z
LAST-MODIFIED:20250430T175443Z
UID:62273-1745654400-1745686800@mecop.org
SUMMARY:Method Aesthetics Academy: Biostimulators
DESCRIPTION:Students will learn skin rejuvenation through biostimulatory products. Use of biostimulators stimulates the natural repair process within the fibroblasts for skin healing and restores collagen and elastin production over time\, making it an ideal treatment for facial rejuvenation\, hand\, neck and chest rejuvenation. Case studies will be reviewed with thorough discussion of indications\, treatment technique and proper use of cannulas. Each student will also pariticpate in a hands-on lab where they are closely proctoredwith model patients from consultation/assessment\, to product preparation\, proper insertion and application technique and completion/after care.
URL:https://mecop.org/event/method-aesthetics-academy-biostimulators/
LOCATION:Live Course
CATEGORIES:AMA
END:VEVENT
BEGIN:VEVENT
DTSTART;TZID=America/Chicago:20250425T080000
DTEND;TZID=America/Chicago:20250425T170000
DTSTAMP:20260424T023837
CREATED:20251014T144029Z
LAST-MODIFIED:20251014T144217Z
UID:64949-1745568000-1745600400@mecop.org
SUMMARY:2025 Faculty Teaching Credits Outpatient Medicine Clerkship
DESCRIPTION:Unavailable
URL:https://mecop.org/event/2025-faculty-teaching-credits-outpatient-medicine-clerkship/
LOCATION:Sarasota Regional Campus\, 5560 Bee Ridge Rd\, Sarasota\, FL\, 34233\, United States
CATEGORIES:AMA
END:VEVENT
BEGIN:VEVENT
DTSTART;TZID=America/Chicago:20250425T080000
DTEND;TZID=America/Chicago:20250425T170000
DTSTAMP:20260424T023837
CREATED:20250820T191906Z
LAST-MODIFIED:20250820T192537Z
UID:64189-1745568000-1745600400@mecop.org
SUMMARY:Radiographic Changes of the Nasolacrimal Duct in Silent Sinus Syndrome
DESCRIPTION:Unavailable
URL:https://mecop.org/event/radiographic-changes-of-the-nasolacrimal-duct-in-silent-sinus-syndrome/
LOCATION:Peer Review
CATEGORIES:AMA
END:VEVENT
BEGIN:VEVENT
DTSTART;TZID=America/Chicago:20250425T080000
DTEND;TZID=America/Chicago:20250425T170000
DTSTAMP:20260424T023837
CREATED:20250504T125456Z
LAST-MODIFIED:20250707T151936Z
UID:62329-1745568000-1745600400@mecop.org
SUMMARY:Pediatric Associates Asthma Refresher Series: Asthma Guidelines
DESCRIPTION:
URL:https://mecop.org/event/pediatric-associates-asthma-training-series-asthma-guidelines/
LOCATION:Zoom
CATEGORIES:AMA
END:VEVENT
BEGIN:VEVENT
DTSTART;TZID=America/Chicago:20250424T080000
DTEND;TZID=America/Chicago:20250424T170000
DTSTAMP:20260424T023837
CREATED:20250502T165721Z
LAST-MODIFIED:20250507T192843Z
UID:62299-1745481600-1745514000@mecop.org
SUMMARY:SMG Risk Adjustment and New Provider Training
DESCRIPTION:Review Hierarchical Condition Category (HCC) Value Based Risk Adjustment model(s) and why it is important \nStronger understanding of the medical coding guidelines and regulations\, including compliance and the impact of diagnosis coding \nMindfulness to the auditing process for Center for Medicare and Medicaid Services (CMS) – HCC risk adjustment models and documenting and reporting chronic conditions yearly \nAwareness of “other” HCC Risk Models (Commercial\, Medicaid (TENNCARE))
URL:https://mecop.org/event/smg-risk-adjustment-and-new-provider-training-4/
CATEGORIES:AMA
END:VEVENT
BEGIN:VEVENT
DTSTART;TZID=America/Chicago:20250424T080000
DTEND;TZID=America/Chicago:20250424T170000
DTSTAMP:20260424T023837
CREATED:20250421T211832Z
LAST-MODIFIED:20250520T115738Z
UID:62182-1745481600-1745514000@mecop.org
SUMMARY:Better Health Group Provider Bootcamp
DESCRIPTION:To discuss the impact of metabolic disorder on chronic conditions\, pathophysiology\, treatment and care plans.
URL:https://mecop.org/event/the-better-health-group-educational-series/
LOCATION:Zoom
CATEGORIES:AMA
END:VEVENT
END:VCALENDAR