BEGIN:VCALENDAR
VERSION:2.0
PRODID:-//Mecop - ECPv6.5.1.5//NONSGML v1.0//EN
CALSCALE:GREGORIAN
METHOD:PUBLISH
X-WR-CALNAME:Mecop
X-ORIGINAL-URL:https://mecop.org
X-WR-CALDESC:Events for Mecop
REFRESH-INTERVAL;VALUE=DURATION:PT1H
X-Robots-Tag:noindex
X-PUBLISHED-TTL:PT1H
BEGIN:VTIMEZONE
TZID:America/Chicago
BEGIN:DAYLIGHT
TZOFFSETFROM:-0600
TZOFFSETTO:-0500
TZNAME:CDT
DTSTART:20260308T080000
END:DAYLIGHT
BEGIN:STANDARD
TZOFFSETFROM:-0500
TZOFFSETTO:-0600
TZNAME:CST
DTSTART:20261101T070000
END:STANDARD
END:VTIMEZONE
BEGIN:VEVENT
DTSTART;TZID=America/Chicago:20260226T080000
DTEND;TZID=America/Chicago:20260226T170000
DTSTAMP:20260419T125501
CREATED:20260328T154337Z
LAST-MODIFIED:20260328T154342Z
UID:67936-1772092800-1772125200@mecop.org
SUMMARY:PEEP Risk Adjustment and Stranger Things
DESCRIPTION:See content.
URL:https://mecop.org/event/peep-risk-adjustment-and-stranger-things-2/
LOCATION:Internet Enduring Material
CATEGORIES:AMA
END:VEVENT
BEGIN:VEVENT
DTSTART;TZID=America/Chicago:20260226T080000
DTEND;TZID=America/Chicago:20260226T170000
DTSTAMP:20260419T125501
CREATED:20260328T154108Z
LAST-MODIFIED:20260328T154113Z
UID:67934-1772092800-1772125200@mecop.org
SUMMARY:PEEP Risk Adjustment and the Top Gun Tips for Coding Cancer
DESCRIPTION:Review CMS-HCC risk adjustment model and why it is important\nReview specific official ICD-10-CM coding guidelines and how they are applied for HCC diagnosis coding\nIdentify elements of the medical record that help support the validation of an HCC diagnosis condition\nIdentify documentation deficiencies for specific conditions
URL:https://mecop.org/event/peep-risk-adjustment-and-the-top-gun-tips-for-coding-cancer-4/
LOCATION:Internet Enduring Material
CATEGORIES:AMA
END:VEVENT
BEGIN:VEVENT
DTSTART;TZID=America/Chicago:20260226T080000
DTEND;TZID=America/Chicago:20260226T170000
DTSTAMP:20260419T125501
CREATED:20260319T214105Z
LAST-MODIFIED:20260319T214112Z
UID:67825-1772092800-1772125200@mecop.org
SUMMARY:NFO Business of Medicine Web Series: Protecting Your Medical License
DESCRIPTION:Protecting Your Medical License – Understanding the Department of Health Investigation Process \nAt the end of the session\, participants will be able to:\n1. Understand applicable laws and rules for licensees.\n2. Knowledge of investigation and disciplinary process of the Department of Health and the various regulatory boards.\n3. Where to find the laws and rules you may need.
URL:https://mecop.org/event/nfo-business-of-medicine-web-series-protecting-your-medical-license/
LOCATION:Internet Live Webcast
CATEGORIES:AMA
END:VEVENT
BEGIN:VEVENT
DTSTART;TZID=America/Chicago:20260226T080000
DTEND;TZID=America/Chicago:20260226T170000
DTSTAMP:20260419T125501
CREATED:20260305T184509Z
LAST-MODIFIED:20260305T184509Z
UID:67608-1772092800-1772125200@mecop.org
SUMMARY:Pediatric Associates PACE Meeting
DESCRIPTION:Unavailable
URL:https://mecop.org/event/pediatric-associates-pace-meeting-64/
LOCATION:Virtual
CATEGORIES:AMA
END:VEVENT
BEGIN:VEVENT
DTSTART;TZID=America/Chicago:20260226T080000
DTEND;TZID=America/Chicago:20260226T170000
DTSTAMP:20260419T125501
CREATED:20260302T153419Z
LAST-MODIFIED:20260331T162400Z
UID:67545-1772092800-1772125200@mecop.org
SUMMARY:East Tennessee Opioid Conference
DESCRIPTION:At the conclusion of this day-long conference\, learners will be able to:\nOutline innovations in the treatment of pain.\nDiscuss the Montgomery County Veterans Treatment Court and its impact on veteran recovery.\nDiscuss the latest trends law enforcement are encountering in the Tennessee Metro Area and potential implications in healthcare.\nDiscuss the reward center of the brain and outline evidence-based tools to help addicts rebalance their brains for recovery.\nOutline the TN state requirements for controlled substance prescribing and describe the Know More Campaign and its projected impact on providers.\nDiscuss clinical trials surrounding neuromodulation as an adjunctive therapy for opioid and substance use disorders.\nOutline the evidence supporting current guideline recommendations for opioid use disorder in pregnancy\, including screening\, treatment\, and postpartum care interventions.
URL:https://mecop.org/event/east-tennessee-opioid-conference-2/
LOCATION:Live Course
CATEGORIES:AMA
END:VEVENT
BEGIN:VEVENT
DTSTART;TZID=America/Chicago:20260226T053000
DTEND;TZID=America/Chicago:20260226T203000
DTSTAMP:20260419T125501
CREATED:20260129T101203Z
LAST-MODIFIED:20260319T161910Z
UID:67065-1772083800-1772137800@mecop.org
SUMMARY:Pediatric Associates PACE Meeting
DESCRIPTION:Acute Infectious Respiratory Conditions \nDifferentiate viral\, bacterial\, and atypical etiologies of common pediatric respiratory infections.\nApply evidence-based diagnostic criteria to distinguish between clinical presentations.\nImplement guideline-concordant management strategies emphasizing supportive care and antibiotic stewardship.\nEvaluate controversial topics using current evidence to guide clinical decision-making.\nEstablish appropriate follow-up and referral criteria for complicated or recurrent respiratory infections \nRiding the Ferrous Wheel: Managing Iron Deficiency Anemia \nBackground on Anemia\nInitial workup of anemia in the general pediatric setting mainly iron def anemia\nWhen to treat versus when to also refer\nEvaluation of refractory anemia\nDistinguishing iron deficiency anemia from alpha thalassemia trait
URL:https://mecop.org/event/pediatric-associates-pace-meeting-62/
LOCATION:Virtual
CATEGORIES:AMA
END:VEVENT
BEGIN:VEVENT
DTSTART;TZID=America/Chicago:20260225T183000
DTEND;TZID=America/Chicago:20260225T203000
DTSTAMP:20260419T125501
CREATED:20251020T194207Z
LAST-MODIFIED:20260320T112909Z
UID:65047-1772044200-1772051400@mecop.org
SUMMARY:FSU-Orlando
DESCRIPTION:Objectives: \nPresentation #1 \nAt the end of the educational activity\, participants should: \nBe able to identify Highly Effective Modulator Therapy (HEMT) for Cystic Fibrosis (CF) patients \nBe able to explain the newborn screening process for CF in Florida and interpret the result for patients with disease versus gene carrier \nBe able to explain to parents the excellent prognosis for CF patients and know when to refer a patient to a CF Specialty Care center \nPresentation #2 \nAt the end of the educational activity\, participants should: \nBe able to describe the Pediatric Clerkship General Overview \nBe able to explain the ARCH model for student feedback \nBe able to explain the role and importance of narrative comments in competency-based medical education (CBME)
URL:https://mecop.org/event/2026-annual-pediatric-faculty-meeting/
LOCATION:Orlando\, Florida
CATEGORIES:AMA
END:VEVENT
BEGIN:VEVENT
DTSTART;TZID=America/Chicago:20260225T174500
DTEND;TZID=America/Chicago:20260225T194500
DTSTAMP:20260419T125501
CREATED:20260128T142213Z
LAST-MODIFIED:20260311T130927Z
UID:67041-1772041500-1772048700@mecop.org
SUMMARY:FSU-Ft. Pierce
DESCRIPTION:1.    Identify learning objectives you can help the FSUCOM student accomplish\,\n2.   Describe 3 features of the FSU COM curriculum\n3.   List the three characteristics/skills of effective clinical teachers that you feel are particularly important.\n4.  List one characteristic that you feel you need to enhance and one characteristic/skill you feel is a strength .\n5.   Describe the wave model.\n6.   Describe how to provide an orientation to a student\n      arriving at your office or clinical setting.\n7.   Describe the ARCH model for giving student feedback\n8.   Describe the wave model.\n9.   Describe how to provide an orientation to a student\n       arriving at your office or clinical setting.\n10.  Describe the ARCH model for giving student feedback.
URL:https://mecop.org/event/fsu-ft-pierce-197/
LOCATION:Fort Pierce Regional Campus\, 1200 W International Speedway Blvd #101\, Daytona Beach\, FL\, 32114\, United States
CATEGORIES:AMA
END:VEVENT
BEGIN:VEVENT
DTSTART;TZID=America/Chicago:20260225T120000
DTEND;TZID=America/Chicago:20260225T130000
DTSTAMP:20260419T125501
CREATED:20260219T210835Z
LAST-MODIFIED:20260311T134227Z
UID:67447-1772020800-1772024400@mecop.org
SUMMARY:MUSM Rural Autism ECHO: Strategies for Improving Healthcare for Autistic Patients in Rural Georgia
DESCRIPTION:Provide introduction to common medications used in the treatment of autistic patients\n-Primary focus on children \nIdentify the lack of evidence to base clinical decision making regarding common medications \nConstruct a framework to identify specific symptoms to target our treatment strategies
URL:https://mecop.org/event/musm-rural-autism-echo-strategies-for-improving-healthcare-for-autistic-patients-in-rural-georgia-3/
LOCATION:Virtual
CATEGORIES:AMA
END:VEVENT
BEGIN:VEVENT
DTSTART;TZID=America/Chicago:20260225T080000
DTEND;TZID=America/Chicago:20260225T170000
DTSTAMP:20260419T125501
CREATED:20260328T164912Z
LAST-MODIFIED:20260328T172142Z
UID:67952-1772006400-1772038800@mecop.org
SUMMARY:PEEP The Cider House Rules of Risk Adjustment Models
DESCRIPTION:Review CMS-HCC risk adjustment model and why it is important\nReview specific official ICD-10-CM coding guidelines and how they are applied for HCC diagnosis coding\nIdentify elements of the medical record that help support the validation of an HCC diagnosis condition\nIdentify documentation deficiencies for specific conditions
URL:https://mecop.org/event/peep-the-cider-house-rules-of-risk-adjustment-models-4/
LOCATION:Internet Enduring Material
CATEGORIES:AMA
END:VEVENT
BEGIN:VEVENT
DTSTART;TZID=America/Chicago:20260225T080000
DTEND;TZID=America/Chicago:20260225T170000
DTSTAMP:20260419T125501
CREATED:20260328T163935Z
LAST-MODIFIED:20260328T163941Z
UID:67944-1772006400-1772038800@mecop.org
SUMMARY:PEEP Risk Adjustment and I Left My Heart Conditions in San Francisco
DESCRIPTION:Gain understanding of risk adjustment methodology and its role in Value Based Care models.\nReview specific official ICD-10-CM coding guidelines and how they are applied to diagnosis coding and reporting.\nIdentify elements of the medical record that help support the validation of reported conditions.\nIdentify documentation deficiencies for specific conditions.
URL:https://mecop.org/event/peep-risk-adjustment-and-i-left-my-heart-conditions-in-san-francisco/
LOCATION:Internet Enduring Material
CATEGORIES:AMA
END:VEVENT
BEGIN:VEVENT
DTSTART;TZID=America/Chicago:20260225T080000
DTEND;TZID=America/Chicago:20260225T170000
DTSTAMP:20260419T125501
CREATED:20260305T152629Z
LAST-MODIFIED:20260305T152635Z
UID:67601-1772006400-1772038800@mecop.org
SUMMARY:Community Medical Services Provider Manual: Addiction Primer
DESCRIPTION:See content.
URL:https://mecop.org/event/community-medical-services-provider-manual-addiction-primer-20/
LOCATION:Enduring Material
CATEGORIES:AMA
END:VEVENT
BEGIN:VEVENT
DTSTART;TZID=America/Chicago:20260225T080000
DTEND;TZID=America/Chicago:20260225T170000
DTSTAMP:20260419T125501
CREATED:20260225T145652Z
LAST-MODIFIED:20260225T145652Z
UID:67503-1772006400-1772038800@mecop.org
SUMMARY:General Adult Tumor Board 2026
DESCRIPTION:Unavailable
URL:https://mecop.org/event/general-adult-tumor-board-2026-5/
LOCATION:Ascension Sacred Heart Hospital\, FL
CATEGORIES:AMA
END:VEVENT
BEGIN:VEVENT
DTSTART;TZID=America/Chicago:20260224T070000
DTEND;TZID=America/Chicago:20260224T080000
DTSTAMP:20260419T125501
CREATED:20260225T112959Z
LAST-MODIFIED:20260328T190920Z
UID:67501-1771916400-1771920000@mecop.org
SUMMARY:Baldwin Health Tumor Board
DESCRIPTION:
URL:https://mecop.org/event/baldwin-health-tumor-board-14/
LOCATION:West Wing Conference Room
CATEGORIES:AMA
END:VEVENT
BEGIN:VEVENT
DTSTART;TZID=America/Chicago:20260222T080000
DTEND;TZID=America/Chicago:20260222T170000
DTSTAMP:20260419T125501
CREATED:20260223T151447Z
LAST-MODIFIED:20260223T152637Z
UID:67482-1771747200-1771779600@mecop.org
SUMMARY:Advanced Aesthetics with Injector Coach Institute
DESCRIPTION:Upon completion\, learners will:\nAssess and place lower face neuromodulators and neuromodulators for medical necessity\nPlace and inject dermal filler for tear troughs\, temples\, brow bone\, jaw and chin\nSelect\, place and utilize cannulas effectively
URL:https://mecop.org/event/advanced-aesthetics-with-injector-coach-institute-3/
LOCATION:Live Course
CATEGORIES:AMA
END:VEVENT
BEGIN:VEVENT
DTSTART;TZID=America/Chicago:20260221T080000
DTEND;TZID=America/Chicago:20260221T170000
DTSTAMP:20260419T125501
CREATED:20260327T214106Z
LAST-MODIFIED:20260327T220612Z
UID:67902-1771660800-1771693200@mecop.org
SUMMARY:Management of Obesity in Adults ACT
DESCRIPTION:See content.
URL:https://mecop.org/event/management-of-obesity-in-adults-act-8/
LOCATION:Enduring Material
CATEGORIES:AMA
END:VEVENT
BEGIN:VEVENT
DTSTART;TZID=America/Chicago:20260221T080000
DTEND;TZID=America/Chicago:20260221T170000
DTSTAMP:20260419T125501
CREATED:20260327T213908Z
LAST-MODIFIED:20260327T213914Z
UID:67900-1771660800-1771693200@mecop.org
SUMMARY:Asthma (Adults\, Adolescents and Children) ACT
DESCRIPTION:See content.
URL:https://mecop.org/event/asthma-adults-adolescents-and-children-act-6/
LOCATION:Enduring Material
CATEGORIES:AMA
END:VEVENT
BEGIN:VEVENT
DTSTART;TZID=America/Chicago:20260221T080000
DTEND;TZID=America/Chicago:20260221T170000
DTSTAMP:20260419T125501
CREATED:20260225T204014Z
LAST-MODIFIED:20260226T163437Z
UID:67508-1771660800-1771693200@mecop.org
SUMMARY:Asthma Knowledge Self-Assessment
DESCRIPTION:Unavailable
URL:https://mecop.org/event/asthma-knowledge-self-assessment/
LOCATION:Enduring Material
CATEGORIES:AMA
END:VEVENT
BEGIN:VEVENT
DTSTART;TZID=America/Chicago:20260221T080000
DTEND;TZID=America/Chicago:20260221T170000
DTSTAMP:20260419T125501
CREATED:20260223T145133Z
LAST-MODIFIED:20260223T145443Z
UID:67479-1771660800-1771693200@mecop.org
SUMMARY:Neurotoxin Training
DESCRIPTION:Discuss the FDA-approved and off-label uses of neurotoxin. \nOutline proper product preparation and placement. \nDiscuss facial anatomy\, contraindications and patient consult. \nDemonstrate proper preparation\, patient consultation\, technique and injection of neurotoxin.
URL:https://mecop.org/event/neurotoxin-training/
LOCATION:Watt Plastic Surgery
CATEGORIES:AMA
END:VEVENT
BEGIN:VEVENT
DTSTART;TZID=America/Chicago:20260220T080000
DTEND;TZID=America/Chicago:20260220T170000
DTSTAMP:20260419T125501
CREATED:20260302T150048Z
LAST-MODIFIED:20260302T150048Z
UID:67539-1771574400-1771606800@mecop.org
SUMMARY:FSU Essentials for Inpatient Teaching Rounds: From Classroom to Bedside Module
DESCRIPTION:Unavailable
URL:https://mecop.org/event/fsu-essentials-for-inpatient-teaching-rounds-from-classroom-to-bedside-module-6/
LOCATION:Enduring Material
CATEGORIES:AMA
END:VEVENT
BEGIN:VEVENT
DTSTART;TZID=America/Chicago:20260220T080000
DTEND;TZID=America/Chicago:20260220T170000
DTSTAMP:20260419T125501
CREATED:20260223T201642Z
LAST-MODIFIED:20260223T201835Z
UID:67488-1771574400-1771606800@mecop.org
SUMMARY:CME Credit Transcript
DESCRIPTION:Unavailable
URL:https://mecop.org/event/cme-credit-transcript-4/
LOCATION:Enduring materials
CATEGORIES:AMA
END:VEVENT
BEGIN:VEVENT
DTSTART;TZID=America/Chicago:20260219T080000
DTEND;TZID=America/Chicago:20260219T170000
DTSTAMP:20260419T125501
CREATED:20260326T155119Z
LAST-MODIFIED:20260415T143809Z
UID:67871-1771488000-1771520400@mecop.org
SUMMARY:SMG 2026 Annual Provider Risk Adjustment Documentation and Coding Training
DESCRIPTION:Review Hierarchical Condition Category (HCC) Value Based Risk Adjustment model(s) and why it is important\nStronger understanding of the medical coding guidelines and regulations\, including compliance and the impact of diagnosis coding\nMindfulness to the auditing process for Center for Medicare and Medicaid Services (CMS) – HCC risk adjustment models and documenting and reporting chronic conditions yearly\nAwareness of “other” HCC Risk Models (Commercial\, Medicaid\, TENCARE)
URL:https://mecop.org/event/smg-2026-annual-provider-risk-adjustment-documentation-and-coding-training-6/
LOCATION:Internet Live Webcast
CATEGORIES:AMA
END:VEVENT
BEGIN:VEVENT
DTSTART;TZID=America/Chicago:20260219T080000
DTEND;TZID=America/Chicago:20260219T170000
DTSTAMP:20260419T125501
CREATED:20260319T214752Z
LAST-MODIFIED:20260319T215047Z
UID:67827-1771488000-1771520400@mecop.org
SUMMARY:NFO Business of Medicine Web Series: Incident Reporting and Service Recovery
DESCRIPTION:A short overview of the Florida law regarding physician reporting requirements to the Department of Health when an adverse event resulting in certain types of patient harm occurs in a physician office or ASC. \nAt the end of the session\, participants will be able to:\n1. Understand what constitutes a reportable adverse office event per Florida law\, involving physicians or allied health professionals.\n2. How to report such events and other required actions.\n3. Impact of reporting on office practice and consequences if events are not reported.
URL:https://mecop.org/event/nfo-business-of-medicine-web-series-incident-reporting-and-service-recovery-2/
LOCATION:Internet Live Webcast
CATEGORIES:AMA
END:VEVENT
BEGIN:VEVENT
DTSTART;TZID=America/Chicago:20260219T080000
DTEND;TZID=America/Chicago:20260219T170000
DTSTAMP:20260419T125501
CREATED:20260220T191922Z
LAST-MODIFIED:20260220T223837Z
UID:67457-1771488000-1771520400@mecop.org
SUMMARY:Risk Adjustment and I Left My Heart Conditions in San Francisco
DESCRIPTION:Gain understanding of risk adjustment methodology and its role in Value Based Care models.\nReview specific official ICD-10-CM coding guidelines and how they are applied to diagnosis coding and reporting.\nIdentify elements of the medical record that help support the validation of reported conditions.\nIdentify documentation deficiencies for specific conditions.
URL:https://mecop.org/event/risk-adjustment-and-i-left-my-heart-issues-in-san-francisco/
LOCATION:Internet Live Webcast
CATEGORIES:AMA
END:VEVENT
BEGIN:VEVENT
DTSTART;TZID=America/Chicago:20260218T123000
DTEND;TZID=America/Chicago:20260218T133000
DTSTAMP:20260419T125501
CREATED:20260119T212916Z
LAST-MODIFIED:20260223T151945Z
UID:66903-1771417800-1771421400@mecop.org
SUMMARY:MUSM Internal Medicine Grand Rounds
DESCRIPTION:Provide a framework for the disparities and issues that plague approach to clinical encounters with varying identities in medicine; particularly transgender individuals \nOutline and discuss current gender affirming medical and surgical interventions \nDiscuss management of transgender individuals in regards to hormones and prior past medical history \nDiscuss preventative health of transgender individuals
URL:https://mecop.org/event/musm-internal-medicine-grand-rounds-4/
LOCATION:Live Activity
CATEGORIES:AMA
END:VEVENT
BEGIN:VEVENT
DTSTART;TZID=America/Chicago:20260218T080000
DTEND;TZID=America/Chicago:20260218T170000
DTSTAMP:20260419T125501
CREATED:20260328T165209Z
LAST-MODIFIED:20260328T180846Z
UID:67954-1771401600-1771434000@mecop.org
SUMMARY:PEEP Risk Adjustment and The Force Awakens Behavioral Health Part 2
DESCRIPTION:See content.
URL:https://mecop.org/event/peep-risk-adjustment-and-the-force-awakens-behavioral-health-part-2-5/
LOCATION:Internet Enduring Material
CATEGORIES:AMA
END:VEVENT
BEGIN:VEVENT
DTSTART;TZID=America/Chicago:20260218T080000
DTEND;TZID=America/Chicago:20260218T170000
DTSTAMP:20260419T125501
CREATED:20260313T143219Z
LAST-MODIFIED:20260313T143225Z
UID:67725-1771401600-1771434000@mecop.org
SUMMARY:2026 APGO Clerkship Directors School 301
DESCRIPTION:Compare and contrast the usage of AI in student clinical assignments\nOutline recent changes in the residency application process\nDiscuss common add-on responsibilities (extracurricular groups like OBGYN Interest Groups or advising; how to best manage student mistreatment concerns; and the incorporation of professionalism expectations with absence concerns) for clerkship directors\nShare grading structures and fair assessments of learners\nLearn about motivating teaching faculty\, mediating grade disputes\, and learning about student\naccommodations\nReiterate APGO resources to support faculty career development within OBGYN medical education
URL:https://mecop.org/event/2026-apgo-clerkship-directors-school-301/
LOCATION:Live Course
CATEGORIES:AMA
END:VEVENT
BEGIN:VEVENT
DTSTART;TZID=America/Chicago:20260218T080000
DTEND;TZID=America/Chicago:20260218T170000
DTSTAMP:20260419T125501
CREATED:20260221T220945Z
LAST-MODIFIED:20260221T220945Z
UID:67470-1771401600-1771434000@mecop.org
SUMMARY:FSU Letters of Recommendation Module
DESCRIPTION:Unavailable
URL:https://mecop.org/event/fsu-letters-of-recommendation-module-25/
LOCATION:Enduring Activity
CATEGORIES:AMA
END:VEVENT
BEGIN:VEVENT
DTSTART;TZID=America/Chicago:20260218T080000
DTEND;TZID=America/Chicago:20260218T170000
DTSTAMP:20260419T125501
CREATED:20260219T135849Z
LAST-MODIFIED:20260219T135849Z
UID:67432-1771401600-1771434000@mecop.org
SUMMARY:General Adult Tumor Board 2026
DESCRIPTION:Unavailble
URL:https://mecop.org/event/general-adult-tumor-board-2026-4/
LOCATION:Ascension Sacred Heart Hospital\, FL
CATEGORIES:AMA
END:VEVENT
BEGIN:VEVENT
DTSTART;TZID=America/Chicago:20260217T120000
DTEND;TZID=America/Chicago:20260217T130000
DTSTAMP:20260419T125501
CREATED:20260210T181736Z
LAST-MODIFIED:20260220T221016Z
UID:67274-1771329600-1771333200@mecop.org
SUMMARY:FLORIDA SBIRT BH IMPACT Trauma Informed Care Training
DESCRIPTION:•	Describe the incidence and risk factors for perinatal depression\n•	Explain appropriate screening and management of perinatal depression\n•	Identify risk factors associated with use of psychotropic medications in pregnancy and lactation\n•	Discuss sequelae of untreated mood disorders in the postpartum period\n•	Explain the criteria for appropriate diagnosis of common anxiety disorders\n•	Identify appropriate treatment modalities for common anxiety disorders\n•	Learn relevant drug interactions\n•	Discuss BH IMPACT’s role in helping clinicians manage anxiety in the perinatal patient
URL:https://mecop.org/event/florida-bh-impact-trauma-informed-care-training/
LOCATION:Virtual
CATEGORIES:AMA
END:VEVENT
END:VCALENDAR