BEGIN:VCALENDAR
VERSION:2.0
PRODID:-//Mecop - ECPv6.5.1.5//NONSGML v1.0//EN
CALSCALE:GREGORIAN
METHOD:PUBLISH
X-WR-CALNAME:Mecop
X-ORIGINAL-URL:https://mecop.org
X-WR-CALDESC:Events for Mecop
REFRESH-INTERVAL;VALUE=DURATION:PT1H
X-Robots-Tag:noindex
X-PUBLISHED-TTL:PT1H
BEGIN:VTIMEZONE
TZID:America/Chicago
BEGIN:DAYLIGHT
TZOFFSETFROM:-0600
TZOFFSETTO:-0500
TZNAME:CDT
DTSTART:20260308T080000
END:DAYLIGHT
BEGIN:STANDARD
TZOFFSETFROM:-0500
TZOFFSETTO:-0600
TZNAME:CST
DTSTART:20261101T070000
END:STANDARD
END:VTIMEZONE
BEGIN:VEVENT
DTSTART;TZID=America/Chicago:20260128T120000
DTEND;TZID=America/Chicago:20260128T130000
DTSTAMP:20260420T011117
CREATED:20260102T095022Z
LAST-MODIFIED:20260204T214543Z
UID:66582-1769601600-1769605200@mecop.org
SUMMARY:MUSM Rural Autism ECHO: Strategies for Improving Healthcare for Autistic Patients in Rural Georgia
DESCRIPTION:1. IDEA/ADA\n2. IEP/504\n3. Behavior/Social/Emotional Support\n4. Strategies in the Classroom
URL:https://mecop.org/event/rural-autism-echo-strategies-for-improving-healthcare-for-autistic-patients-in-rural-georgia-2/
LOCATION:Virtual
CATEGORIES:AMA
END:VEVENT
BEGIN:VEVENT
DTSTART;TZID=America/Chicago:20260128T080000
DTEND;TZID=America/Chicago:20260128T170000
DTSTAMP:20260420T011117
CREATED:20260328T181723Z
LAST-MODIFIED:20260328T181728Z
UID:67971-1769587200-1769619600@mecop.org
SUMMARY:PEEP Risk Adjustment and The Heart of Rock n Roll and Arrhythmias
DESCRIPTION:Review CMS-HCC risk adjustment model and why it is important\nReview specific official ICD-10-CM coding guidelines and how they are applied for HCC diagnosis coding\nIdentify elements of the medical record that help support the validation of an HCC diagnosis condition\nIdentify documentation deficiencies for specific conditions
URL:https://mecop.org/event/peep-risk-adjustment-and-the-heart-of-rock-n-roll-and-arrhythmias-6/
LOCATION:Internet Enduring Material
CATEGORIES:AMA
END:VEVENT
BEGIN:VEVENT
DTSTART;TZID=America/Chicago:20260128T080000
DTEND;TZID=America/Chicago:20260128T170000
DTSTAMP:20260420T011117
CREATED:20260120T155707Z
LAST-MODIFIED:20260202T161232Z
UID:66922-1769587200-1769619600@mecop.org
SUMMARY:Cerumen and Ear Foreign-Body Removal Course
DESCRIPTION:Assess pediatric and adult patients who present with ear concerns relating to cerumen impaction and foreign bodies. \nDetermine the best method for retrieval or irrigation. \nUtilize the irrigation tools safely and effectively to remove cerumen and ear foreign bodies. \nAssess risk and refer appropriately. \nApply the appropriate ICD-10 and CPT codes for cerumen and foreign body removal diagnostics and procedures.
URL:https://mecop.org/event/cerumen-and-ear-foreign-body-removal-course/
LOCATION:Internet Enduring Material
CATEGORIES:AMA
END:VEVENT
BEGIN:VEVENT
DTSTART;TZID=America/Chicago:20260127T180000
DTEND;TZID=America/Chicago:20260127T200000
DTSTAMP:20260420T011117
CREATED:20260115T161929Z
LAST-MODIFIED:20260210T213643Z
UID:66844-1769536800-1769544000@mecop.org
SUMMARY:FSU-Daytona Beach
DESCRIPTION:Identify the subscription medical apps available\nIdentify the mobile friendly library subscription resources available thru the mobile friendly library site\nRegister and install subscription medical apps\nIdentify highly recommended free and inexpensive medical apps\nUse the basic navigation tools of the primary apps\nGet help loading the medical applications provided by the College of Medicine to its faculty/students/residents
URL:https://mecop.org/event/florida-state-university-college-of-mediicine/
LOCATION:Zoom
CATEGORIES:AMA
END:VEVENT
BEGIN:VEVENT
DTSTART;TZID=America/Chicago:20260126T080000
DTEND;TZID=America/Chicago:20260126T170000
DTSTAMP:20260420T011117
CREATED:20260327T215855Z
LAST-MODIFIED:20260327T215901Z
UID:67920-1769414400-1769446800@mecop.org
SUMMARY:Value-Based Prescribing ACT
DESCRIPTION:See content.
URL:https://mecop.org/event/value-based-prescribing-act-7/
LOCATION:Internet Enduring Material
CATEGORIES:AMA
END:VEVENT
BEGIN:VEVENT
DTSTART;TZID=America/Chicago:20260126T080000
DTEND;TZID=America/Chicago:20260126T170000
DTSTAMP:20260420T011117
CREATED:20260327T215716Z
LAST-MODIFIED:20260327T215723Z
UID:67918-1769414400-1769446800@mecop.org
SUMMARY:Urinary Incontinence in Adults ACT
DESCRIPTION:See content.
URL:https://mecop.org/event/urinary-incontinence-in-adults-act-7/
LOCATION:Internet Enduring Material
CATEGORIES:AMA
END:VEVENT
BEGIN:VEVENT
DTSTART;TZID=America/Chicago:20260126T080000
DTEND;TZID=America/Chicago:20260126T170000
DTSTAMP:20260420T011117
CREATED:20260327T214705Z
LAST-MODIFIED:20260327T214712Z
UID:67906-1769414400-1769446800@mecop.org
SUMMARY:Asthma (Adults\, Adolescents and Children) ACT
DESCRIPTION:see content.
URL:https://mecop.org/event/asthma-adults-adolescents-and-children-act-7/
LOCATION:Enduring Material
CATEGORIES:AMA
END:VEVENT
BEGIN:VEVENT
DTSTART;TZID=America/Chicago:20260126T080000
DTEND;TZID=America/Chicago:20260126T170000
DTSTAMP:20260420T011117
CREATED:20260327T214514Z
LAST-MODIFIED:20260327T214520Z
UID:67904-1769414400-1769446800@mecop.org
SUMMARY:Basic Coding and Documentation Principles (BCD) ACT
DESCRIPTION:See content.
URL:https://mecop.org/event/basic-coding-and-documentation-principles-bcd-act-7/
LOCATION:Enduring Material
CATEGORIES:AMA
END:VEVENT
BEGIN:VEVENT
DTSTART;TZID=America/Chicago:20260126T080000
DTEND;TZID=America/Chicago:20260126T170000
DTSTAMP:20260420T011117
CREATED:20260201T181939Z
LAST-MODIFIED:20260201T182042Z
UID:67145-1769414400-1769446800@mecop.org
SUMMARY:Management of Opioid Use Disorder
DESCRIPTION:Unavailable
URL:https://mecop.org/event/management-of-opioid-use-disorder/
LOCATION:Journal based CME activity
CATEGORIES:AMA
END:VEVENT
BEGIN:VEVENT
DTSTART;TZID=America/Chicago:20260126T080000
DTEND;TZID=America/Chicago:20260126T170000
DTSTAMP:20260420T011117
CREATED:20260201T181511Z
LAST-MODIFIED:20260201T181608Z
UID:67142-1769414400-1769446800@mecop.org
SUMMARY:GLP-1 Therapies for Addiction and Mental Health Comorbidities
DESCRIPTION:Unavailable
URL:https://mecop.org/event/glp-1-therapies-for-addiction-and-mental-health-comorbidities/
LOCATION:Journal based CME activity
CATEGORIES:AMA
END:VEVENT
BEGIN:VEVENT
DTSTART;TZID=America/Chicago:20260126T080000
DTEND;TZID=America/Chicago:20260126T170000
DTSTAMP:20260420T011117
CREATED:20260201T175135Z
LAST-MODIFIED:20260201T175253Z
UID:67125-1769414400-1769446800@mecop.org
SUMMARY:Restless Legs Syndrome: A Review
DESCRIPTION:Unavailable
URL:https://mecop.org/event/restless-legs-syndrome-a-review/
LOCATION:Journal based CME activity
CATEGORIES:AMA
END:VEVENT
BEGIN:VEVENT
DTSTART;TZID=America/Chicago:20260123T080000
DTEND;TZID=America/Chicago:20260124T170000
DTSTAMP:20260420T011117
CREATED:20260126T173535Z
LAST-MODIFIED:20260126T174308Z
UID:67019-1769155200-1769274000@mecop.org
SUMMARY:Method Aesthetics Academy: Level 1 Training
DESCRIPTION:Demonstrate competency in facial anatomy as it pertains to placement of botulinium toxin and filler. Demonstrate competence in neurotoxin and filler. Perform proper placement and injection of neurotoxin and filler for glabella\, frontalis and crow’s feet\, as well as cheeks\, lips and nasolabial folds.
URL:https://mecop.org/event/method-aesthetics-academy-level-1-training-11/
LOCATION:Mela MedSpa
CATEGORIES:AMA
END:VEVENT
BEGIN:VEVENT
DTSTART;TZID=America/Chicago:20260123T080000
DTEND;TZID=America/Chicago:20260123T170000
DTSTAMP:20260420T011117
CREATED:20260305T160232Z
LAST-MODIFIED:20260305T160232Z
UID:67606-1769155200-1769187600@mecop.org
SUMMARY:2026 Faculty Teaching Credits Special Topics in Pediatrics
DESCRIPTION:Unavailable
URL:https://mecop.org/event/2026-faculty-teaching-credits-special-topics-in-pediatrics/
LOCATION:Fort Pierce Regional Campus\, 1200 W International Speedway Blvd #101\, Daytona Beach\, FL\, 32114\, United States
CATEGORIES:AMA
END:VEVENT
BEGIN:VEVENT
DTSTART;TZID=America/Chicago:20260122T080000
DTEND;TZID=America/Chicago:20260122T170000
DTSTAMP:20260420T011117
CREATED:20260327T220207Z
LAST-MODIFIED:20260327T220214Z
UID:67924-1769068800-1769101200@mecop.org
SUMMARY:Advance Care Planning ACT
DESCRIPTION:See content.
URL:https://mecop.org/event/advance-care-planning-act-9/
LOCATION:Internet Enduring Material
CATEGORIES:AMA
END:VEVENT
BEGIN:VEVENT
DTSTART;TZID=America/Chicago:20260122T080000
DTEND;TZID=America/Chicago:20260122T170000
DTSTAMP:20260420T011117
CREATED:20260327T220024Z
LAST-MODIFIED:20260327T220031Z
UID:67922-1769068800-1769101200@mecop.org
SUMMARY:Applying Basic Coding and Documentation Principles (ABCD) ACT
DESCRIPTION:Apply basic coding and documentation principles related to the CMS-HCC model to clinical notes.\nUtilize the ACTreference sheet as a systematic approach to identifying common geriatric conditions.\nUtilize the ACTreference sheet as a lookup reference to improve the accuracy of diagnosis coding.
URL:https://mecop.org/event/applying-basic-coding-and-documentation-principles-abcd-act-6/
LOCATION:Internet Enduring Material
CATEGORIES:AMA
END:VEVENT
BEGIN:VEVENT
DTSTART;TZID=America/Chicago:20260122T080000
DTEND;TZID=America/Chicago:20260122T170000
DTSTAMP:20260420T011117
CREATED:20260217T173142Z
LAST-MODIFIED:20260217T173147Z
UID:67383-1769068800-1769101200@mecop.org
SUMMARY:NFO Business of Medicine Web Series: Incident Reporting and Service Recovery
DESCRIPTION:This session will discuss various definitions of an “incident” and best practices in identifying and reporting events. We will also cover the ways in which incident reporting can add value to patient safety and quality programs and provide proper support to the patient and the healthcare practice. The program will end by working through examples of incidents and actions to take after they occur. \nAt the end of the session\, participants will be able to:\n1. Define an “incident” and distinguish it from the Florida “Adverse Event” reporting requirements.\n2. Provide examples of events to report and list best practices in incident reporting.\n3. Describe the benefits of reporting\, both for the patient and the healthcare providers.
URL:https://mecop.org/event/nfo-business-of-medicine-web-series-incident-reporting-and-service-recovery/
LOCATION:Internet Live Webcast
CATEGORIES:AMA
END:VEVENT
BEGIN:VEVENT
DTSTART;TZID=America/Chicago:20260122T080000
DTEND;TZID=America/Chicago:20260122T170000
DTSTAMP:20260420T011117
CREATED:20260201T180653Z
LAST-MODIFIED:20260201T180759Z
UID:67136-1769068800-1769101200@mecop.org
SUMMARY:CTC for Colorectal Cancer Prevention and Detection
DESCRIPTION:Unavailable
URL:https://mecop.org/event/ctc-for-colorectal-cancer-prevention-and-detection/
LOCATION:Enduring Activity
CATEGORIES:AMA
END:VEVENT
BEGIN:VEVENT
DTSTART;TZID=America/Chicago:20260122T080000
DTEND;TZID=America/Chicago:20260122T170000
DTSTAMP:20260420T011117
CREATED:20260122T230739Z
LAST-MODIFIED:20260122T230752Z
UID:66997-1769068800-1769101200@mecop.org
SUMMARY:Controlled Substance Prescribing and Medical Errors
DESCRIPTION:MECOP Online LMS Courses
URL:https://mecop.org/event/controlled-substance-prescribing-and-medical-errors/
LOCATION:Internet Enduring Material
CATEGORIES:MedErrors,Prescribing of Controlled Substances
END:VEVENT
BEGIN:VEVENT
DTSTART;TZID=America/Chicago:20260121T123000
DTEND;TZID=America/Chicago:20260121T133000
DTSTAMP:20260420T011117
CREATED:20260115T153545Z
LAST-MODIFIED:20260203T225045Z
UID:66832-1768998600-1769002200@mecop.org
SUMMARY:MUSM Internal Medicine Grand Rounds
DESCRIPTION:Diagnose gout accurately \nManage acute flares safely \nApply treat-to-target urate-lowering therapy \nRecognize refractory and advanced disease
URL:https://mecop.org/event/musm-internal-medicine-grand-rounds/
LOCATION:Live Activity
CATEGORIES:AMA
END:VEVENT
BEGIN:VEVENT
DTSTART;TZID=America/Chicago:20260121T080000
DTEND;TZID=America/Chicago:20260121T170000
DTSTAMP:20260420T011117
CREATED:20260203T185948Z
LAST-MODIFIED:20260203T190809Z
UID:67171-1768982400-1769014800@mecop.org
SUMMARY:Community Medical Services Provider Manual: Addiction Primer
DESCRIPTION:
URL:https://mecop.org/event/community-medical-services-provider-manual-addiction-primer-18/
LOCATION:Enduring Material
CATEGORIES:AMA
END:VEVENT
BEGIN:VEVENT
DTSTART;TZID=America/Chicago:20260121T080000
DTEND;TZID=America/Chicago:20260121T170000
DTSTAMP:20260420T011117
CREATED:20260128T161144Z
LAST-MODIFIED:20260312T154707Z
UID:67046-1768982400-1769014800@mecop.org
SUMMARY:Summit Medical Grand Rounds: Lung Cancer Screening and Lung Nodules
DESCRIPTION:Outline lung cancer statistics and screening guidelines\nDifferentiate between lung cancer nodules and lung masses\nDiscuss diagnostic workup\nOutline evidence-based treatment modalities\nDiscuss patient outcomes
URL:https://mecop.org/event/summit-medical-grand-rounds-lung-cancer-screening-and-lung-nodules/
LOCATION:Internet Live Webcast
CATEGORIES:AMA
END:VEVENT
BEGIN:VEVENT
DTSTART;TZID=America/Chicago:20260120T080000
DTEND;TZID=America/Chicago:20260120T170000
DTSTAMP:20260420T011117
CREATED:20260328T190228Z
LAST-MODIFIED:20260328T190234Z
UID:67984-1768896000-1768928400@mecop.org
SUMMARY:PEEP The Cider House Rules of Risk Adjustment Models
DESCRIPTION:Review CMS-HCC risk adjustment model and why it is important\nReview specific official ICD-10-CM coding guidelines and how they are applied for HCC diagnosis coding\nIdentify elements of the medical record that help support the validation of an HCC diagnosis condition\nIdentify documentation deficiencies for specific conditions
URL:https://mecop.org/event/peep-the-cider-house-rules-of-risk-adjustment-models-5/
LOCATION:Internet Enduring Material
CATEGORIES:AMA
END:VEVENT
BEGIN:VEVENT
DTSTART;TZID=America/Chicago:20260120T080000
DTEND;TZID=America/Chicago:20260120T170000
DTSTAMP:20260420T011117
CREATED:20260328T182158Z
LAST-MODIFIED:20260328T182205Z
UID:67975-1768896000-1768928400@mecop.org
SUMMARY:PEEP Risk Adjustment and the Top Gun Tips for Coding Cancer
DESCRIPTION:Review CMS-HCC risk adjustment model and why it is important\nReview specific official ICD-10-CM coding guidelines and how they are applied for HCC diagnosis coding\nIdentify elements of the medical record that help support the validation of an HCC diagnosis condition\nIdentify documentation deficiencies for specific conditions
URL:https://mecop.org/event/peep-risk-adjustment-and-the-top-gun-tips-for-coding-cancer-5/
LOCATION:Internet Enduring Material
CATEGORIES:AMA
END:VEVENT
BEGIN:VEVENT
DTSTART;TZID=America/Chicago:20260120T080000
DTEND;TZID=America/Chicago:20260120T170000
DTSTAMP:20260420T011117
CREATED:20260328T181940Z
LAST-MODIFIED:20260328T181946Z
UID:67973-1768896000-1768928400@mecop.org
SUMMARY:PEEP Risk Adjustment and Diners\, Drive-Ins and Dives for Your GI
DESCRIPTION:See content.
URL:https://mecop.org/event/peep-risk-adjustment-and-diners-drive-ins-and-dives-for-your-gi-7/
LOCATION:Internet Enduring Material
CATEGORIES:AMA
END:VEVENT
BEGIN:VEVENT
DTSTART;TZID=America/Chicago:20260120T080000
DTEND;TZID=America/Chicago:20260120T170000
DTSTAMP:20260420T011117
CREATED:20260121T165606Z
LAST-MODIFIED:20260122T224409Z
UID:66957-1768896000-1768928400@mecop.org
SUMMARY:CMS Monthly Provider Meeting
DESCRIPTION:Discussed policy explaining patient impairment and how to respond\nClarified telemedicine expectations on patient location at clinic only\nLearned how to register to become a recommended treatment provider for buprenorphine injectables\nReviewed changes in the final rule\nReview journal article discussing decreased OD risk when families have positive attitudes towards treatment\nIncreased competence when dealing with sedated patients.\nIncreased awareness of telemedicine regulations\nIncreased knowledge to the positive effect families can have on treatment
URL:https://mecop.org/event/cms-monthly-provider-meeting-19/
LOCATION:Internet Live Webcast
CATEGORIES:AMA
END:VEVENT
BEGIN:VEVENT
DTSTART;TZID=America/Chicago:20260120T080000
DTEND;TZID=America/Chicago:20260120T170000
DTSTAMP:20260420T011117
CREATED:20260106T121301Z
LAST-MODIFIED:20260212T120419Z
UID:66650-1768896000-1768928400@mecop.org
SUMMARY:Baldwin Health Tumor Board
DESCRIPTION:1. Review patient cases and all necessary findings (pathology\, radiology\, surgery\, etc.) and discuss key findings to determine course of treatment.\n2. Discuss implications amongst multidisciplinary team members\, and review best practices\, current\nevidence-based findings\, etc.\n3. Assign treatment protocols based on consensus of the multidisciplinary team.
URL:https://mecop.org/event/baldwin-health-tumor-board-13/
LOCATION:West Wing Conference Room
CATEGORIES:AMA
END:VEVENT
BEGIN:VEVENT
DTSTART;TZID=America/Chicago:20260119T080000
DTEND;TZID=America/Chicago:20260119T170000
DTSTAMP:20260420T011117
CREATED:20260328T190500Z
LAST-MODIFIED:20260328T190506Z
UID:67989-1768809600-1768842000@mecop.org
SUMMARY:PEEP Risk Adjustment and Bones - Inflammatory Musculoskeletal Conditions
DESCRIPTION:See content.
URL:https://mecop.org/event/peep-risk-adjustment-and-bones-inflammatory-musculoskeletal-conditions-3/
LOCATION:Internet Enduring Material
CATEGORIES:AMA
END:VEVENT
BEGIN:VEVENT
DTSTART;TZID=America/Chicago:20260119T080000
DTEND;TZID=America/Chicago:20260119T170000
DTSTAMP:20260420T011117
CREATED:20260122T143035Z
LAST-MODIFIED:20260122T143234Z
UID:66965-1768809600-1768842000@mecop.org
SUMMARY:FSU Essentials for Inpatient Teaching Rounds: From Classroom to Bedside Module
DESCRIPTION:Unavailable
URL:https://mecop.org/event/fsu-essentials-for-inpatient-teaching-rounds-from-classroom-to-bedside-module-5/
LOCATION:Enduring Activity
CATEGORIES:AMA
END:VEVENT
BEGIN:VEVENT
DTSTART;TZID=America/Chicago:20260118T080000
DTEND;TZID=America/Chicago:20260118T170000
DTSTAMP:20260420T011117
CREATED:20260328T191107Z
LAST-MODIFIED:20260328T191113Z
UID:67998-1768723200-1768755600@mecop.org
SUMMARY:PEEP Risk Adjustment and Stranger Things
DESCRIPTION:See content.
URL:https://mecop.org/event/peep-risk-adjustment-and-stranger-things-3/
LOCATION:Internet Enduring Material
CATEGORIES:AMA
END:VEVENT
BEGIN:VEVENT
DTSTART;TZID=America/Chicago:20260118T080000
DTEND;TZID=America/Chicago:20260118T170000
DTSTAMP:20260420T011117
CREATED:20260328T190716Z
LAST-MODIFIED:20260328T190722Z
UID:67992-1768723200-1768755600@mecop.org
SUMMARY:PEEP Risk Adjustment - Exploring the Matrix of Neurological Disease Coding
DESCRIPTION:Review CMS-HCC risk adjustment model and why it is important\nReview specific official ICD-10-CM coding guidelines and how they are applied for HCC diagnosis coding\nIdentify elements of the medical record that help support the validation of an HCC diagnosis condition\nIdentify documentation deficiencies for specific conditions
URL:https://mecop.org/event/peep-risk-adjustment-exploring-the-matrix-of-neurological-disease-coding-4/
LOCATION:Internet Enduring Material
CATEGORIES:AMA
END:VEVENT
END:VCALENDAR