BEGIN:VCALENDAR
VERSION:2.0
PRODID:-//Mecop - ECPv6.5.1.5//NONSGML v1.0//EN
CALSCALE:GREGORIAN
METHOD:PUBLISH
X-WR-CALNAME:Mecop
X-ORIGINAL-URL:https://mecop.org
X-WR-CALDESC:Events for Mecop
REFRESH-INTERVAL;VALUE=DURATION:PT1H
X-Robots-Tag:noindex
X-PUBLISHED-TTL:PT1H
BEGIN:VTIMEZONE
TZID:America/Chicago
BEGIN:DAYLIGHT
TZOFFSETFROM:-0600
TZOFFSETTO:-0500
TZNAME:CDT
DTSTART:20250309T080000
END:DAYLIGHT
BEGIN:STANDARD
TZOFFSETFROM:-0500
TZOFFSETTO:-0600
TZNAME:CST
DTSTART:20251102T070000
END:STANDARD
END:VTIMEZONE
BEGIN:VEVENT
DTSTART;TZID=America/Chicago:20250603T080000
DTEND;TZID=America/Chicago:20250603T170000
DTSTAMP:20260423T232706
CREATED:20250611T005555Z
LAST-MODIFIED:20250611T005600Z
UID:63222-1748937600-1748970000@mecop.org
SUMMARY:PEEP Risk Adjustment and Diners\, Drive-Ins and Dives for Your GI
DESCRIPTION:See content.
URL:https://mecop.org/event/peep-risk-adjustment-and-diners-drive-ins-and-dives-for-your-gi/
LOCATION:Internet Enduring Material
CATEGORIES:AMA
END:VEVENT
BEGIN:VEVENT
DTSTART;TZID=America/Chicago:20250602T080000
DTEND;TZID=America/Chicago:20250602T170000
DTSTAMP:20260423T232706
CREATED:20251103T222449Z
LAST-MODIFIED:20251103T222621Z
UID:65272-1748851200-1748883600@mecop.org
SUMMARY:Strategies to Care for Persons Using Cannabis
DESCRIPTION:Unavailable
URL:https://mecop.org/event/strategies-to-care-for-persons-using-cannabis/
LOCATION:Enduring Educational Activity
CATEGORIES:AMA
END:VEVENT
BEGIN:VEVENT
DTSTART;TZID=America/Chicago:20250601T080000
DTEND;TZID=America/Chicago:20250601T170000
DTSTAMP:20260423T232706
CREATED:20250618T190752Z
LAST-MODIFIED:20250618T190801Z
UID:63328-1748764800-1748797200@mecop.org
SUMMARY:Community Medical Services Provider Manual: Addiction Primer
DESCRIPTION:See content.
URL:https://mecop.org/event/community-medical-services-provider-manual-addiction-primer-9/
LOCATION:Enduring Material
CATEGORIES:AMA
END:VEVENT
BEGIN:VEVENT
DTSTART;TZID=America/Chicago:20250531T080000
DTEND;TZID=America/Chicago:20250531T170000
DTSTAMP:20260423T232706
CREATED:20251029T200719Z
LAST-MODIFIED:20251029T200719Z
UID:65176-1748678400-1748710800@mecop.org
SUMMARY:Medical Management of Shoulder Dystocia
DESCRIPTION:Unavailable
URL:https://mecop.org/event/medical-management-of-shoulder-dystocia-6/
LOCATION:Enduring Activity
CATEGORIES:AMA
END:VEVENT
BEGIN:VEVENT
DTSTART;TZID=America/Chicago:20250531T080000
DTEND;TZID=America/Chicago:20250531T170000
DTSTAMP:20260423T232706
CREATED:20251029T200241Z
LAST-MODIFIED:20251029T200241Z
UID:65174-1748678400-1748710800@mecop.org
SUMMARY:Medical Management of Obstetric and Postpartum Hemorrhage (v2)
DESCRIPTION:Unavailable
URL:https://mecop.org/event/medical-management-of-obstetric-and-postpartum-hemorrhage-v2-5/
LOCATION:Enduring Activity
CATEGORIES:AMA
END:VEVENT
BEGIN:VEVENT
DTSTART;TZID=America/Chicago:20250531T080000
DTEND;TZID=America/Chicago:20250531T170000
DTSTAMP:20260423T232706
CREATED:20251029T195802Z
LAST-MODIFIED:20251029T195802Z
UID:65172-1748678400-1748710800@mecop.org
SUMMARY:Medical Management of Hypertensive Disorders in Pregnancy (v2)
DESCRIPTION:Unavailable
URL:https://mecop.org/event/medical-management-of-hypertensive-disorders-in-pregnancy-v2-3/
LOCATION:Enduring Activity
CATEGORIES:AMA
END:VEVENT
BEGIN:VEVENT
DTSTART;TZID=America/Chicago:20250531T080000
DTEND;TZID=America/Chicago:20250531T170000
DTSTAMP:20260423T232706
CREATED:20250620T190649Z
LAST-MODIFIED:20250620T190802Z
UID:63358-1748678400-1748710800@mecop.org
SUMMARY:Assessment of Incidental Splenic Lesions
DESCRIPTION:Unavailable
URL:https://mecop.org/event/assessment-of-incidental-splenic-lesions/
LOCATION:Enduring Activity
CATEGORIES:AMA
END:VEVENT
BEGIN:VEVENT
DTSTART;TZID=America/Chicago:20250529T180000
DTEND;TZID=America/Chicago:20250529T200000
DTSTAMP:20260423T232706
CREATED:20250527T162023Z
LAST-MODIFIED:20250619T194155Z
UID:63071-1748541600-1748548800@mecop.org
SUMMARY:FSU-Daytona Beach
DESCRIPTION:Review academic achievements for AY24-25\nMatch Results\nStudent Awards\nScholastic Scores\nDiscuss the changes to the core IM clerkship and Sub Internship for AY25-26\nUnderstand the ways to optimize the faculty evaluation of students for AY25-26
URL:https://mecop.org/event/fsu-college-of-medicine-daytona-beach-regional-campus-10/
LOCATION:Zoom
CATEGORIES:AMA
END:VEVENT
BEGIN:VEVENT
DTSTART;TZID=America/Chicago:20250529T180000
DTEND;TZID=America/Chicago:20250529T190000
DTSTAMP:20260423T232706
CREATED:20250523T200519Z
LAST-MODIFIED:20250619T200131Z
UID:63039-1748541600-1748545200@mecop.org
SUMMARY:FSU-Orlando
DESCRIPTION:· Review academic achievements for AY24-25 \no Match Results \no Student Awards \no Scholastic Scores \n· Discuss the changes to the core IM clerkship and Sub Internship for AY25-26 \n· Explain the ways to optimize the faculty evaluation of students for AY25-2
URL:https://mecop.org/event/all-im-faculty-meeting-with-education-director-ben-kaplan-m-d/
LOCATION:Zoom
CATEGORIES:AMA
END:VEVENT
BEGIN:VEVENT
DTSTART;TZID=America/Chicago:20250528T080000
DTEND;TZID=America/Chicago:20250528T170000
DTSTAMP:20260423T232706
CREATED:20250611T185948Z
LAST-MODIFIED:20250611T185948Z
UID:63234-1748419200-1748451600@mecop.org
SUMMARY:General Adult Tumor Board 2025
DESCRIPTION:Unavailable
URL:https://mecop.org/event/general-adult-tumor-board-2025-13/
LOCATION:Ascension Sacred Heart Hospital\, FL
CATEGORIES:AMA
END:VEVENT
BEGIN:VEVENT
DTSTART;TZID=America/Chicago:20250523T080000
DTEND;TZID=America/Chicago:20250523T170000
DTSTAMP:20260423T232706
CREATED:20250712T130543Z
LAST-MODIFIED:20251219T145448Z
UID:63634-1747987200-1748019600@mecop.org
SUMMARY:2025 Faculty Teaching Credits Family Medicine/Summer Clinical Practicum
DESCRIPTION:Unavailable
URL:https://mecop.org/event/2025-faculty-teaching-credits-family-medicine-summer-clinical-practicum/
LOCATION:Sarasota Regional Campus\, 5560 Bee Ridge Rd\, Sarasota\, FL\, 34233\, United States
CATEGORIES:AMA
END:VEVENT
BEGIN:VEVENT
DTSTART;TZID=America/Chicago:20250523T080000
DTEND;TZID=America/Chicago:20250523T170000
DTSTAMP:20260423T232706
CREATED:20250521T154805Z
LAST-MODIFIED:20251219T145719Z
UID:63010-1747987200-1748019600@mecop.org
SUMMARY:2025 Faculty Teaching Credits Summer Clinical Practicum
DESCRIPTION:Unavailable
URL:https://mecop.org/event/2025-faculty-teaching-credits-summer-clinical-practicum/
LOCATION:Fort Pierce Regional Campus\, 1200 W International Speedway Blvd #101\, Daytona Beach\, FL\, 32114\, United States
CATEGORIES:AMA
END:VEVENT
BEGIN:VEVENT
DTSTART;TZID=America/Chicago:20250522T180000
DTEND;TZID=America/Chicago:20250522T200000
DTSTAMP:20260423T232706
CREATED:20250506T123927Z
LAST-MODIFIED:20250529T200329Z
UID:62590-1747936800-1747944000@mecop.org
SUMMARY:FSU-Daytona Beach
DESCRIPTION:1. Evaluate student performance on Milestones and NBME/EOR\n2. Demonstrate comparability in completing requirements on all campuses.\n3. Evaluate medical student feedback on the course and the faculty.\n4. Evaluate PA student feedback on the course and the faculty.\n5. Be updated on library resources for teaching and learning.\n6. Be apprised of Main Campus issues that affect regional campuses and the psychiatry course.\n7. Exchange teaching ideas\n8. Discuss ways to advise and encourage students to choose psychiatry as a career.\n9. Winner of the NORCEF Award.\n10. Discussing student’s perception of abuse
URL:https://mecop.org/event/fsu-college-of-medicine-daytona-beach-regional-campus-9/
LOCATION:Zoom
CATEGORIES:AMA
END:VEVENT
BEGIN:VEVENT
DTSTART;TZID=America/Chicago:20250522T080000
DTEND;TZID=America/Chicago:20250522T170000
DTSTAMP:20260423T232706
CREATED:20250529T201305Z
LAST-MODIFIED:20250529T202636Z
UID:63097-1747900800-1747933200@mecop.org
SUMMARY:FSU-Pensacola
DESCRIPTION:
URL:https://mecop.org/event/fsu-pensacola-26/
LOCATION:Zoom
CATEGORIES:AMA
END:VEVENT
BEGIN:VEVENT
DTSTART;TZID=America/Chicago:20250522T080000
DTEND;TZID=America/Chicago:20250522T170000
DTSTAMP:20260423T232706
CREATED:20250515T225058Z
LAST-MODIFIED:20250606T115209Z
UID:62883-1747900800-1747933200@mecop.org
SUMMARY:Better Health Group Provider Bootcamp
DESCRIPTION:To discuss the impact of metabolic disorder on chronic conditions\, pathophysiology\, treatment and care plans.
URL:https://mecop.org/event/better-health-group-provider-bootcamp/
LOCATION:Zoom
CATEGORIES:AMA
END:VEVENT
BEGIN:VEVENT
DTSTART;TZID=America/Chicago:20250521T080000
DTEND;TZID=America/Chicago:20250521T170000
DTSTAMP:20260423T232706
CREATED:20251103T215140Z
LAST-MODIFIED:20251103T215510Z
UID:65259-1747814400-1747846800@mecop.org
SUMMARY:Medications for Opioid Use Disorder
DESCRIPTION:Unavailable
URL:https://mecop.org/event/medications-for-opioid-use-disorder-2/
LOCATION:Enduring Activity
CATEGORIES:AMA
END:VEVENT
BEGIN:VEVENT
DTSTART;TZID=America/Chicago:20250521T080000
DTEND;TZID=America/Chicago:20250521T170000
DTSTAMP:20260423T232706
CREATED:20250611T190129Z
LAST-MODIFIED:20250611T190129Z
UID:63236-1747814400-1747846800@mecop.org
SUMMARY:General Adult Tumor Board 2025
DESCRIPTION:Unavailable
URL:https://mecop.org/event/general-adult-tumor-board-2025-14/
LOCATION:Ascension Sacred Heart Hospital\, FL
CATEGORIES:AMA
END:VEVENT
BEGIN:VEVENT
DTSTART;TZID=America/Chicago:20250521T080000
DTEND;TZID=America/Chicago:20250521T170000
DTSTAMP:20260423T232706
CREATED:20250525T160352Z
LAST-MODIFIED:20250525T163638Z
UID:63053-1747814400-1747846800@mecop.org
SUMMARY:CMS Monthly Provider Meeting
DESCRIPTION:Discussed addiction-related metrics and data\nOutline new protocol for Sublocade administration\nDescribed workflow for finding policies\nOutlined medication call back procedure\nReviewed Tianeptine use and treatment
URL:https://mecop.org/event/cms-monthly-provider-meeting-12/
LOCATION:Internet Live Webcast
CATEGORIES:AMA
END:VEVENT
BEGIN:VEVENT
DTSTART;TZID=America/Chicago:20250521T080000
DTEND;TZID=America/Chicago:20250521T170000
DTSTAMP:20260423T232706
CREATED:20250521T182342Z
LAST-MODIFIED:20250521T182342Z
UID:63018-1747814400-1747846800@mecop.org
SUMMARY:General Adult Tumor Board 2025
DESCRIPTION:Unavailable
URL:https://mecop.org/event/general-adult-tumor-board-2025-11/
LOCATION:Ascension Sacred Heart Hospital\, FL
CATEGORIES:AMA
END:VEVENT
BEGIN:VEVENT
DTSTART;TZID=America/Chicago:20250520T080000
DTEND;TZID=America/Chicago:20250520T170000
DTSTAMP:20260423T232706
CREATED:20250618T191049Z
LAST-MODIFIED:20250709T143318Z
UID:63330-1747728000-1747760400@mecop.org
SUMMARY:Community Medical Services Provider Manual: Addiction Primer
DESCRIPTION:
URL:https://mecop.org/event/community-medical-services-provider-manual-addiction-primer-10/
LOCATION:Enduring Material
CATEGORIES:AMA
END:VEVENT
BEGIN:VEVENT
DTSTART;TZID=America/Chicago:20250520T080000
DTEND;TZID=America/Chicago:20250520T170000
DTSTAMP:20260423T232706
CREATED:20250520T200643Z
LAST-MODIFIED:20250520T222143Z
UID:62972-1747728000-1747760400@mecop.org
SUMMARY:Risk Adjustment and Diners\, Drive-Ins and Dives for Your GI
DESCRIPTION:Gain understanding of risk adjustment methodology and its role in Value Based Care models.\nReview specific official ICD-10-CM coding guidelines and how they are applied to diagnosis coding and reporting.\nIdentify elements of the medical record that help support the validation of reported conditions.\nIdentify documentation deficiencies for specific conditions.
URL:https://mecop.org/event/risk-adjustment-and-diners-drive-ins-and-dives-for-your-gi-5/
LOCATION:Internet Live Webcast
CATEGORIES:AMA
END:VEVENT
BEGIN:VEVENT
DTSTART;TZID=America/Chicago:20250520T070000
DTEND;TZID=America/Chicago:20250520T080000
DTSTAMP:20260423T232706
CREATED:20250515T224643Z
LAST-MODIFIED:20250630T225343Z
UID:62878-1747724400-1747728000@mecop.org
SUMMARY:Baldwin Health Tumor Board
DESCRIPTION:1. Review patient cases and all necessary findings (pathology\, radiology\, surgery\, etc.) and discuss key findings to determine course of treatment.\n2. Discuss implications amongst multidisciplinary team members\, and review best practices\, current\nevidence-based findings\, etc.\n3. Assign treatment protocols based on consensus of the multidisciplinary team.
URL:https://mecop.org/event/baldwin-health-tumor-board-6/
LOCATION:Baldwin Health
CATEGORIES:AMA
END:VEVENT
BEGIN:VEVENT
DTSTART;TZID=America/Chicago:20250519T080000
DTEND;TZID=America/Chicago:20250519T170000
DTSTAMP:20260423T232706
CREATED:20251104T195356Z
LAST-MODIFIED:20251104T195703Z
UID:65293-1747641600-1747674000@mecop.org
SUMMARY:Co-Occurring Psychiatric Illness and Substance Use Disorder
DESCRIPTION:Unavailable
URL:https://mecop.org/event/co-occurring-psychiatric-illness-and-substance-use-disorder/
LOCATION:Enduring Educational Activity
CATEGORIES:AMA
END:VEVENT
BEGIN:VEVENT
DTSTART;TZID=America/Chicago:20250519T000000
DTEND;TZID=America/Chicago:20250519T000000
DTSTAMP:20260423T232706
CREATED:20250611T005307Z
LAST-MODIFIED:20250611T005313Z
UID:63220-1747612800-1747612800@mecop.org
SUMMARY:PEEP Risk Adjustment and Top Gun Tips for Coding Cancer
DESCRIPTION:See content.
URL:https://mecop.org/event/peep-risk-adjustment-and-top-gun-tips-for-coding-cancer/
LOCATION:Internet Enduring Material
CATEGORIES:AMA
END:VEVENT
BEGIN:VEVENT
DTSTART;TZID=America/Chicago:20250516T081500
DTEND;TZID=America/Chicago:20250516T154500
DTSTAMP:20260423T232706
CREATED:20250310T194003Z
LAST-MODIFIED:20250826T173716Z
UID:61569-1747383300-1747410300@mecop.org
SUMMARY:MUSM Rural Pediatric CE Conference
DESCRIPTION:
URL:https://mecop.org/event/musm-rural-pediatric-cme-conference-2/
LOCATION:President’s Dining Room\, Mercer University\, Macon Campus
CATEGORIES:AMA
END:VEVENT
BEGIN:VEVENT
DTSTART;TZID=America/Chicago:20250516T080000
DTEND;TZID=America/Chicago:20250516T170000
DTSTAMP:20260423T232706
CREATED:20251104T200301Z
LAST-MODIFIED:20251104T200440Z
UID:65296-1747382400-1747414800@mecop.org
SUMMARY:CORE: Communicate Openly. Respond Empathetically. 1 hr On Demand
DESCRIPTION:Unavailable
URL:https://mecop.org/event/core-communicate-openly-respond-empathetically-1-hr-on-demand-2/
LOCATION:Live Activity
CATEGORIES:AMA
END:VEVENT
BEGIN:VEVENT
DTSTART;TZID=America/Chicago:20250516T080000
DTEND;TZID=America/Chicago:20250516T170000
DTSTAMP:20260423T232706
CREATED:20250925T203504Z
LAST-MODIFIED:20250925T203504Z
UID:64633-1747382400-1747414800@mecop.org
SUMMARY:MUSM Rural Pediatric CE Conference
DESCRIPTION:Unavailable
URL:https://mecop.org/event/musm-rural-pediatric-ce-conference-2/
LOCATION:Enduring Material
CATEGORIES:AMA
END:VEVENT
BEGIN:VEVENT
DTSTART;TZID=America/Chicago:20250516T080000
DTEND;TZID=America/Chicago:20250516T170000
DTSTAMP:20260423T232706
CREATED:20250526T183621Z
LAST-MODIFIED:20250526T184333Z
UID:63067-1747382400-1747414800@mecop.org
SUMMARY:MUSM Rural Pediatric CE Conference
DESCRIPTION:
URL:https://mecop.org/event/musm-rural-pediatric-ce-conference/
LOCATION:President’s Dining Room\, Mercer University\, Macon Campus
CATEGORIES:AMA
END:VEVENT
BEGIN:VEVENT
DTSTART;TZID=America/Chicago:20250516T080000
DTEND;TZID=America/Chicago:20250516T170000
DTSTAMP:20260423T232706
CREATED:20250411T181305Z
LAST-MODIFIED:20250612T211358Z
UID:62129-1747382400-1747414800@mecop.org
SUMMARY:FSU Motivational Interviewing Workshops
DESCRIPTION:Workshop #1:\n• Recognize the importance of patient engagement in working with change\n• Demonstrate skills to engage patients in health behavior change\n• Learn to listen and respond to patient motivation about change\n• Recognize ambivalence and learn specific strategies facilitate change\n• Increase the likelihood of patient change using core MI skills \nWorkshop #2\n• Produce more and better-quality\, deeper reflections.\n• Demonstrate advanced skills to interact with change talk.\n• Display the use of reflections and other strategies in response to client sustain talk and dissent.\n• Exhibit increased intentionality and directionality in their work.
URL:https://mecop.org/event/fsu-workshops/
LOCATION:Live
CATEGORIES:AMA
END:VEVENT
BEGIN:VEVENT
DTSTART;TZID=America/Chicago:20250515T080000
DTEND;TZID=America/Chicago:20250515T170000
DTSTAMP:20260423T232706
CREATED:20250603T155026Z
LAST-MODIFIED:20250603T162341Z
UID:63180-1747296000-1747328400@mecop.org
SUMMARY:NFO Business of Medicine Web Series: Exploring the OIG’s New Compliance Guidance Document
DESCRIPTION:Stay ahead of the curve with the latest updates from the Office of Inspector General (OIG) on effective compliance practices. This webinar will provide an in-depth analysis of the OIG’s newly updated compliance guidance\, helping you decode its key principles and understand how they may influence your organization’s compliance efforts. Discover what’s new\, evaluate the potential impact on your practice\, and learn practical strategies for integrating these updates into your compliance plan to ensure continued adherence to industry standards. \nObjectives: \n1. Analyze the nuances of the OIG’s revised compliance guidance to understand its core principles and applications.\n2. Evaluate how the updated guidance may affect compliance strategies and day-to-day operations within their organization.\n3. Develop strategies to incorporate new elements from the updated OIG guidance into their practice’s compliance plan for improved alignment with regulatory expectations.
URL:https://mecop.org/event/nfo-business-of-medicine-web-series-exploring-the-oigs-new-compliance-guidance-document/
LOCATION:Internet Live Webcast
CATEGORIES:AMA
END:VEVENT
END:VCALENDAR