BEGIN:VCALENDAR
VERSION:2.0
PRODID:-//Mecop - ECPv6.5.1.5//NONSGML v1.0//EN
CALSCALE:GREGORIAN
METHOD:PUBLISH
X-WR-CALNAME:Mecop
X-ORIGINAL-URL:https://mecop.org
X-WR-CALDESC:Events for Mecop
REFRESH-INTERVAL;VALUE=DURATION:PT1H
X-Robots-Tag:noindex
X-PUBLISHED-TTL:PT1H
BEGIN:VTIMEZONE
TZID:America/Chicago
BEGIN:DAYLIGHT
TZOFFSETFROM:-0600
TZOFFSETTO:-0500
TZNAME:CDT
DTSTART:20250309T080000
END:DAYLIGHT
BEGIN:STANDARD
TZOFFSETFROM:-0500
TZOFFSETTO:-0600
TZNAME:CST
DTSTART:20251102T070000
END:STANDARD
END:VTIMEZONE
BEGIN:VEVENT
DTSTART;TZID=America/Chicago:20250706T080000
DTEND;TZID=America/Chicago:20250706T170000
DTSTAMP:20260423T183735
CREATED:20250711T220804Z
LAST-MODIFIED:20250711T220951Z
UID:63614-1751788800-1751821200@mecop.org
SUMMARY:Hundreds of Pruritic Flat-Topped Papules on the Lower Legs
DESCRIPTION:Unavailable
URL:https://mecop.org/event/hundreds-of-pruritic-flat-topped-papules-on-the-lower-legs/
LOCATION:Journal based CME activity
CATEGORIES:AMA
END:VEVENT
BEGIN:VEVENT
DTSTART;TZID=America/Chicago:20250706T080000
DTEND;TZID=America/Chicago:20250706T170000
DTSTAMP:20260423T183735
CREATED:20250711T220020Z
LAST-MODIFIED:20250711T220121Z
UID:63610-1751788800-1751821200@mecop.org
SUMMARY:An Adolescent With a Tracheal Mass
DESCRIPTION:Unavailable
URL:https://mecop.org/event/an-adolescent-with-a-tracheal-mass/
LOCATION:Journal based CME activity
CATEGORIES:AMA
END:VEVENT
BEGIN:VEVENT
DTSTART;TZID=America/Chicago:20250706T080000
DTEND;TZID=America/Chicago:20250706T170000
DTSTAMP:20260423T183735
CREATED:20250711T215449Z
LAST-MODIFIED:20250711T215552Z
UID:63607-1751788800-1751821200@mecop.org
SUMMARY:Tongue Lesions While Undergoing Cancer Therapy
DESCRIPTION:Unavailable
URL:https://mecop.org/event/tongue-lesions-while-undergoing-cancer-therapy/
LOCATION:Journal based CME activity
CATEGORIES:AMA
END:VEVENT
BEGIN:VEVENT
DTSTART;TZID=America/Chicago:20250703T080000
DTEND;TZID=America/Chicago:20250703T170000
DTSTAMP:20260423T183735
CREATED:20250713T193458Z
LAST-MODIFIED:20250805T225217Z
UID:63665-1751529600-1751562000@mecop.org
SUMMARY:FSU Fundamentals of Teaching in the FSU COM Clinical Education Program II Module
DESCRIPTION:Unavailable
URL:https://mecop.org/event/fsu-fundamentals-of-teaching-in-the-fsu-com-clinical-education-program-ii-module-17/
LOCATION:Enduring Material
CATEGORIES:AMA
END:VEVENT
BEGIN:VEVENT
DTSTART;TZID=America/Chicago:20250703T080000
DTEND;TZID=America/Chicago:20250703T170000
DTSTAMP:20260423T183735
CREATED:20250713T193230Z
LAST-MODIFIED:20250805T225058Z
UID:63663-1751529600-1751562000@mecop.org
SUMMARY:FSU Fundamentals of Teaching in the FSU COM Clinical Education Program I Module
DESCRIPTION:Unavailable
URL:https://mecop.org/event/fsu-fundamentals-of-teaching-in-the-fsu-com-clinical-education-program-i-module-13/
LOCATION:Enduring Material
CATEGORIES:AMA
END:VEVENT
BEGIN:VEVENT
DTSTART;TZID=America/Chicago:20250702T080000
DTEND;TZID=America/Chicago:20250702T170000
DTSTAMP:20260423T183735
CREATED:20251013T120717Z
LAST-MODIFIED:20251013T120717Z
UID:64935-1751443200-1751475600@mecop.org
SUMMARY:General Adult Tumor Board 2025
DESCRIPTION:Unavailable
URL:https://mecop.org/event/general-adult-tumor-board-2025-34/
LOCATION:Ascension Sacred Heart Hospital\, FL
CATEGORIES:AMA
END:VEVENT
BEGIN:VEVENT
DTSTART;TZID=America/Chicago:20250702T080000
DTEND;TZID=America/Chicago:20250702T170000
DTSTAMP:20260423T183735
CREATED:20250703T184515Z
LAST-MODIFIED:20250703T184515Z
UID:63511-1751443200-1751475600@mecop.org
SUMMARY:Question of the Week
DESCRIPTION:Unavailable
URL:https://mecop.org/event/question-of-the-week-15/
LOCATION:Enduring Material
CATEGORIES:AMA
END:VEVENT
BEGIN:VEVENT
DTSTART;TZID=America/Chicago:20250702T080000
DTEND;TZID=America/Chicago:20250702T170000
DTSTAMP:20260423T183735
CREATED:20250702T184637Z
LAST-MODIFIED:20250702T184741Z
UID:63503-1751443200-1751475600@mecop.org
SUMMARY:Continuous Glucose Monitor Use-Avoiding Overuse
DESCRIPTION:Unavailable
URL:https://mecop.org/event/continuous-glucose-monitor-use-avoiding-overuse/
LOCATION:Journal based CME activity
CATEGORIES:AMA
END:VEVENT
BEGIN:VEVENT
DTSTART;TZID=America/Chicago:20250702T080000
DTEND;TZID=America/Chicago:20250702T170000
DTSTAMP:20260423T183735
CREATED:20250702T184418Z
LAST-MODIFIED:20250702T184418Z
UID:63501-1751443200-1751475600@mecop.org
SUMMARY:General Adult Tumor Board 2025
DESCRIPTION:Unavailable
URL:https://mecop.org/event/general-adult-tumor-board-2025-22/
LOCATION:Ascension Sacred Heart Hospital\, FL
CATEGORIES:AMA
END:VEVENT
BEGIN:VEVENT
DTSTART;TZID=America/Chicago:20250630T080000
DTEND;TZID=America/Chicago:20250630T170000
DTSTAMP:20260423T183735
CREATED:20250703T150200Z
LAST-MODIFIED:20250703T150206Z
UID:63509-1751270400-1751302800@mecop.org
SUMMARY:Community Medical Services Provider Manual: Addiction Primer
DESCRIPTION:
URL:https://mecop.org/event/community-medical-services-provider-manual-addiction-primer-11/
LOCATION:Enduring Material
CATEGORIES:AMA
END:VEVENT
BEGIN:VEVENT
DTSTART;TZID=America/Chicago:20250629T080000
DTEND;TZID=America/Chicago:20250629T170000
DTSTAMP:20260423T183735
CREATED:20250814T220243Z
LAST-MODIFIED:20260419T173845Z
UID:64133-1751184000-1751216400@mecop.org
SUMMARY:Continuum Audio: February 2025 (Epilepsy) - Classification and Diagnosis of Epilepsy With Dr. Roohi Katyal
DESCRIPTION:Unavailable
URL:https://mecop.org/event/continuum-audio-february-2025-epilepsy-classification-and-diagnosis-of-epilepsy-with-dr-roohi-katyal-certificate-of-completion-for-physicians/
LOCATION:Educational Activity
CATEGORIES:AMA
END:VEVENT
BEGIN:VEVENT
DTSTART;TZID=America/Chicago:20250629T080000
DTEND;TZID=America/Chicago:20250629T170000
DTSTAMP:20260423T183735
CREATED:20250705T080108Z
LAST-MODIFIED:20250705T080224Z
UID:63529-1751184000-1751216400@mecop.org
SUMMARY:Imaging-Focused Management of ADs Detected by DBT Alone
DESCRIPTION:Unavailable
URL:https://mecop.org/event/imaging-focused-management-of-ads-detected-by-dbt-alone/
LOCATION:Enduring Activity
CATEGORIES:AMA
END:VEVENT
BEGIN:VEVENT
DTSTART;TZID=America/Chicago:20250629T080000
DTEND;TZID=America/Chicago:20250629T170000
DTSTAMP:20260423T183735
CREATED:20250705T075528Z
LAST-MODIFIED:20250705T075626Z
UID:63526-1751184000-1751216400@mecop.org
SUMMARY:U.S. Radiologist Workforce
DESCRIPTION:Unavailable
URL:https://mecop.org/event/u-s-radiologist-workforce/
LOCATION:Enduring Activity
CATEGORIES:AMA
END:VEVENT
BEGIN:VEVENT
DTSTART;TZID=America/Chicago:20250629T080000
DTEND;TZID=America/Chicago:20250629T170000
DTSTAMP:20260423T183735
CREATED:20250705T075101Z
LAST-MODIFIED:20250705T075213Z
UID:63523-1751184000-1751216400@mecop.org
SUMMARY:WMHs on High-Resolution 3-T MRI in Patients With mTBI
DESCRIPTION:Unavailable
URL:https://mecop.org/event/wmhs-on-high-resolution-3-t-mri-in-patients-with-mtbi/
LOCATION:Enduring Activity
CATEGORIES:AMA
END:VEVENT
BEGIN:VEVENT
DTSTART;TZID=America/Chicago:20250629T080000
DTEND;TZID=America/Chicago:20250629T170000
DTSTAMP:20260423T183735
CREATED:20250705T074637Z
LAST-MODIFIED:20250705T074744Z
UID:63520-1751184000-1751216400@mecop.org
SUMMARY:First-Trimester Emergency OB Imaging
DESCRIPTION:Unavailable
URL:https://mecop.org/event/first-trimester-emergency-ob-imaging/
LOCATION:Enduring Activity
CATEGORIES:AMA
END:VEVENT
BEGIN:VEVENT
DTSTART;TZID=America/Chicago:20250629T080000
DTEND;TZID=America/Chicago:20250629T170000
DTSTAMP:20260423T183735
CREATED:20250705T074122Z
LAST-MODIFIED:20250705T074231Z
UID:63517-1751184000-1751216400@mecop.org
SUMMARY:Multimodality Review of Thumb MCP Joint Injuries
DESCRIPTION:Unavailable
URL:https://mecop.org/event/multimodality-review-of-thumb-mcp-joint-injuries/
LOCATION:Enduring Activity
CATEGORIES:AMA
END:VEVENT
BEGIN:VEVENT
DTSTART;TZID=America/Chicago:20250629T080000
DTEND;TZID=America/Chicago:20250629T170000
DTSTAMP:20260423T183735
CREATED:20250705T073606Z
LAST-MODIFIED:20250705T073744Z
UID:63514-1751184000-1751216400@mecop.org
SUMMARY:Radiologic Signs in Thoracic Imaging Part 2
DESCRIPTION:Unavailable
URL:https://mecop.org/event/radiologic-signs-in-thoracic-imaging-part-2/
LOCATION:Enduring Activity
CATEGORIES:AMA
END:VEVENT
BEGIN:VEVENT
DTSTART;TZID=America/Chicago:20250628T080000
DTEND;TZID=America/Chicago:20250628T170000
DTSTAMP:20260423T183735
CREATED:20250814T215500Z
LAST-MODIFIED:20260419T174135Z
UID:64130-1751097600-1751130000@mecop.org
SUMMARY:Continuum Postreading Test 31(1) February 2025 (Epilepsy)
DESCRIPTION:Unavailable
URL:https://mecop.org/event/continuum-postreading-test-311-february-2025-epilepsy-certificate-of-completion-for-physicians/
LOCATION:Educational Activity
CATEGORIES:AMA
END:VEVENT
BEGIN:VEVENT
DTSTART;TZID=America/Chicago:20250627T080000
DTEND;TZID=America/Chicago:20250627T170000
DTSTAMP:20260423T183735
CREATED:20250917T194834Z
LAST-MODIFIED:20250917T194834Z
UID:64527-1751011200-1751043600@mecop.org
SUMMARY:2025 Faculty Teaching Credits Clinical Medicine Clerkship
DESCRIPTION:Unavailable
URL:https://mecop.org/event/2025-faculty-teaching-credits-clinical-medicine-clerkship/
LOCATION:Tallahassee Regional Campus\, Tallahassee\, FL\, United States
CATEGORIES:AMA
END:VEVENT
BEGIN:VEVENT
DTSTART;TZID=America/Chicago:20250627T080000
DTEND;TZID=America/Chicago:20250627T170000
DTSTAMP:20260423T183735
CREATED:20250710T221327Z
LAST-MODIFIED:20251217T142958Z
UID:63591-1751011200-1751043600@mecop.org
SUMMARY:PediPlus 2025
DESCRIPTION:Endocrinology & Murmurs in Gen Peds\nBreastfeeding\nVitamin Toxicity\nOffice Emergency Preparedness\nCommon Peds ENT Conditions\nChild Abuse\nEval & Mgmt of Sickle Cell Disease\nTrip to the Zoo\nHives\nAsthma Overview\nPediatric Infectious Disease and Skin Infection\nSpirometry\nIntensive Health Behavior & Lifestyle Treatment\nIllicit Drug Use\nADHD\nDevelopmental Milestones\nAutism\nNewborn Part 2\nNB Part 1\nSports Physical\nNutrition & the Athlete
URL:https://mecop.org/event/pediplus-2025/
LOCATION:Live Course
CATEGORIES:AMA
END:VEVENT
BEGIN:VEVENT
DTSTART;TZID=America/Chicago:20250627T000000
DTEND;TZID=America/Chicago:20250627T000000
DTSTAMP:20260423T183735
CREATED:20250710T223040Z
LAST-MODIFIED:20250710T223415Z
UID:63595-1750982400-1750982400@mecop.org
SUMMARY:PediPlus 2025 Preparation
DESCRIPTION:
URL:https://mecop.org/event/pediplus-2025-preparation-2/
CATEGORIES:AMA
END:VEVENT
BEGIN:VEVENT
DTSTART;TZID=America/Chicago:20250626T080000
DTEND;TZID=America/Chicago:20250626T161500
DTSTAMP:20260423T183735
CREATED:20250514T194032Z
LAST-MODIFIED:20250826T175627Z
UID:62830-1750924800-1750954500@mecop.org
SUMMARY:MUSM Maternal Health Symposium
DESCRIPTION:
URL:https://mecop.org/event/musm-maternal-health-symposium/
LOCATION:Live
CATEGORIES:AMA
END:VEVENT
BEGIN:VEVENT
DTSTART;TZID=America/Chicago:20250625T080000
DTEND;TZID=America/Chicago:20250625T170000
DTSTAMP:20260423T183735
CREATED:20251217T201712Z
LAST-MODIFIED:20251217T201712Z
UID:66410-1750838400-1750870800@mecop.org
SUMMARY:FSU Reducing the Potential for FSU COM Student Mistreatment Module:
DESCRIPTION:Unavailable
URL:https://mecop.org/event/fsu-reducing-the-potential-for-fsu-com-student-mistreatment-module-9/
LOCATION:Enduring Activity
CATEGORIES:AMA
END:VEVENT
BEGIN:VEVENT
DTSTART;TZID=America/Chicago:20250624T080000
DTEND;TZID=America/Chicago:20250624T170000
DTSTAMP:20260423T183735
CREATED:20250623T191736Z
LAST-MODIFIED:20250626T132657Z
UID:63380-1750752000-1750784400@mecop.org
SUMMARY:FSU-Pensacola
DESCRIPTION:Explain the strategy to provide educational feedback to learners and obtain a just in time educational tool\, available to use when working with medical student and physician assistant student learners.
URL:https://mecop.org/event/fsu-pensacola-27/
LOCATION:Pensacola Regional Campus\, 11000 University Parkway Bldg 234\, 2nd Floor\, Pensacola\, FL\, 32514-5750\, United States
CATEGORIES:AMA
END:VEVENT
BEGIN:VEVENT
DTSTART;TZID=America/Chicago:20250623T080000
DTEND;TZID=America/Chicago:20250623T170000
DTSTAMP:20260423T183735
CREATED:20250708T141554Z
LAST-MODIFIED:20250708T141736Z
UID:63568-1750665600-1750698000@mecop.org
SUMMARY:Classic Lectures in Trauma Imaging
DESCRIPTION:Unavailable
URL:https://mecop.org/event/classic-lectures-in-trauma-imaging/
LOCATION:Enduring Activity
CATEGORIES:AMA
END:VEVENT
BEGIN:VEVENT
DTSTART;TZID=America/Chicago:20250623T080000
DTEND;TZID=America/Chicago:20250623T170000
DTSTAMP:20260423T183735
CREATED:20250628T214935Z
LAST-MODIFIED:20250628T214956Z
UID:63468-1750665600-1750698000@mecop.org
SUMMARY:Tympanometry Course
DESCRIPTION:Select the appropriate attachment and successfully plan tympanogram to perform tympanometry on an adult or pediatric patient. \nInterpret tympanometry results and the appropriate course of action. \nApply the appropriate ICD-10 and CPT codes for tympanometry procedures.
URL:https://mecop.org/event/tympanometry-course-2/
LOCATION:Internet Enduring Material
CATEGORIES:AMA
END:VEVENT
BEGIN:VEVENT
DTSTART;TZID=America/Chicago:20250622T080000
DTEND;TZID=America/Chicago:20250622T170000
DTSTAMP:20260423T183735
CREATED:20250811T183209Z
LAST-MODIFIED:20250811T183631Z
UID:64064-1750579200-1750611600@mecop.org
SUMMARY:FSU Medications and Older Adults:
DESCRIPTION:Unavailable
URL:https://mecop.org/event/fsu-medications-and-older-adults/
LOCATION:Enduring Activity
CATEGORIES:AMA
END:VEVENT
BEGIN:VEVENT
DTSTART;TZID=America/Chicago:20250622T080000
DTEND;TZID=America/Chicago:20250622T170000
DTSTAMP:20260423T183735
CREATED:20250624T164004Z
LAST-MODIFIED:20250624T164010Z
UID:63409-1750579200-1750611600@mecop.org
SUMMARY:Fundamentals with Injector Coach Institute
DESCRIPTION:Assess facial anatomy to determine proper treatment and placement. Demonstrate competency in facial anatomy as it pertains to placement of botulinium toxin and filler. Demonstrate efficiency in neurotoxin and filler. Perform proper placement and injection of neurotoxin and filler for glabella\, frontalis and crow’s feet\, as well as cheeks\, lips and nasolabial folds.
URL:https://mecop.org/event/fundamentals-with-injector-coach-institute-3/
LOCATION:Mind Body Soul Medical
CATEGORIES:AMA
END:VEVENT
BEGIN:VEVENT
DTSTART;TZID=America/Chicago:20250621T080000
DTEND;TZID=America/Chicago:20250621T170000
DTSTAMP:20260423T183735
CREATED:20250625T211644Z
LAST-MODIFIED:20250625T212016Z
UID:63431-1750492800-1750525200@mecop.org
SUMMARY:Curbside Consults on Improving Menopause Management:
DESCRIPTION:Unavailable
URL:https://mecop.org/event/curbside-consults-on-improving-menopause-management/
LOCATION:Enduring Material
CATEGORIES:AMA
END:VEVENT
BEGIN:VEVENT
DTSTART;TZID=America/Chicago:20250620T080000
DTEND;TZID=America/Chicago:20250620T170000
DTSTAMP:20260423T183735
CREATED:20250811T123809Z
LAST-MODIFIED:20250811T123809Z
UID:64053-1750406400-1750438800@mecop.org
SUMMARY:Pediatric Associates Asthma Refresher Series: Inhalers
DESCRIPTION:
URL:https://mecop.org/event/pediatric-associates-asthma-refresher-series-inhalers/
LOCATION:Virtual
CATEGORIES:AMA
END:VEVENT
END:VCALENDAR