BEGIN:VCALENDAR
VERSION:2.0
PRODID:-//Mecop - ECPv6.5.1.5//NONSGML v1.0//EN
CALSCALE:GREGORIAN
METHOD:PUBLISH
X-WR-CALNAME:Mecop
X-ORIGINAL-URL:https://mecop.org
X-WR-CALDESC:Events for Mecop
REFRESH-INTERVAL;VALUE=DURATION:PT1H
X-Robots-Tag:noindex
X-PUBLISHED-TTL:PT1H
BEGIN:VTIMEZONE
TZID:America/Chicago
BEGIN:DAYLIGHT
TZOFFSETFROM:-0600
TZOFFSETTO:-0500
TZNAME:CDT
DTSTART:20250309T080000
END:DAYLIGHT
BEGIN:STANDARD
TZOFFSETFROM:-0500
TZOFFSETTO:-0600
TZNAME:CST
DTSTART:20251102T070000
END:STANDARD
END:VTIMEZONE
BEGIN:VEVENT
DTSTART;TZID=America/Chicago:20250619T080000
DTEND;TZID=America/Chicago:20250619T170000
DTSTAMP:20260425T185742
CREATED:20250722T163115Z
LAST-MODIFIED:20250722T163128Z
UID:63788-1750320000-1750352400@mecop.org
SUMMARY:PACT\, Update: Practical Approaches to Comprehensive Treatment of Pain 2024-2025
DESCRIPTION:See certificate
URL:https://mecop.org/event/pact-update-practical-approaches-to-comprehensive-treatment-of-pain-2024-2025/
LOCATION:Internet Enduring Material
CATEGORIES:AMA
END:VEVENT
BEGIN:VEVENT
DTSTART;TZID=America/Chicago:20250619T080000
DTEND;TZID=America/Chicago:20250619T170000
DTSTAMP:20260425T185742
CREATED:20250718T155051Z
LAST-MODIFIED:20250718T155247Z
UID:63739-1750320000-1750352400@mecop.org
SUMMARY:NFO Business of Medicine Web Series: Understanding Health in 2025
DESCRIPTION:What is Telehealth?\nJoin this webinar to get a better understanding of Telehealth\, the PHE Extension\, Florida State requirements\, HIPAA\, documentation requirements and billing.  \nThe attendees will be able to define telehealth\, summarize the key telehealth flexibilities extended through September 30th\, 2025 and understand HIPAA requirements. We will also review documentation requirements\, how to identify the correct CPT® codes\, modifiers\, and place of service (POS) for telehealth.
URL:https://mecop.org/event/nfo-business-of-medicine-web-series-understanding-health-in-2025/
LOCATION:Internet Live Webcast
CATEGORIES:AMA
END:VEVENT
BEGIN:VEVENT
DTSTART;TZID=America/Chicago:20250619T080000
DTEND;TZID=America/Chicago:20250619T170000
DTSTAMP:20260425T185742
CREATED:20250620T172837Z
LAST-MODIFIED:20250623T143240Z
UID:63352-1750320000-1750352400@mecop.org
SUMMARY:Risk Adjustment and Exploring "The Matrix" of Neurological Conditions
DESCRIPTION:1) Explain the importance of risk adjustment in Value Based Care models.\n2) Strengthen understanding of the coding guidelines and regulations\, including compliance and the impact of diagnosis coding on risk-adjusted payment models.\n3) Have an increased awareness of the auditing process for risk adjustment models.\n4) Have a better understanding of how to document for and report diagnosis codes to highest specificity.
URL:https://mecop.org/event/risk-adjustment-and-exploring-the-matrix-with-neurological-conditions-3/
LOCATION:Internet Live Webcast
CATEGORIES:AMA
END:VEVENT
BEGIN:VEVENT
DTSTART;TZID=America/Chicago:20250618T123000
DTEND;TZID=America/Chicago:20250618T133000
DTSTAMP:20260425T185742
CREATED:20250116T174933Z
LAST-MODIFIED:20250822T194139Z
UID:60637-1750249800-1750253400@mecop.org
SUMMARY:MUSM Pediatric Alliance Webinar Series
DESCRIPTION:1. Review management of acute sickle cell disease pain in children\n2. 2025 update on sickle cell disease treatments and trends\n3. Discussion of topics of interest to the audience
URL:https://mecop.org/event/musm-pediatric-alliance-webinar-series-5/
LOCATION:Virtual
CATEGORIES:AMA
END:VEVENT
BEGIN:VEVENT
DTSTART;TZID=America/Chicago:20250618T080000
DTEND;TZID=America/Chicago:20250618T170000
DTSTAMP:20260425T185742
CREATED:20251013T121208Z
LAST-MODIFIED:20251013T121208Z
UID:64937-1750233600-1750266000@mecop.org
SUMMARY:General Adult Tumor Board 2025
DESCRIPTION:Unavailable
URL:https://mecop.org/event/general-adult-tumor-board-2025-35/
LOCATION:Ascension Sacred Heart Hospital\, FL
CATEGORIES:AMA
END:VEVENT
BEGIN:VEVENT
DTSTART;TZID=America/Chicago:20250618T080000
DTEND;TZID=America/Chicago:20250618T170000
DTSTAMP:20260425T185742
CREATED:20250618T124035Z
LAST-MODIFIED:20250618T124035Z
UID:63320-1750233600-1750266000@mecop.org
SUMMARY:General Adult Tumor Board 2025
DESCRIPTION:Unavailable
URL:https://mecop.org/event/general-adult-tumor-board-2025-21/
LOCATION:Ascension Sacred Heart Hospital\, FL
CATEGORIES:AMA
END:VEVENT
BEGIN:VEVENT
DTSTART;TZID=America/Chicago:20250617T080000
DTEND;TZID=America/Chicago:20250617T170000
DTSTAMP:20260425T185742
CREATED:20250617T180134Z
LAST-MODIFIED:20250619T150825Z
UID:63303-1750147200-1750179600@mecop.org
SUMMARY:Risk Adjustment and Exploring "The Matrix" of Neurological Conditions
DESCRIPTION:1) Explain the importance of risk adjustment in Value Based Care models.\n2) Strengthen understanding of the coding guidelines and regulations\, including compliance and the impact of diagnosis coding on risk-adjusted payment models.\n3) Have an increased awareness of the auditing process for risk adjustment models.\n4) Have a better understanding of how to document for and report diagnosis codes to highest specificity.
URL:https://mecop.org/event/risk-adjustment-and-exploring-the-matrix-of-neurological-conditions-2/
LOCATION:Internet Live Webcast
CATEGORIES:AMA
END:VEVENT
BEGIN:VEVENT
DTSTART;TZID=America/Chicago:20250617T000000
DTEND;TZID=America/Chicago:20250617T000000
DTSTAMP:20260425T185742
CREATED:20250619T134453Z
LAST-MODIFIED:20250619T141553Z
UID:63335-1750118400-1750118400@mecop.org
SUMMARY:CMS Monthly Provider Meeting
DESCRIPTION:TBA
URL:https://mecop.org/event/cms-monthly-provider-meeting-13/
LOCATION:Internet Live Webcast
CATEGORIES:AMA
END:VEVENT
BEGIN:VEVENT
DTSTART;TZID=America/Chicago:20250616T080000
DTEND;TZID=America/Chicago:20250616T170000
DTSTAMP:20260425T185742
CREATED:20250708T141331Z
LAST-MODIFIED:20250708T141331Z
UID:63566-1750060800-1750093200@mecop.org
SUMMARY:Classic Lectures in Neuroradiology
DESCRIPTION:Unavailable
URL:https://mecop.org/event/classic-lectures-in-neuroradiology/
LOCATION:Enduring Activity
CATEGORIES:AMA
END:VEVENT
BEGIN:VEVENT
DTSTART;TZID=America/Chicago:20250616T080000
DTEND;TZID=America/Chicago:20250616T170000
DTSTAMP:20260425T185742
CREATED:20250622T180517Z
LAST-MODIFIED:20250622T180517Z
UID:63362-1750060800-1750093200@mecop.org
SUMMARY:Navigating Professional Boundaries in Health Care
DESCRIPTION:Unavailable
URL:https://mecop.org/event/navigating-professional-boundaries-in-health-care-2/
LOCATION:Enduring Material
CATEGORIES:AMA
END:VEVENT
BEGIN:VEVENT
DTSTART;TZID=America/Chicago:20250614T080000
DTEND;TZID=America/Chicago:20250614T170000
DTSTAMP:20260425T185742
CREATED:20250622T180918Z
LAST-MODIFIED:20250622T181155Z
UID:63365-1749888000-1749920400@mecop.org
SUMMARY:SNMMI GCNMC Webinar:
DESCRIPTION:Unavailable
URL:https://mecop.org/event/snmmi-gcnmc-webinar/
LOCATION:Enduring Material
CATEGORIES:AMA
END:VEVENT
BEGIN:VEVENT
DTSTART;TZID=America/Chicago:20250613T080000
DTEND;TZID=America/Chicago:20250613T170000
DTSTAMP:20260425T185742
CREATED:20251001T165701Z
LAST-MODIFIED:20251001T165701Z
UID:64744-1749801600-1749834000@mecop.org
SUMMARY:2025 Faculty Teaching Credits Internal Medicine/Pulmonary Clerkship
DESCRIPTION:Unavailable
URL:https://mecop.org/event/2025-faculty-teaching-credits-internal-medicine-pulmonary-clerkship/
LOCATION:Sarasota Regional Campus\, 5560 Bee Ridge Rd\, Sarasota\, FL\, 34233\, United States
CATEGORIES:AMA
END:VEVENT
BEGIN:VEVENT
DTSTART;TZID=America/Chicago:20250613T080000
DTEND;TZID=America/Chicago:20250613T170000
DTSTAMP:20260425T185742
CREATED:20250716T150647Z
LAST-MODIFIED:20250716T150647Z
UID:63718-1749801600-1749834000@mecop.org
SUMMARY:2025 Faculty Teaching Credits Summer Clinical Practicum/Longitudinal Clerkship
DESCRIPTION:Unavailable
URL:https://mecop.org/event/2025-faculty-teaching-credits-summer-clinical-practicum-longitudinal-clerkship/
LOCATION:Daytona Beach Regional Campus\, 1200 W International Speedway\, Daytona Beach\, FL\, 32114\, United States
CATEGORIES:AMA
END:VEVENT
BEGIN:VEVENT
DTSTART;TZID=America/Chicago:20250613T080000
DTEND;TZID=America/Chicago:20250613T170000
DTSTAMP:20260425T185742
CREATED:20250616T201000Z
LAST-MODIFIED:20250617T184442Z
UID:63296-1749801600-1749834000@mecop.org
SUMMARY:Risk Adjustment and Exploring "The Matrix" of Neurological Conditions
DESCRIPTION:1) Explain the importance of risk adjustment in Value Based Care models.\n2) Strengthen understanding of the coding guidelines and regulations\, including compliance and the impact of diagnosis coding on risk-adjusted payment models.\n3) Have an increased awareness of the auditing process for risk adjustment models.\n4) Have a better understanding of how to document for and report diagnosis codes to highest specificity.
URL:https://mecop.org/event/risk-adjustment-and-exploring-the-matrix-with-neurological-conditions-2/
LOCATION:Internet Live Webcast
CATEGORIES:AMA
END:VEVENT
BEGIN:VEVENT
DTSTART;TZID=America/Chicago:20250613T080000
DTEND;TZID=America/Chicago:20250613T170000
DTSTAMP:20260425T185742
CREATED:20250612T192337Z
LAST-MODIFIED:20251211T200626Z
UID:63285-1749801600-1749834000@mecop.org
SUMMARY:2025 Faculty Teaching Credits Clinical Foundations
DESCRIPTION:Unavailable
URL:https://mecop.org/event/2025-faculty-teaching-credits-clinical-foundations/
LOCATION:Tallahassee Regional Campus\, Tallahassee\, FL\, United States
CATEGORIES:AMA
END:VEVENT
BEGIN:VEVENT
DTSTART;TZID=America/Chicago:20250612T080000
DTEND;TZID=America/Chicago:20250612T170000
DTSTAMP:20260425T185742
CREATED:20250613T090748Z
LAST-MODIFIED:20250617T135518Z
UID:63289-1749715200-1749747600@mecop.org
SUMMARY:Risk Adjustment and Exploring "The Matrix" of Neurological Conditions
DESCRIPTION:1) Explain the importance of risk adjustment in Value Based Care models.\n2) Strengthen understanding of the coding guidelines and regulations\, including compliance and the impact of diagnosis coding on risk-adjusted payment models.\n3) Have an increased awareness of the auditing process for risk adjustment models.\n4) Have a better understanding of how to document for and report diagnosis codes to highest specificity.
URL:https://mecop.org/event/risk-adjustment-and-exploring-the-matrix-with-neurological-conditions/
LOCATION:Internet Live Webcast
CATEGORIES:AMA
END:VEVENT
BEGIN:VEVENT
DTSTART;TZID=America/Chicago:20250612T080000
DTEND;TZID=America/Chicago:20250612T170000
DTSTAMP:20260425T185742
CREATED:20250519T193119Z
LAST-MODIFIED:20250701T202722Z
UID:62939-1749715200-1749747600@mecop.org
SUMMARY:FSU Early Detection of Pediatric Suicidal Ideation in Primary Care Settings
DESCRIPTION:1. Explain trends of suicide rates in children and adolescents.  2. List three suicide risk factors in children.  3. Explain how to use 2 types of suicide screening tools in primary care settings.  4. Identify three ways of lethal means restrictions at home for suicidal patients.   5. Develop three pathways of obtaining mental health care for suicidal patients based on risk level.
URL:https://mecop.org/event/fsu-early-detection-of-pediatric-suicidal-ideation-in-primary-care-settings/
LOCATION:Live
CATEGORIES:AMA
END:VEVENT
BEGIN:VEVENT
DTSTART;TZID=America/Chicago:20250611T080000
DTEND;TZID=America/Chicago:20250611T170000
DTSTAMP:20260425T185742
CREATED:20250715T203904Z
LAST-MODIFIED:20250715T203910Z
UID:63705-1749628800-1749661200@mecop.org
SUMMARY:PEEP The Cider House Rules of Risk Adjustment
DESCRIPTION:See content.
URL:https://mecop.org/event/peep-the-cider-house-rules-of-risk-adjustment-3/
LOCATION:Internet Enduring Material
END:VEVENT
BEGIN:VEVENT
DTSTART;TZID=America/Chicago:20250611T080000
DTEND;TZID=America/Chicago:20250611T170000
DTSTAMP:20260425T185742
CREATED:20250618T120053Z
LAST-MODIFIED:20250626T203646Z
UID:63317-1749628800-1749661200@mecop.org
SUMMARY:VIP Care Performance Forum
DESCRIPTION:
URL:https://mecop.org/event/vip-care-performance-forum-6/
LOCATION:Zoom
CATEGORIES:AMA
END:VEVENT
BEGIN:VEVENT
DTSTART;TZID=America/Chicago:20250611T080000
DTEND;TZID=America/Chicago:20250611T170000
DTSTAMP:20260425T185742
CREATED:20250612T165341Z
LAST-MODIFIED:20250612T174629Z
UID:63265-1749628800-1749661200@mecop.org
SUMMARY:Risk Adjustment and Exploring "The Matrix" of Neurological Conditions
DESCRIPTION:1) Explain the importance of risk adjustment in Value Based Care models.\n2) Strengthen understanding of the coding guidelines and regulations\, including compliance and the impact of diagnosis coding on risk-adjusted payment models.\n3) Have an increased awareness of the auditing process for risk adjustment models.\n4) Have a better understanding of how to document for and report diagnosis codes to highest specificity.
URL:https://mecop.org/event/risk-adjustment-and-exploring-the-matrix-of-neurological-conditions/
LOCATION:Internet Live Webcast
CATEGORIES:AMA
END:VEVENT
BEGIN:VEVENT
DTSTART;TZID=America/Chicago:20250610T080000
DTEND;TZID=America/Chicago:20250610T170000
DTSTAMP:20260425T185742
CREATED:20250715T204149Z
LAST-MODIFIED:20250910T181726Z
UID:63707-1749542400-1749574800@mecop.org
SUMMARY:PEEP Risk Adjustment and Diners\, Drive-Ins and Dives for Your GI
DESCRIPTION:See content.
URL:https://mecop.org/event/peep-risk-adjustment-and-diners-drive-ins-and-dives-for-your-gi-2/
LOCATION:Internet Enduring Material
CATEGORIES:AAFP
END:VEVENT
BEGIN:VEVENT
DTSTART;TZID=America/Chicago:20250610T080000
DTEND;TZID=America/Chicago:20250610T170000
DTSTAMP:20260425T185742
CREATED:20250619T162151Z
LAST-MODIFIED:20260204T143928Z
UID:63344-1749542400-1749574800@mecop.org
SUMMARY:Summit Medical Grand Rounds: Lp(a)​ - What We Should Know and Where We Should Go
DESCRIPTION:Session Objectives\nOutline why Lp(a) is important in terms of Coronary Heart Disease\, stroke and nonvascular mortality risk.\nOutline 2019 NLA guidelines for Lp(a) testing.\nDemonstrate the effect of common lipid-lowering treatments on Lp(a).
URL:https://mecop.org/event/summit-medical-grand-rounds-lpa-what-we-should-know-and-where-we-should-go/
CATEGORIES:AMA
END:VEVENT
BEGIN:VEVENT
DTSTART;TZID=America/Chicago:20250610T080000
DTEND;TZID=America/Chicago:20250610T170000
DTSTAMP:20260425T185742
CREATED:20250612T172404Z
LAST-MODIFIED:20250612T185056Z
UID:63275-1749542400-1749574800@mecop.org
SUMMARY:2024 Annual Required Medical Staff Education
DESCRIPTION:Unavailable
URL:https://mecop.org/event/2024-annual-required-medical-staff-education-2/
LOCATION:Live Activity
CATEGORIES:AMA
END:VEVENT
BEGIN:VEVENT
DTSTART;TZID=America/Chicago:20250607T080000
DTEND;TZID=America/Chicago:20250607T170000
DTSTAMP:20260425T185742
CREATED:20251104T201809Z
LAST-MODIFIED:20251104T201939Z
UID:65302-1749283200-1749315600@mecop.org
SUMMARY:Management of Other Substance Use Disorders: Alcohol and Benzodiazepines
DESCRIPTION:Unavailable
URL:https://mecop.org/event/management-of-other-substance-use-disorders-alcohol-and-benzodiazepines/
LOCATION:Enduring Educational Activity
CATEGORIES:AMA
END:VEVENT
BEGIN:VEVENT
DTSTART;TZID=America/Chicago:20250606T080000
DTEND;TZID=America/Chicago:20250606T170000
DTSTAMP:20260425T185742
CREATED:20250715T204727Z
LAST-MODIFIED:20250715T204733Z
UID:63712-1749196800-1749229200@mecop.org
SUMMARY:PEEP Risk Adjustment and Top Gun Tips for Coding Cancer
DESCRIPTION:See content.
URL:https://mecop.org/event/peep-risk-adjustment-and-top-gun-tips-for-coding-cancer-2/
LOCATION:Internet Enduring Material
CATEGORIES:AMA
END:VEVENT
BEGIN:VEVENT
DTSTART;TZID=America/Chicago:20250606T080000
DTEND;TZID=America/Chicago:20250606T170000
DTSTAMP:20260425T185742
CREATED:20250715T204514Z
LAST-MODIFIED:20250910T181350Z
UID:63710-1749196800-1749229200@mecop.org
SUMMARY:PEEP Risk Adjustment and The Empire Strikes Back with Diabetes
DESCRIPTION:See content.
URL:https://mecop.org/event/peep-risk-adjustment-and-the-empire-strikes-back-with-diabetes-3/
LOCATION:Internet Enduring Material
CATEGORIES:AMA
END:VEVENT
BEGIN:VEVENT
DTSTART;TZID=America/Chicago:20250606T080000
DTEND;TZID=America/Chicago:20250606T170000
DTSTAMP:20260425T185742
CREATED:20250627T132242Z
LAST-MODIFIED:20251210T100535Z
UID:63453-1749196800-1749229200@mecop.org
SUMMARY:2025 Faculty Teaching Credits ENT Surgery Clerkship
DESCRIPTION:Unavailable
URL:https://mecop.org/event/2025-faculty-teaching-credits-ent-surgery-clerkship/
LOCATION:Tallahassee Regional Campus\, Tallahassee\, FL\, United States
CATEGORIES:AMA
END:VEVENT
BEGIN:VEVENT
DTSTART;TZID=America/Chicago:20250606T080000
DTEND;TZID=America/Chicago:20250606T170000
DTSTAMP:20260425T185742
CREATED:20250627T131832Z
LAST-MODIFIED:20251006T115933Z
UID:63450-1749196800-1749229200@mecop.org
SUMMARY:2025 Faculty Teaching Credits Clinical Clerkship
DESCRIPTION:Unavailable
URL:https://mecop.org/event/2025-faculty-teaching-credits-clinical-clerkship/
LOCATION:Tallahassee Regional Campus\, Tallahassee\, FL\, United States
CATEGORIES:AMA
END:VEVENT
BEGIN:VEVENT
DTSTART;TZID=America/Chicago:20250606T080000
DTEND;TZID=America/Chicago:20250606T170000
DTSTAMP:20260425T185742
CREATED:20250617T184300Z
LAST-MODIFIED:20250712T131155Z
UID:63306-1749196800-1749229200@mecop.org
SUMMARY:2025 Faculty Teaching Credits Geriatrics Clerkship
DESCRIPTION:Unavailable
URL:https://mecop.org/event/2025-faculty-teaching-credits-geriatrics-clerkship-3/
LOCATION:Fort Pierce Regional Campus\, 1200 W International Speedway Blvd #101\, Daytona Beach\, FL\, 32114\, United States
CATEGORIES:AMA
END:VEVENT
BEGIN:VEVENT
DTSTART;TZID=America/Chicago:20250606T080000
DTEND;TZID=America/Chicago:20250606T170000
DTSTAMP:20260425T185742
CREATED:20250612T150717Z
LAST-MODIFIED:20250612T150717Z
UID:63263-1749196800-1749229200@mecop.org
SUMMARY:2025 Faculty Teaching Credits Interventional Radiology Clerkship
DESCRIPTION:Unavailable
URL:https://mecop.org/event/2025-faculty-teaching-credits-interventional-radiology-clerkship/
LOCATION:Pensacola Regional Campus\, 11000 University Parkway Bldg 234\, 2nd Floor\, Pensacola\, FL\, 32514-5750\, United States
CATEGORIES:AMA
END:VEVENT
END:VCALENDAR