BEGIN:VCALENDAR
VERSION:2.0
PRODID:-//Mecop - ECPv6.5.1.5//NONSGML v1.0//EN
CALSCALE:GREGORIAN
METHOD:PUBLISH
X-WR-CALNAME:Mecop
X-ORIGINAL-URL:https://mecop.org
X-WR-CALDESC:Events for Mecop
REFRESH-INTERVAL;VALUE=DURATION:PT1H
X-Robots-Tag:noindex
X-PUBLISHED-TTL:PT1H
BEGIN:VTIMEZONE
TZID:America/Chicago
BEGIN:DAYLIGHT
TZOFFSETFROM:-0600
TZOFFSETTO:-0500
TZNAME:CDT
DTSTART:20250309T080000
END:DAYLIGHT
BEGIN:STANDARD
TZOFFSETFROM:-0500
TZOFFSETTO:-0600
TZNAME:CST
DTSTART:20251102T070000
END:STANDARD
END:VTIMEZONE
BEGIN:VEVENT
DTSTART;TZID=America/Chicago:20250719T080000
DTEND;TZID=America/Chicago:20250719T170000
DTSTAMP:20260423T151644
CREATED:20250908T212110Z
LAST-MODIFIED:20250908T212117Z
UID:64415-1752912000-1752944400@mecop.org
SUMMARY:PEEP Risk Adjustment Reaching the Vertical Limit Pulmonary Conditions
DESCRIPTION:
URL:https://mecop.org/event/peep-risk-adjustment-reaching-the-vertical-limit-pulmonary-conditions-3/
LOCATION:Internet Enduring Material
CATEGORIES:AMA
END:VEVENT
BEGIN:VEVENT
DTSTART;TZID=America/Chicago:20250719T080000
DTEND;TZID=America/Chicago:20250719T170000
DTSTAMP:20260423T151644
CREATED:20250722T191036Z
LAST-MODIFIED:20250723T143320Z
UID:63804-1752912000-1752944400@mecop.org
SUMMARY:Method Aesthetics Academy: Level 1 Training
DESCRIPTION:Demonstrate competency in facial anatomy as it pertains to placement of botulinium toxin and filler. Demonstrate competence in neurotoxin and filler. Perform proper placement and injection of neurotoxin and filler for glabella\, frontalis and crow’s feet\, as well as cheeks\, lips and nasolabial folds.
URL:https://mecop.org/event/method-aesthetics-academy-level-1-training-10/
LOCATION:Mela MedSpa
CATEGORIES:AMA
END:VEVENT
BEGIN:VEVENT
DTSTART;TZID=America/Chicago:20250718T113000
DTEND;TZID=America/Chicago:20250718T123000
DTSTAMP:20260423T151644
CREATED:20250708T210933Z
LAST-MODIFIED:20250811T130428Z
UID:63579-1752838200-1752841800@mecop.org
SUMMARY:Pediatric Associates Asthma Refresher Series: Asthma Guidelines
DESCRIPTION:TBA
URL:https://mecop.org/event/pediatric-associates-asthma-refresher-series-asthma-guidelines-2/
LOCATION:Virtual
CATEGORIES:AMA
END:VEVENT
BEGIN:VEVENT
DTSTART;TZID=America/Chicago:20250718T090000
DTEND;TZID=America/Chicago:20250718T150000
DTSTAMP:20260423T151644
CREATED:20250705T120913Z
LAST-MODIFIED:20251023T210649Z
UID:63532-1752829200-1752850800@mecop.org
SUMMARY:MUSM Autism in Rural Georgia Conference 2025
DESCRIPTION:Breakout Sessions 1 and 2: \nConnecting Through Communication- \nIdentify common communication challenges experienced by children and teens with autism and across different developmental levels. \nDescribe evidence-based strategies that support expressive and receptive communication in everyday routines. \nDemonstrate how to use visual support and modeling techniques to foster connection. \nApply a strengths-based approach to building communication opportunities in home and community settings. \nThe Behavioral Blueprint: Practical Strategies to Shape Better Outcomes- \nIdentify general strategies for engineering environmental changes to support behavioral needs. \nIdentify general strategies for conducting preference assessments to support behavioral needs. \nIdentify general strategies for de-escalating challenging behavior to better support positive outcomes.
URL:https://mecop.org/event/musm-autism-in-rural-georgia-conference/
LOCATION:Various Meeting Locations\, Mercer University School of Medicine\, Macon Campus
CATEGORIES:AMA
END:VEVENT
BEGIN:VEVENT
DTSTART;TZID=America/Chicago:20250718T080000
DTEND;TZID=America/Chicago:20250718T170000
DTSTAMP:20260423T151644
CREATED:20251031T150045Z
LAST-MODIFIED:20251031T150045Z
UID:65206-1752825600-1752858000@mecop.org
SUMMARY:2025 Faculty Teaching Credits Inpatient Medicine Clerkship
DESCRIPTION:Unavailable
URL:https://mecop.org/event/2025-faculty-teaching-credits-inpatient-medicine-clerkship/
LOCATION:Tallahassee Regional Campus\, Tallahassee\, FL\, United States
CATEGORIES:AMA
END:VEVENT
BEGIN:VEVENT
DTSTART;TZID=America/Chicago:20250718T080000
DTEND;TZID=America/Chicago:20250718T170000
DTSTAMP:20260423T151644
CREATED:20251001T170029Z
LAST-MODIFIED:20251001T170755Z
UID:64748-1752825600-1752858000@mecop.org
SUMMARY:2025 Faculty Teaching Credits Psychiatry/Geriatrics Clerkship
DESCRIPTION:Unavailable
URL:https://mecop.org/event/2025-faculty-teaching-credits-psychiatry-geriatrics-clerkship/
LOCATION:Sarasota Regional Campus\, 5560 Bee Ridge Rd\, Sarasota\, FL\, 34233\, United States
CATEGORIES:AMA
END:VEVENT
BEGIN:VEVENT
DTSTART;TZID=America/Chicago:20250718T080000
DTEND;TZID=America/Chicago:20250718T170000
DTSTAMP:20260423T151644
CREATED:20250929T191456Z
LAST-MODIFIED:20250929T191653Z
UID:64679-1752825600-1752858000@mecop.org
SUMMARY:2025 Faculty Teaching Credits Vascular Neurology Clerkship
DESCRIPTION:Unavailable
URL:https://mecop.org/event/2025-faculty-teaching-credits-vascular-neurology-clerkship/
LOCATION:Sarasota Regional Campus\, 5560 Bee Ridge Rd\, Sarasota\, FL\, 34233\, United States
CATEGORIES:AMA
END:VEVENT
BEGIN:VEVENT
DTSTART;TZID=America/Chicago:20250718T080000
DTEND;TZID=America/Chicago:20250718T170000
DTSTAMP:20260423T151644
CREATED:20250924T193536Z
LAST-MODIFIED:20250924T193536Z
UID:64617-1752825600-1752858000@mecop.org
SUMMARY:2025 Faculty Teaching Credits Internal Medicine/Cardiology Clerkship
DESCRIPTION:Unavailable
URL:https://mecop.org/event/2025-faculty-teaching-credits-internal-medicine-cardiology-clerkship-2/
LOCATION:Daytona Beach Regional Campus\, 1200 W International Speedway\, Daytona Beach\, FL\, 32114\, United States
CATEGORIES:AMA
END:VEVENT
BEGIN:VEVENT
DTSTART;TZID=America/Chicago:20250718T080000
DTEND;TZID=America/Chicago:20250718T170000
DTSTAMP:20260423T151644
CREATED:20250808T211700Z
LAST-MODIFIED:20250811T130937Z
UID:64026-1752825600-1752858000@mecop.org
SUMMARY:Pediatric Associates Asthma Refresher Series: Spirometry Overview and Asthma FAQ Session
DESCRIPTION:
URL:https://mecop.org/event/pediatric-associates-asthma-refresher-series-spirometry-overview-and-asthma-faq-session/
CATEGORIES:AMA
END:VEVENT
BEGIN:VEVENT
DTSTART;TZID=America/Chicago:20250717T090000
DTEND;TZID=America/Chicago:20250717T160000
DTSTAMP:20260423T151644
CREATED:20250705T134050Z
LAST-MODIFIED:20251023T210604Z
UID:63540-1752742800-1752768000@mecop.org
SUMMARY:MUSM Autism in Rural Georgia Conference 2025
DESCRIPTION:TBA
URL:https://mecop.org/event/musm-autism-in-rural-georgia-conference-2025/
LOCATION:President’s Dining Room\, Mercer University\, Macon Campus
CATEGORIES:AMA
END:VEVENT
BEGIN:VEVENT
DTSTART;TZID=America/Chicago:20250717T080000
DTEND;TZID=America/Chicago:20250908T170000
DTSTAMP:20260423T151644
CREATED:20250908T212422Z
LAST-MODIFIED:20250908T212429Z
UID:64417-1752739200-1757350800@mecop.org
SUMMARY:PEEP Risk Adjustment and the Facts of Life about Pediatric Conditions
DESCRIPTION:Review CMS-HCC risk adjustment model and why it is important\nReview specific official ICD-10-CM coding guidelines and how they are applied for HCC diagnosis coding\nIdentify elements of the medical record that help support the validation of an HCC diagnosis condition\nIdentify documentation deficiencies for specific conditions
URL:https://mecop.org/event/peep-risk-adjustment-and-the-facts-of-life-about-pediatric-conditions-6/
LOCATION:Internet Enduring Material
CATEGORIES:AMA
END:VEVENT
BEGIN:VEVENT
DTSTART;TZID=America/Chicago:20250717T080000
DTEND;TZID=America/Chicago:20250717T170000
DTSTAMP:20260423T151644
CREATED:20250908T211236Z
LAST-MODIFIED:20250908T211243Z
UID:64409-1752739200-1752771600@mecop.org
SUMMARY:PEEP Risk Adjustment and Total Recall - Best Practices for Documentation and Coding
DESCRIPTION:
URL:https://mecop.org/event/peep-risk-adjustment-and-total-recall-best-practices-for-documentation-and-coding-3/
LOCATION:Internet Enduring Material
CATEGORIES:AMA
END:VEVENT
BEGIN:VEVENT
DTSTART;TZID=America/Chicago:20250717T080000
DTEND;TZID=America/Chicago:20250717T170000
DTSTAMP:20260423T151644
CREATED:20250908T205713Z
LAST-MODIFIED:20250908T210222Z
UID:64403-1752739200-1752771600@mecop.org
SUMMARY:PEEP Risk Adjustment and Vascular Disease
DESCRIPTION:Review CMS-HCC risk adjustment model and why it is important\nReview specific official ICD-10-CM coding guidelines and how they are applied for HCC diagnosis coding\nIdentify elements of the medical record that help support the validation of an HCC diagnosis condition\nIdentify documentation deficiencies for specific conditions
URL:https://mecop.org/event/peep-risk-adjustment-and-vascular-disease-9/
LOCATION:Internet Enduring Material
CATEGORIES:AMA
END:VEVENT
BEGIN:VEVENT
DTSTART;TZID=America/Chicago:20250717T080000
DTEND;TZID=America/Chicago:20250717T170000
DTSTAMP:20260423T151644
CREATED:20250720T135148Z
LAST-MODIFIED:20250722T155601Z
UID:63748-1752739200-1752771600@mecop.org
SUMMARY:Risk Adjustment and Managing the Summertime Blues Behavioral Health Part 1
DESCRIPTION:Gain understanding of risk adjustment methodology and its role in Value Based Care models.\nReview specific official ICD-10-CM coding guidelines and how they are applied to diagnosis coding and reporting.\nIdentify elements of the medical record that help support the validation of reported conditions.\nIdentify documentation deficiencies for specific conditions.
URL:https://mecop.org/event/risk-adjustment-and-managing-the-summertime-blues-behavioral-health-part-1-4/
LOCATION:Internet Live Webcast
CATEGORIES:AMA
END:VEVENT
BEGIN:VEVENT
DTSTART;TZID=America/Chicago:20250717T080000
DTEND;TZID=America/Chicago:20250717T170000
DTSTAMP:20260423T151644
CREATED:20250717T172205Z
LAST-MODIFIED:20250728T113649Z
UID:63730-1752739200-1752771600@mecop.org
SUMMARY:Better Health Group Provider Bootcamp
DESCRIPTION:To discuss the impact of metabolic disorder on chronic conditions\, pathophysiology\, treatment and care plans.
URL:https://mecop.org/event/better-health-group-provider-bootcamp-4/
LOCATION:Virtual
CATEGORIES:AMA
END:VEVENT
BEGIN:VEVENT
DTSTART;TZID=America/Chicago:20250716T180000
DTEND;TZID=America/Chicago:20250716T210000
DTSTAMP:20260423T151644
CREATED:20250611T114635Z
LAST-MODIFIED:20251215T164617Z
UID:63226-1752688800-1752699600@mecop.org
SUMMARY:Pediatric Associates PACE Meeting
DESCRIPTION:TBA
URL:https://mecop.org/event/pediatric-associates-pace-meeting-54/
LOCATION:Zoom
CATEGORIES:AMA
END:VEVENT
BEGIN:VEVENT
DTSTART;TZID=America/Chicago:20250716T080000
DTEND;TZID=America/Chicago:20250716T170000
DTSTAMP:20260423T151644
CREATED:20250722T174921Z
LAST-MODIFIED:20250722T174921Z
UID:63800-1752652800-1752685200@mecop.org
SUMMARY:Pediatric Associates PACE Meeting
DESCRIPTION:
URL:https://mecop.org/event/pediatric-associates-pace-meeting-56/
LOCATION:Zoom
CATEGORIES:AMA
END:VEVENT
BEGIN:VEVENT
DTSTART;TZID=America/Chicago:20250715T180000
DTEND;TZID=America/Chicago:20250715T190000
DTSTAMP:20260423T151644
CREATED:20250403T114349Z
LAST-MODIFIED:20250716T153311Z
UID:62008-1752602400-1752606000@mecop.org
SUMMARY:ECMS Meeting: Suicide Prevention
DESCRIPTION:The purpose of this CME activity is to let physicians know the warning signs of suicide in their patients\, what questions to ask\, survey resources and what resources they have locally to refer people to.
URL:https://mecop.org/event/ecms-meeting-suicide-prevention/
LOCATION:Virtual
CATEGORIES:AMA
END:VEVENT
BEGIN:VEVENT
DTSTART;TZID=America/Chicago:20250715T080000
DTEND;TZID=America/Chicago:20250715T170000
DTSTAMP:20260423T151644
CREATED:20250718T162541Z
LAST-MODIFIED:20250718T162548Z
UID:63742-1752566400-1752598800@mecop.org
SUMMARY:CMS Monthly Provider Meeting
DESCRIPTION:Discussed EMR updates and vital sign expectations.\nReviewed On-Time medical data\nLearned about poppy seeds and their correlation with positive opiates in UDS results.\nDiscussed cannabidiol and it’s cause of elevated LFTs in patients\nExplored different patient case scenarios that involve escalating to the treatment team for final decision making\nImprovement in documenting various data and understanding who’s responsible for specific activities. Gained knowledge concerning poppy seeds and cannabidiol
URL:https://mecop.org/event/cms-monthly-provider-meeting-14/
LOCATION:Internet Live Webcast
CATEGORIES:AMA
END:VEVENT
BEGIN:VEVENT
DTSTART;TZID=America/Chicago:20250715T080000
DTEND;TZID=America/Chicago:20250715T170000
DTSTAMP:20260423T151644
CREATED:20250715T180142Z
LAST-MODIFIED:20250715T180322Z
UID:63699-1752566400-1752598800@mecop.org
SUMMARY:Risk Adjustment and Managing the Summertime Blues Behavioral Health Part 1
DESCRIPTION:Gain understanding of risk adjustment methodology and its role in Value Based Care models.\nReview specific official ICD-10-CM coding guidelines and how they are applied to diagnosis coding and reporting.\nIdentify elements of the medical record that help support the validation of reported conditions.\nIdentify documentation deficiencies for specific conditions.
URL:https://mecop.org/event/risk-adjustment-and-managing-the-summertime-blues-behavioral-health-part-1-3/
LOCATION:Internet Live Webcast
CATEGORIES:AMA
END:VEVENT
BEGIN:VEVENT
DTSTART;TZID=America/Chicago:20250715T080000
DTEND;TZID=America/Chicago:20250715T170000
DTSTAMP:20260423T151644
CREATED:20250714T210705Z
LAST-MODIFIED:20250731T133902Z
UID:63693-1752566400-1752598800@mecop.org
SUMMARY:Community Medical Services Provider Manual: Addiction Primer
DESCRIPTION:
URL:https://mecop.org/event/community-medical-services-provider-manual-addiction-primer-12/
LOCATION:Enduring Material
CATEGORIES:AMA
END:VEVENT
BEGIN:VEVENT
DTSTART;TZID=America/Chicago:20250715T080000
DTEND;TZID=America/Chicago:20250715T170000
DTSTAMP:20260423T151644
CREATED:20250713T164319Z
LAST-MODIFIED:20260204T144009Z
UID:63656-1752566400-1752598800@mecop.org
SUMMARY:Summit Medical Grand Rounds: Angina with No Obstructive Coronary Arteries: What You Can’t See Can Hurt You
DESCRIPTION:Identify causes of angina other than obstructive coronary disease.\nRecognize the clinical and economic impact of ANOCA.\nImplement treatment strategies to address ANOCA.
URL:https://mecop.org/event/summit-medical-group-grand-rounds-3/
LOCATION:Live
CATEGORIES:AMA
END:VEVENT
BEGIN:VEVENT
DTSTART;TZID=America/Chicago:20250715T070000
DTEND;TZID=America/Chicago:20250715T080000
DTSTAMP:20260423T151644
CREATED:20250716T173811Z
LAST-MODIFIED:20250809T153622Z
UID:63722-1752562800-1752566400@mecop.org
SUMMARY:Baldwin Health Tumor Board
DESCRIPTION:1. Review patient cases and all necessary findings (pathology\, radiology\, surgery\, etc.) and discuss key findings to determine course of treatment.\n2. Discuss implications amongst multidisciplinary team members\, and review best practices\, current\nevidence-based findings\, etc.\n3. Assign treatment protocols based on consensus of the multidisciplinary team.
URL:https://mecop.org/event/baldwin-health-tumor-board-7/
LOCATION:West Wing Conference Room
CATEGORIES:AMA
END:VEVENT
BEGIN:VEVENT
DTSTART;TZID=America/Chicago:20250714T120000
DTEND;TZID=America/Chicago:20250714T133000
DTSTAMP:20260423T151644
CREATED:20250706T114653Z
LAST-MODIFIED:20250807T122655Z
UID:63549-1752494400-1752499800@mecop.org
SUMMARY:MUSM Clinical Faculty Development Series
DESCRIPTION:“One Minute Preceptor”. Dr. Donna Evans \nLearning Objectives \nBy the end of this session\, participants will be able to: \nDescribe the key principles and structure of the One Minute Preceptor (OMP) model. \nExplain the rationale and benefits of delivering timely\, specific feedback in clinical teaching settings. \nDemonstrate how to provide effective One Minute Preceptor using real or simulated clinical encounters. \nIdentify common barriers to giving feedback in the clinical environment and propose strategies to overcome them. \nIntegrate the One Minute Feedback technique into routine clinical supervision of medical learners. \n“Improving Direct Observation of Physical Exam and History-Taking Skills in Year 3 Clerkships”. Dr. Ashley Jones \nLearning Objectives \nBy the end of this session\, participants will be able to: \nRecognize the importance of direct observation in assessing clinical competencies during clerkships. \nDiscuss current barriers and facilitators to performing direct observation in busy clinical settings. \nApply strategies to increase the frequency and quality of direct observation of medical students in Year 3. \nDesign or enhance clerkship activities that incorporate structured observation and feedback on core clinical skills. \n“Adopting the Mentor Mindset in Clinical Teaching”. Dr. David Baxter \nLearning Objectives \nBy the end of this session\, participants will be able to: \nDefine the “Mentor Mindset” and its relevance to clinical teaching in the context of undergraduate medical education. \nDifferentiate between traditional clinical supervision and mentorship approaches in supporting third-year medical students. \nRecognize the impact of psychological safety\, role modeling\, and learner-centered support in clinical mentorship. \nIdentify behaviors and communication strategies that foster a growth-oriented learning environment. \nApply practical mentoring techniques to support student development in clinical reasoning\, professionalism\, and self-reflection during clerkships.
URL:https://mecop.org/event/musm-clinical-faculty-development-series-44/
LOCATION:Zoom
CATEGORIES:AMA
END:VEVENT
BEGIN:VEVENT
DTSTART;TZID=America/Chicago:20250713T080000
DTEND;TZID=America/Chicago:20250713T170000
DTSTAMP:20260423T151644
CREATED:20250721T221654Z
LAST-MODIFIED:20250721T221831Z
UID:63783-1752393600-1752426000@mecop.org
SUMMARY:Eastern Equine Encephalitis in the US
DESCRIPTION:Unavailable
URL:https://mecop.org/event/eastern-equine-encephalitis-in-the-us/
LOCATION:Journal based CME activity
CATEGORIES:AMA
END:VEVENT
BEGIN:VEVENT
DTSTART;TZID=America/Chicago:20250713T080000
DTEND;TZID=America/Chicago:20250713T170000
DTSTAMP:20260423T151644
CREATED:20250721T221150Z
LAST-MODIFIED:20250721T221312Z
UID:63780-1752393600-1752426000@mecop.org
SUMMARY:West Nile Virus: A Review
DESCRIPTION:Unavailable
URL:https://mecop.org/event/west-nile-virus-a-review/
LOCATION:Journal based CME activity
CATEGORIES:AMA
END:VEVENT
BEGIN:VEVENT
DTSTART;TZID=America/Chicago:20250713T080000
DTEND;TZID=America/Chicago:20250713T170000
DTSTAMP:20260423T151644
CREATED:20250721T220527Z
LAST-MODIFIED:20250721T220714Z
UID:63777-1752393600-1752426000@mecop.org
SUMMARY:A 25-Year-Old With Palpitations\, Fatigue\, and Migraines
DESCRIPTION:Unavailable
URL:https://mecop.org/event/a-25-year-old-with-palpitations-fatigue-and-migraines/
LOCATION:Journal based CME activity
CATEGORIES:AMA
END:VEVENT
BEGIN:VEVENT
DTSTART;TZID=America/Chicago:20250713T080000
DTEND;TZID=America/Chicago:20250713T170000
DTSTAMP:20260423T151644
CREATED:20250721T215859Z
LAST-MODIFIED:20250721T220028Z
UID:63774-1752393600-1752426000@mecop.org
SUMMARY:Inflammation in Neuropsychiatric Disorders
DESCRIPTION:Unavailable
URL:https://mecop.org/event/inflammation-in-neuropsychiatric-disorders/
LOCATION:Journal based CME activity
CATEGORIES:AMA
END:VEVENT
BEGIN:VEVENT
DTSTART;TZID=America/Chicago:20250713T080000
DTEND;TZID=America/Chicago:20250713T170000
DTSTAMP:20260423T151644
CREATED:20250721T215325Z
LAST-MODIFIED:20250721T215451Z
UID:63771-1752393600-1752426000@mecop.org
SUMMARY:Isolated Hepatitis B Virus-A Rare Cause of Brain Damage
DESCRIPTION:Unavailable
URL:https://mecop.org/event/isolated-hepatitis-b-virus-a-rare-cause-of-brain-damage/
LOCATION:Journal based CME activity
CATEGORIES:AMA
END:VEVENT
BEGIN:VEVENT
DTSTART;TZID=America/Chicago:20250713T080000
DTEND;TZID=America/Chicago:20250713T170000
DTSTAMP:20260423T151644
CREATED:20250721T214230Z
LAST-MODIFIED:20250721T215017Z
UID:63768-1752393600-1752426000@mecop.org
SUMMARY:Progressive Tongue Root Mass in a 32-Year-Old Woman
DESCRIPTION:Unavailable
URL:https://mecop.org/event/progressive-tongue-root-mass-in-a-32-year-old-woman/
LOCATION:Journal based CME activity
CATEGORIES:AMA
END:VEVENT
END:VCALENDAR