BEGIN:VCALENDAR
VERSION:2.0
PRODID:-//Mecop - ECPv6.5.1.5//NONSGML v1.0//EN
CALSCALE:GREGORIAN
METHOD:PUBLISH
X-ORIGINAL-URL:https://mecop.org
X-WR-CALDESC:Events for Mecop
REFRESH-INTERVAL;VALUE=DURATION:PT1H
X-Robots-Tag:noindex
X-PUBLISHED-TTL:PT1H
BEGIN:VTIMEZONE
TZID:America/Chicago
BEGIN:DAYLIGHT
TZOFFSETFROM:-0600
TZOFFSETTO:-0500
TZNAME:CDT
DTSTART:20260308T080000
END:DAYLIGHT
BEGIN:STANDARD
TZOFFSETFROM:-0500
TZOFFSETTO:-0600
TZNAME:CST
DTSTART:20261101T070000
END:STANDARD
END:VTIMEZONE
BEGIN:VEVENT
DTSTART;TZID=America/Chicago:20260414T120000
DTEND;TZID=America/Chicago:20260414T130000
DTSTAMP:20260421T105615
CREATED:20260411T234845Z
LAST-MODIFIED:20260418T162931Z
UID:68129-1776168000-1776171600@mecop.org
SUMMARY:MUSM Clinical Faculty Development Series
DESCRIPTION:Accurately diagnose hypertension using office and out-of-office measurements\nConduct a focused evaluation to distinguish primary from secondary hypertension\nApply guideline-directed\, individualized pharmacologic and non-pharmacologic treatment strategies\nOptimize outcomes by integrating risk stratification and evidence from major trials into clinical decision-making
URL:https://mecop.org/event/musm-clinical-faculty-development-series-59/
LOCATION:Virtual
CATEGORIES:AMA
END:VEVENT
BEGIN:VEVENT
DTSTART;TZID=America/Chicago:20260415T123000
DTEND;TZID=America/Chicago:20260415T133000
DTSTAMP:20260421T105615
CREATED:20260403T193532Z
LAST-MODIFIED:20260421T114413Z
UID:68068-1776256200-1776259800@mecop.org
SUMMARY:MUSM Internal Medicine Grand Rounds
DESCRIPTION:– Describe the challenge in diagnosing and management of pulmonary hypertension (PH)\n– Review diagnostic modalities available and criteria for diagnosing PH to proactively identify those with mild – moderate PH to slow or even prevent disease progression\n– Review of current management and guidelines
URL:https://mecop.org/event/musm-internal-medicine-grand-rounds-8/
LOCATION:Live Activity
CATEGORIES:AMA
END:VEVENT
BEGIN:VEVENT
DTSTART;TZID=America/Chicago:20260416T080000
DTEND;TZID=America/Chicago:20260416T170000
DTSTAMP:20260421T105615
CREATED:20260412T191354Z
LAST-MODIFIED:20260419T190633Z
UID:68134-1776326400-1776358800@mecop.org
SUMMARY:Better Health Group Dinner Series
DESCRIPTION:Discussion around chronic inflammation and the overall impact on the blood brain barrier promoting Dementia and MDD\, what can primary care do to prevent\, diagnose and treat.
URL:https://mecop.org/event/better-health-group-dinner-series/
LOCATION:Virtual
CATEGORIES:AMA
END:VEVENT
BEGIN:VEVENT
DTSTART;TZID=America/Chicago:20260416T080000
DTEND;TZID=America/Chicago:20260416T170000
DTSTAMP:20260421T105615
CREATED:20260420T153759Z
LAST-MODIFIED:20260420T153806Z
UID:68244-1776326400-1776358800@mecop.org
SUMMARY:Building Muscle in Perimenopause and Beyond
DESCRIPTION:Peri and post menopause are associated with accelerated loss of lean mass\, strength and tendon resilience. This has recently been conceptualized as Musculoskeletal Syndrome of Menopause\, emphasizing that declining estrogen affects muscle\, bone\, tendon and connective tissue simultaneously. As a consequence\, providers see decreased lean muscle mass\, increased visceral adiposity\, reduced strength\, higher injury risk and reduced capacity for recovery. This webinar will address muscle building in this age group\, because it is not cosmetic; it is insurance and longevity for quality of life.   \nObjectives:\nDiscuss resistance training for the peri and post menopausal woman.\nOutline protein and substrate recommendations.\nAddress medical blockers\, hormone replacement therapy and GHRH/GH axis modulation.\nDiscuss evaluation\, risks and benefits for mitochondrial peptides.
URL:https://mecop.org/event/building-muscle-in-perimenopause-and-beyond/
LOCATION:Internet Live Webcast
CATEGORIES:AMA
END:VEVENT
BEGIN:VEVENT
DTSTART;TZID=America/Chicago:20260416T120000
DTEND;TZID=America/Chicago:20260416T130000
DTSTAMP:20260421T105615
CREATED:20260413T132210Z
LAST-MODIFIED:20260420T194610Z
UID:68141-1776340800-1776344400@mecop.org
SUMMARY:MUSM Clinical Faculty Development Series
DESCRIPTION:Define management reasoning as a distinct form of clinical judgment focused on decisions about testing\, treatment\, follow-up\, and resource use. \nDescribe how management reasoning develops from medical school through residency\, with specific attention to risk and uncertainty. \nIdentify common points where learners struggle with management decisions in everyday educational and clinical settings. \nDescribe ways management reasoning can be made more explicit in teaching across the educational continuum.
URL:https://mecop.org/event/musm-clinical-faculty-development-series-60/
LOCATION:Virtual
CATEGORIES:AMA
END:VEVENT
BEGIN:VEVENT
DTSTART;TZID=America/Chicago:20260417T080000
DTEND;TZID=America/Chicago:20260417T170000
DTSTAMP:20260421T105615
CREATED:20260417T185823Z
LAST-MODIFIED:20260417T185830Z
UID:68203-1776412800-1776445200@mecop.org
SUMMARY:PediPlus and FamilyPlus Moderator Activities
DESCRIPTION:
URL:https://mecop.org/event/pediplus-and-familyplus-moderator-activities/
LOCATION:Internet Enduring Material
CATEGORIES:AMA
END:VEVENT
BEGIN:VEVENT
DTSTART;TZID=America/Chicago:20260419T080000
DTEND;TZID=America/Chicago:20260419T170000
DTSTAMP:20260421T105615
CREATED:20260419T104459Z
LAST-MODIFIED:20260419T104624Z
UID:68221-1776585600-1776618000@mecop.org
SUMMARY:2025 ACLS Instructor Update
DESCRIPTION:Unavailable
URL:https://mecop.org/event/2025-acls-instructor-update/
LOCATION:Enduring Material
CATEGORIES:AMA
END:VEVENT
BEGIN:VEVENT
DTSTART;TZID=America/Chicago:20260421T080000
DTEND;TZID=America/Chicago:20260421T170000
DTSTAMP:20260421T105615
CREATED:20260420T141453Z
LAST-MODIFIED:20260420T142354Z
UID:68237-1776758400-1776790800@mecop.org
SUMMARY:Summit Medical Grand Rounds: Pediatric Anxiety and Depression in Primary Care
DESCRIPTION:Discuss the components of a bio-psychosocial history and treatment planning of a child being evaluated for anxiety and/or depression\nPrepare to incorporate digital and traditional screening tools for children/parents for pediatric anxiety and depression\nDiscuss clinical pearls in the treatment of child and adolescent anxiety and depression\nExplain the algorithm for referral of child/teen with anxiety or depression to a mental health professional
URL:https://mecop.org/event/summit-medical-grand-rounds-10/
LOCATION:Internet Live Webcast
CATEGORIES:AMA
END:VEVENT
BEGIN:VEVENT
DTSTART;TZID=America/Chicago:20260423T080000
DTEND;TZID=America/Chicago:20260423T170000
DTSTAMP:20260421T105615
CREATED:20260412T192651Z
LAST-MODIFIED:20260412T192651Z
UID:68139-1776931200-1776963600@mecop.org
SUMMARY:Better Health Group Dinner Series
DESCRIPTION:Discussion around chronic inflammation and the overall impact on the blood brain barrier promoting Dementia and MDD\, what can primary care do to prevent\, diagnose and treat.
URL:https://mecop.org/event/better-health-group-dinner-series-2/
LOCATION:Virtual
CATEGORIES:AMA
END:VEVENT
BEGIN:VEVENT
DTSTART;TZID=America/Chicago:20260423T120000
DTEND;TZID=America/Chicago:20260423T130000
DTSTAMP:20260421T105615
CREATED:20260415T183320Z
LAST-MODIFIED:20260415T183913Z
UID:68186-1776945600-1776949200@mecop.org
SUMMARY:MUSM Clinical Faculty Development Series
DESCRIPTION:Explain the recommended types and amounts of physical activity in the Physical Activity Guidelines for Americans\, 2nd ed \n Summarize basic epidemiology and surveillance of physical activity\, including prevalence of meeting guidelines \n Identify the importance of physical activity for primary and tertiary prevention of major chronic diseases \n Describe techniques for assessing and promoting physical activity among patients
URL:https://mecop.org/event/musm-clinical-faculty-development-series-61/
LOCATION:Virtual
CATEGORIES:AMA
END:VEVENT
BEGIN:VEVENT
DTSTART;TZID=America/Chicago:20260428T070000
DTEND;TZID=America/Chicago:20260428T080000
DTSTAMP:20260421T105615
CREATED:20260328T185729Z
LAST-MODIFIED:20260328T191151Z
UID:67982-1777359600-1777363200@mecop.org
SUMMARY:Baldwin Health Tumor Board
DESCRIPTION:
URL:https://mecop.org/event/67982/
LOCATION:West Wing Conference Room
CATEGORIES:AMA
END:VEVENT
BEGIN:VEVENT
DTSTART;TZID=America/Chicago:20260429T120000
DTEND;TZID=America/Chicago:20260429T130000
DTSTAMP:20260421T105615
CREATED:20260419T103422Z
LAST-MODIFIED:20260419T103758Z
UID:68218-1777464000-1777467600@mecop.org
SUMMARY:MUSM Rural Autism ECHO: Strategies for Improving Healthcare for Autistic Patients in Rural Georgia
DESCRIPTION:TBA
URL:https://mecop.org/event/rural-autism-echo-strategies-for-improving-healthcare-for-autistic-patients-in-rural-georgia-4/
LOCATION:Virtual
CATEGORIES:AMA
END:VEVENT
BEGIN:VEVENT
DTSTART;TZID=America/Chicago:20260506T123000
DTEND;TZID=America/Chicago:20260506T133000
DTSTAMP:20260421T105615
CREATED:20260419T102201Z
LAST-MODIFIED:20260419T102417Z
UID:68212-1778070600-1778074200@mecop.org
SUMMARY:MUSM Internal Medicine Grand Rounds
DESCRIPTION:
URL:https://mecop.org/event/musm-internal-medicine-grand-rounds-9/
LOCATION:Live Activity
CATEGORIES:AMA
END:VEVENT
BEGIN:VEVENT
DTSTART;TZID=America/Chicago:20260520T080000
DTEND;TZID=America/Chicago:20260520T170000
DTSTAMP:20260421T105615
CREATED:20260419T102627Z
LAST-MODIFIED:20260419T102846Z
UID:68215-1779264000-1779296400@mecop.org
SUMMARY:MUSM Internal Medicine Grand Rounds
DESCRIPTION:TBA
URL:https://mecop.org/event/musm-internal-medicine-grand-rounds-10/
LOCATION:Live Activity
CATEGORIES:AMA
END:VEVENT
END:VCALENDAR