BEGIN:VCALENDAR
VERSION:2.0
PRODID:-//Mecop - ECPv6.5.1.5//NONSGML v1.0//EN
CALSCALE:GREGORIAN
METHOD:PUBLISH
X-WR-CALNAME:Mecop
X-ORIGINAL-URL:https://mecop.org
X-WR-CALDESC:Events for Mecop
REFRESH-INTERVAL;VALUE=DURATION:PT1H
X-Robots-Tag:noindex
X-PUBLISHED-TTL:PT1H
BEGIN:VTIMEZONE
TZID:America/Chicago
BEGIN:DAYLIGHT
TZOFFSETFROM:-0600
TZOFFSETTO:-0500
TZNAME:CDT
DTSTART:20250309T080000
END:DAYLIGHT
BEGIN:STANDARD
TZOFFSETFROM:-0500
TZOFFSETTO:-0600
TZNAME:CST
DTSTART:20251102T070000
END:STANDARD
END:VTIMEZONE
BEGIN:VEVENT
DTSTART;TZID=America/Chicago:20250810T080000
DTEND;TZID=America/Chicago:20250810T170000
DTSTAMP:20260423T072844
CREATED:20250819T195147Z
LAST-MODIFIED:20250819T195308Z
UID:64167-1754812800-1754845200@mecop.org
SUMMARY:Orf With Lymphangitis
DESCRIPTION:Unavailable
URL:https://mecop.org/event/orf-with-lymphangitis/
LOCATION:Journal based CME activity
CATEGORIES:AMA
END:VEVENT
BEGIN:VEVENT
DTSTART;TZID=America/Chicago:20250810T080000
DTEND;TZID=America/Chicago:20250810T170000
DTSTAMP:20260423T072844
CREATED:20250819T194440Z
LAST-MODIFIED:20250819T194546Z
UID:64164-1754812800-1754845200@mecop.org
SUMMARY:Whole-Body MRI in Children
DESCRIPTION:Unavailable
URL:https://mecop.org/event/whole-body-mri-in-children/
LOCATION:Enduring Activity
CATEGORIES:AMA
END:VEVENT
BEGIN:VEVENT
DTSTART;TZID=America/Chicago:20250810T080000
DTEND;TZID=America/Chicago:20250810T170000
DTSTAMP:20260423T072844
CREATED:20250819T193742Z
LAST-MODIFIED:20250819T193902Z
UID:64161-1754812800-1754845200@mecop.org
SUMMARY:LLM for Forming PCL Follow-Up Recommendations
DESCRIPTION:Unavailable
URL:https://mecop.org/event/llm-for-forming-pcl-follow-up-recommendations/
LOCATION:Enduring Activity
CATEGORIES:AMA
END:VEVENT
BEGIN:VEVENT
DTSTART;TZID=America/Chicago:20250810T080000
DTEND;TZID=America/Chicago:20250810T170000
DTSTAMP:20260423T072844
CREATED:20250819T193244Z
LAST-MODIFIED:20250819T193355Z
UID:64158-1754812800-1754845200@mecop.org
SUMMARY:LI-RADS CT/MRI Radiation Treatment Response Assessment
DESCRIPTION:Unavailable
URL:https://mecop.org/event/li-rads-ct-mri-radiation-treatment-response-assessment/
LOCATION:Enduring Activity
CATEGORIES:AMA
END:VEVENT
BEGIN:VEVENT
DTSTART;TZID=America/Chicago:20250810T080000
DTEND;TZID=America/Chicago:20250810T170000
DTSTAMP:20260423T072844
CREATED:20250819T192740Z
LAST-MODIFIED:20250819T192916Z
UID:64155-1754812800-1754845200@mecop.org
SUMMARY:Geroscience: A Review
DESCRIPTION:Unavailable
URL:https://mecop.org/event/geroscience-a-review/
LOCATION:Journal based CME activity
CATEGORIES:AMA
END:VEVENT
BEGIN:VEVENT
DTSTART;TZID=America/Chicago:20250810T080000
DTEND;TZID=America/Chicago:20250810T170000
DTSTAMP:20260423T072844
CREATED:20250813T214258Z
LAST-MODIFIED:20250813T220203Z
UID:64106-1754812800-1754845200@mecop.org
SUMMARY:Alcohol and Cancer Risk
DESCRIPTION:Unavailable
URL:https://mecop.org/event/alcohol-and-cancer-risk/
LOCATION:Journal based CME activity
CATEGORIES:AMA
END:VEVENT
BEGIN:VEVENT
DTSTART;TZID=America/Chicago:20250810T080000
DTEND;TZID=America/Chicago:20250810T170000
DTSTAMP:20260423T072844
CREATED:20250813T213519Z
LAST-MODIFIED:20250813T213656Z
UID:64103-1754812800-1754845200@mecop.org
SUMMARY:QUS and Elastography for Chronic Liver Disease
DESCRIPTION:Unavailable
URL:https://mecop.org/event/qus-and-elastography-for-chronic-liver-disease/
LOCATION:Enduring Activity
CATEGORIES:AMA
END:VEVENT
BEGIN:VEVENT
DTSTART;TZID=America/Chicago:20250810T080000
DTEND;TZID=America/Chicago:20250810T170000
DTSTAMP:20260423T072844
CREATED:20250813T212736Z
LAST-MODIFIED:20250813T212931Z
UID:64100-1754812800-1754845200@mecop.org
SUMMARY:CTA-Derived Plaque and ACS Risk in Patients With CAC0
DESCRIPTION:Unavailable
URL:https://mecop.org/event/cta-derived-plaque-and-acs-risk-in-patients-with-cac0/
LOCATION:Enduring Activity
CATEGORIES:AMA
END:VEVENT
BEGIN:VEVENT
DTSTART;TZID=America/Chicago:20250810T080000
DTEND;TZID=America/Chicago:20250810T170000
DTSTAMP:20260423T072844
CREATED:20250813T211416Z
LAST-MODIFIED:20250813T211539Z
UID:64094-1754812800-1754845200@mecop.org
SUMMARY:AI for LDCT Lung Cancer Screening
DESCRIPTION:Unavailable
URL:https://mecop.org/event/ai-for-ldct-lung-cancer-screening/
LOCATION:Enduring Activity
CATEGORIES:AMA
END:VEVENT
BEGIN:VEVENT
DTSTART;TZID=America/Chicago:20250810T080000
DTEND;TZID=America/Chicago:20250810T170000
DTSTAMP:20260423T072844
CREATED:20250813T205716Z
LAST-MODIFIED:20250813T205908Z
UID:64089-1754812800-1754845200@mecop.org
SUMMARY:Wash-In Characteristics of BPE on Breast UFMRI
DESCRIPTION:Unavailable
URL:https://mecop.org/event/wash-in-characteristics-of-bpe-on-breast-ufmri/
LOCATION:Enduring Activity
CATEGORIES:AMA
END:VEVENT
BEGIN:VEVENT
DTSTART;TZID=America/Chicago:20250809T080000
DTEND;TZID=America/Chicago:20250809T170000
DTSTAMP:20260423T072844
CREATED:20250811T142632Z
LAST-MODIFIED:20250811T142638Z
UID:64058-1754726400-1754758800@mecop.org
SUMMARY:Neurotoxin Training with Jaime
DESCRIPTION:Discuss the FDA-approved and off-label uses of neurotoxin. \nOutline proper product preparation and placement. \nDiscuss facial anatomy\, contraindications and patient consult. \nDemonstrate proper preparation\, patient consultation\, technique and injection of neurotoxin.
URL:https://mecop.org/event/neurotoxin-training-with-jaime-2/
LOCATION:Watt Plastic Surgery
CATEGORIES:AMA
END:VEVENT
BEGIN:VEVENT
DTSTART;TZID=America/Chicago:20250808T080000
DTEND;TZID=America/Chicago:20250808T170000
DTSTAMP:20260423T072844
CREATED:20250809T144718Z
LAST-MODIFIED:20250811T160432Z
UID:64030-1754640000-1754672400@mecop.org
SUMMARY:Risk Adjustment and The Force Awakens Behavioral Health Part 2
DESCRIPTION:Gain understanding of risk adjustment methodology and its role in Value Based Care models.\nReview specific official ICD-10-CM coding guidelines and how they are applied to diagnosis coding and reporting.\nIdentify elements of the medical record that help support the validation of reported conditions.\nIdentify documentation deficiencies for specific conditions.
URL:https://mecop.org/event/risk-adjustment-and-the-force-awakens-behavioral-health-part-2/
LOCATION:Internet Live Webcast
CATEGORIES:AMA
END:VEVENT
BEGIN:VEVENT
DTSTART;TZID=America/Chicago:20250807T080000
DTEND;TZID=America/Chicago:20250807T170000
DTSTAMP:20260423T072844
CREATED:20250922T163845Z
LAST-MODIFIED:20250922T170740Z
UID:64581-1754553600-1754586000@mecop.org
SUMMARY:ANI Dermal Filler Training
DESCRIPTION:Describe the facial anatomy involved in ageing\, and understand how the loss of volume in the fat pads impact appearance. \nOutline the various dermal filler categories\, products and brands available. \nPerform a patient consultation and prepare the product for administration.. \nIdentify contraindications and adverse events and perform appropriate management \nInject dermal filler on a variety of patients to successfully address their ageing concern.
URL:https://mecop.org/event/ani-dermal-filler-training-6/
LOCATION:Live Course
CATEGORIES:AMA
END:VEVENT
BEGIN:VEVENT
DTSTART;TZID=America/Chicago:20250806T080000
DTEND;TZID=America/Chicago:20250806T170000
DTSTAMP:20260423T072844
CREATED:20251013T112053Z
LAST-MODIFIED:20251013T112053Z
UID:64926-1754467200-1754499600@mecop.org
SUMMARY:General Adult Tumor Board 2025
DESCRIPTION:Unavailable
URL:https://mecop.org/event/general-adult-tumor-board-2025-30/
LOCATION:Ascension Sacred Heart Hospital\, FL
CATEGORIES:AMA
END:VEVENT
BEGIN:VEVENT
DTSTART;TZID=America/Chicago:20250806T080000
DTEND;TZID=America/Chicago:20250806T170000
DTSTAMP:20260423T072844
CREATED:20250910T153409Z
LAST-MODIFIED:20250910T153416Z
UID:64444-1754467200-1754499600@mecop.org
SUMMARY:PEEP The Cider House Rules of Risk Adjustment
DESCRIPTION:See content.
URL:https://mecop.org/event/peep-the-cider-house-rules-of-risk-adjustment-4/
LOCATION:Internet Enduring Material
CATEGORIES:AMA
END:VEVENT
BEGIN:VEVENT
DTSTART;TZID=America/Chicago:20250806T080000
DTEND;TZID=America/Chicago:20250806T170000
DTSTAMP:20260423T072844
CREATED:20250908T210757Z
LAST-MODIFIED:20250908T211014Z
UID:64406-1754467200-1754499600@mecop.org
SUMMARY:PEEP Risk Adjustment and The Heart of Rock n Roll and Arrhythmias
DESCRIPTION:* Review CMS-HCC risk adjustment model and know why it is important\n* Stronger understanding of the medical coding guidelines and regulations\, including compliance and the impact of diagnosis coding on CMS-HCC risk-adjustment payment models\n* Mindfulness to the auditing process for CMS- HCC risk adjustment models\n* Have a better understanding of how to utilize the appropriate Major Depressive Disorder and Diabetic complication codes.
URL:https://mecop.org/event/peep-risk-adjustment-and-the-heart-of-rock-n-roll-and-arrhythmias-2/
LOCATION:Internet Enduring Material
CATEGORIES:AMA
END:VEVENT
BEGIN:VEVENT
DTSTART;TZID=America/Chicago:20250806T080000
DTEND;TZID=America/Chicago:20250806T170000
DTSTAMP:20260423T072844
CREATED:20250813T211025Z
LAST-MODIFIED:20250813T211025Z
UID:64092-1754467200-1754499600@mecop.org
SUMMARY:General Adult Tumor Board 2025
DESCRIPTION:Unavailable
URL:https://mecop.org/event/general-adult-tumor-board-2025-24/
LOCATION:Ascension Sacred Heart Hospital\, FL
CATEGORIES:AMA
END:VEVENT
BEGIN:VEVENT
DTSTART;TZID=America/Chicago:20250804T080000
DTEND;TZID=America/Chicago:20250806T170000
DTSTAMP:20260423T072844
CREATED:20250806T150551Z
LAST-MODIFIED:20250806T152847Z
UID:63993-1754294400-1754499600@mecop.org
SUMMARY:Mercer Preceptor Bites
DESCRIPTION:Unavailable
URL:https://mecop.org/event/mercer-preceptor-bites-4/
LOCATION:Internet Enduring Material
CATEGORIES:AMA
END:VEVENT
BEGIN:VEVENT
DTSTART;TZID=America/Chicago:20250804T080000
DTEND;TZID=America/Chicago:20250804T170000
DTSTAMP:20260423T072844
CREATED:20250806T153225Z
LAST-MODIFIED:20250806T153542Z
UID:63996-1754294400-1754326800@mecop.org
SUMMARY:Mercer Preceptor Bites
DESCRIPTION:Unavailable
URL:https://mecop.org/event/mercer-preceptor-bites-5/
LOCATION:Internet Enduring Material
CATEGORIES:AMA
END:VEVENT
BEGIN:VEVENT
DTSTART;TZID=America/Chicago:20250804T080000
DTEND;TZID=America/Chicago:20250804T170000
DTSTAMP:20260423T072844
CREATED:20250806T145558Z
LAST-MODIFIED:20250806T145846Z
UID:63990-1754294400-1754326800@mecop.org
SUMMARY:Mercer Preceptor Bites
DESCRIPTION:Unavailable
URL:https://mecop.org/event/mercer-preceptor-bites-3/
LOCATION:Internet Enduring Material
CATEGORIES:AMA
END:VEVENT
BEGIN:VEVENT
DTSTART;TZID=America/Chicago:20250804T080000
DTEND;TZID=America/Chicago:20250804T170000
DTSTAMP:20260423T072844
CREATED:20250806T144612Z
LAST-MODIFIED:20250806T145107Z
UID:63987-1754294400-1754326800@mecop.org
SUMMARY:Mercer Preceptor Bites
DESCRIPTION:Unavailable
URL:https://mecop.org/event/mercer-preceptor-bites-2/
LOCATION:Internet Enduring Material
CATEGORIES:AMA
END:VEVENT
BEGIN:VEVENT
DTSTART;TZID=America/Chicago:20250804T080000
DTEND;TZID=America/Chicago:20250804T170000
DTSTAMP:20260423T072844
CREATED:20250805T203754Z
LAST-MODIFIED:20250805T205105Z
UID:63976-1754294400-1754326800@mecop.org
SUMMARY:FSU Fundamentals for Inspired FSUCOM Clinical Educators Module:
DESCRIPTION:Unavailable
URL:https://mecop.org/event/fsu-fundamentals-for-inspired-fsucom-clinical-educators-module-8/
LOCATION:Enduring Activity
CATEGORIES:AMA
END:VEVENT
BEGIN:VEVENT
DTSTART;TZID=America/Chicago:20250802T080000
DTEND;TZID=America/Chicago:20250802T170000
DTSTAMP:20260423T072844
CREATED:20250813T211902Z
LAST-MODIFIED:20250813T212131Z
UID:64097-1754121600-1754154000@mecop.org
SUMMARY:Cosmetic Procedures and Their Complications
DESCRIPTION:Unavailable
URL:https://mecop.org/event/cosmetic-procedures-and-their-complications/
LOCATION:Enduring Activity
CATEGORIES:AMA
END:VEVENT
BEGIN:VEVENT
DTSTART;TZID=America/Chicago:20250802T080000
DTEND;TZID=America/Chicago:20250802T170000
DTSTAMP:20260423T072844
CREATED:20250813T164122Z
LAST-MODIFIED:20250903T173154Z
UID:64081-1754121600-1754154000@mecop.org
SUMMARY:FSU Fundamentals of Teaching in the FSU COM Clinical Education Program I Module
DESCRIPTION:Unavailable
URL:https://mecop.org/event/fsu-fundamentals-of-teaching-in-the-fsu-com-clinical-education-program-i-module-14/
LOCATION:Enduring Material
CATEGORIES:AMA
END:VEVENT
BEGIN:VEVENT
DTSTART;TZID=America/Chicago:20250802T080000
DTEND;TZID=America/Chicago:20250802T170000
DTSTAMP:20260423T072844
CREATED:20250807T131106Z
LAST-MODIFIED:20250903T173319Z
UID:64001-1754121600-1754154000@mecop.org
SUMMARY:FSU Fundamentals of Teaching in the FSU COM Clinical Education Program II Module
DESCRIPTION:Unavailable
URL:https://mecop.org/event/fsu-fundamentals-of-teaching-in-the-fsu-com-clinical-education-program-ii-module-18/
LOCATION:Enduring Material
CATEGORIES:AMA
END:VEVENT
BEGIN:VEVENT
DTSTART;TZID=America/Chicago:20250801T080000
DTEND;TZID=America/Chicago:20250801T170000
DTSTAMP:20260423T072844
CREATED:20250910T182113Z
LAST-MODIFIED:20250910T182119Z
UID:64466-1754035200-1754067600@mecop.org
SUMMARY:PEEP Risk Adjustment and Diners\, Drive-Ins and Dives for Your GI
DESCRIPTION:See content.
URL:https://mecop.org/event/peep-risk-adjustment-and-diners-drive-ins-and-dives-for-your-gi-3/
LOCATION:Internet Enduring Material
CATEGORIES:AMA
END:VEVENT
BEGIN:VEVENT
DTSTART;TZID=America/Chicago:20250801T080000
DTEND;TZID=America/Chicago:20250801T170000
DTSTAMP:20260423T072844
CREATED:20250817T214333Z
LAST-MODIFIED:20251116T184121Z
UID:64142-1754035200-1754067600@mecop.org
SUMMARY:2025 Faculty Teaching Credits Sleep Medicine Clerkship
DESCRIPTION:Unavailable
URL:https://mecop.org/event/2025-faculty-teaching-credits-sleep-medicine-clerkship/
LOCATION:Daytona Beach Regional Campus\, 1200 W International Speedway\, Daytona Beach\, FL\, 32114\, United States
END:VEVENT
BEGIN:VEVENT
DTSTART;TZID=America/Chicago:20250731T080000
DTEND;TZID=America/Chicago:20250731T170000
DTSTAMP:20260423T072844
CREATED:20250814T150140Z
LAST-MODIFIED:20250814T150146Z
UID:64120-1753948800-1753981200@mecop.org
SUMMARY:NFO Business of Medicine Web Series: Practical Uses of AI in Healthcare Today - Tools\, Risks\, and Readiness
DESCRIPTION:This session explores how AI is being utilized in healthcare practices today \, from automating routine tasks to supporting cybersecurity training and enhancing patient engagement. You’ll see real tools already in use\, examine key risks such as PHI exposure\, and walk through what every practice should have in place before adopting AI. The session includes live demos and practical takeaways that you can apply immediately. \nLearning Objectives: Identify 3–5 real-world AI tools being used today to reduce administrative burden\, improve revenue cycle efficiency\, and enhance patient communication.\nUnderstand the risks and responsibilities of using AI in clinical and non-clinical workflows\, including PHI exposure\, prompt safety\, and output auditing.\nLearn how to develop a simple AI policy for your practice\, covering usage guidelines\, tool vetting\, and staff training.\nExperience how AI-driven threats are evolving\, with live examples of voice-based scams. Learn how modern training tools are helping staff recognize and respond to these emerging risks effectively.
URL:https://mecop.org/event/nfo-business-of-medicine-web-series-practical-uses-of-ai-in-healthcare-today-tools-risks-and-readiness/
LOCATION:Internet Live Webcast
CATEGORIES:AMA
END:VEVENT
BEGIN:VEVENT
DTSTART;TZID=America/Chicago:20250731T080000
DTEND;TZID=America/Chicago:20250731T170000
DTSTAMP:20260423T072844
CREATED:20250515T225444Z
LAST-MODIFIED:20250801T232746Z
UID:62889-1753948800-1753981200@mecop.org
SUMMARY:Better Health Group Provider Bootcamp
DESCRIPTION:To discuss the impact of metabolic disorder on chronic conditions\, pathophysiology\, treatment and care plans.
URL:https://mecop.org/event/better-health-group-provider-bootcamp-3/
LOCATION:Zoom
CATEGORIES:AMA
END:VEVENT
BEGIN:VEVENT
DTSTART;TZID=America/Chicago:20250730T120000
DTEND;TZID=America/Chicago:20250730T130000
DTSTAMP:20260423T072844
CREATED:20250706T185801Z
LAST-MODIFIED:20250808T153906Z
UID:63552-1753876800-1753880400@mecop.org
SUMMARY:MUSM Rural Autism ECHO: Strategies for Improving Healthcare for Autistic Patients in Rural Georgia
DESCRIPTION:●	DSM-5 criteria for autism and examples of behaviors on the spectrum\n●	Autism red flags\n●	Autism severity levels and variations in how the DSM-5 autism symptoms can present\n●	Co-occurring conditions: gastrointestinal issues\, sleep disturbances\, sensory sensitivities\, elopement\, motor delays\, etc…\n●	Coping mechanisms: masking\, scripting\, etc . . .\n●	Differences in how autism can present in women and girls\n●	Cultural differences in how autism is perceived: rural communities\, Hispanic communities\, Asian communities \nWorkshop: ways to talk to parents about autism and autism red flags\, different ways that behaviors can manifest\, how to discuss autism with people of different cultural backgrounds\, how to approach variations in autism presentation
URL:https://mecop.org/event/musm-rural-autism-echo-strategies-for-improving-healthcare-for-autistic-patients-in-rural-georgia/
LOCATION:Virtual
CATEGORIES:AMA
END:VEVENT
END:VCALENDAR