BEGIN:VCALENDAR
VERSION:2.0
PRODID:-//Mecop - ECPv6.5.1.5//NONSGML v1.0//EN
CALSCALE:GREGORIAN
METHOD:PUBLISH
X-WR-CALNAME:Mecop
X-ORIGINAL-URL:https://mecop.org
X-WR-CALDESC:Events for Mecop
REFRESH-INTERVAL;VALUE=DURATION:PT1H
X-Robots-Tag:noindex
X-PUBLISHED-TTL:PT1H
BEGIN:VTIMEZONE
TZID:America/Chicago
BEGIN:DAYLIGHT
TZOFFSETFROM:-0600
TZOFFSETTO:-0500
TZNAME:CDT
DTSTART:20250309T080000
END:DAYLIGHT
BEGIN:STANDARD
TZOFFSETFROM:-0500
TZOFFSETTO:-0600
TZNAME:CST
DTSTART:20251102T070000
END:STANDARD
END:VTIMEZONE
BEGIN:VEVENT
DTSTART;TZID=America/Chicago:20250912T080000
DTEND;TZID=America/Chicago:20250912T170000
DTSTAMP:20260423T023105
CREATED:20250925T140447Z
LAST-MODIFIED:20250925T140447Z
UID:64623-1757664000-1757696400@mecop.org
SUMMARY:2025 Faculty Teaching Credits Neurosugery Clerkship
DESCRIPTION:Unavailable
URL:https://mecop.org/event/2025-faculty-teaching-credits-neurosugery-clerkship/
LOCATION:Fort Pierce Regional Campus\, 1200 W International Speedway Blvd #101\, Daytona Beach\, FL\, 32114\, United States
CATEGORIES:AMA
END:VEVENT
BEGIN:VEVENT
DTSTART;TZID=America/Chicago:20250912T080000
DTEND;TZID=America/Chicago:20250912T170000
DTSTAMP:20260423T023105
CREATED:20250915T161648Z
LAST-MODIFIED:20250915T162035Z
UID:64505-1757664000-1757696400@mecop.org
SUMMARY:ENT Fellowship: Ear Fullness\, Diagnostics\, and Antibiotic Stewardship
DESCRIPTION:Describe\, diagnose and treat TMD and outline how it is associated with ear fullness\, tinnitus\, and otalgia \nDiagnose otitis media accurately and to prescribe appropriately \nDifferentiate causes of ear fullness
URL:https://mecop.org/event/ent-fellowship-ear-fullness-diagnostics-and-antibiotic-stewardship-3/
LOCATION:Internet Enduring Material
CATEGORIES:AMA
END:VEVENT
BEGIN:VEVENT
DTSTART;TZID=America/Chicago:20250912T080000
DTEND;TZID=America/Chicago:20250912T170000
DTSTAMP:20260423T023105
CREATED:20250912T221221Z
LAST-MODIFIED:20250914T162123Z
UID:64490-1757664000-1757696400@mecop.org
SUMMARY:Risk Adjustment and "The Usual Suspects" - Common Conditions
DESCRIPTION:Gain understanding of risk adjustment methodology and its role in Value Based Care models.\nReview specific official ICD-10-CM coding guidelines and how they are applied to diagnosis coding and reporting.\nIdentify elements of the medical record that help support the validation of reported conditions.\nIdentify documentation deficiencies for specific conditions.
URL:https://mecop.org/event/risk-adjustment-and-the-usual-suspects-common-conditions/
LOCATION:Internet Live Webcast
CATEGORIES:AMA
END:VEVENT
BEGIN:VEVENT
DTSTART;TZID=America/Chicago:20250912T080000
DTEND;TZID=America/Chicago:20250912T151500
DTSTAMP:20260423T023105
CREATED:20250909T201754Z
LAST-MODIFIED:20250919T154508Z
UID:64438-1757664000-1757690100@mecop.org
SUMMARY:3rd Annual GME Symposium
DESCRIPTION:TBA
URL:https://mecop.org/event/3rd-annual-gme-symposium-2/
LOCATION:Live
CATEGORIES:AMA
END:VEVENT
BEGIN:VEVENT
DTSTART;TZID=America/Chicago:20250911T150000
DTEND;TZID=America/Chicago:20250911T171500
DTSTAMP:20260423T023105
CREATED:20250909T200738Z
LAST-MODIFIED:20250919T154554Z
UID:64435-1757602800-1757610900@mecop.org
SUMMARY:3rd Annual GME Symposium
DESCRIPTION:
URL:https://mecop.org/event/3rd-annual-gme-symposium/
LOCATION:Live
CATEGORIES:AMA
END:VEVENT
BEGIN:VEVENT
DTSTART;TZID=America/Chicago:20250911T080000
DTEND;TZID=America/Chicago:20250911T170000
DTSTAMP:20260423T023105
CREATED:20251004T233758Z
LAST-MODIFIED:20251004T233804Z
UID:64776-1757577600-1757610000@mecop.org
SUMMARY:NFO Business of Medicine Web Series: Informed Consent for Medical/Surgical Procedures
DESCRIPTION:The concept of informed consent is too often mistakenly viewed as a rote process by which practitioners obtain patient signatures on template forms or make notes in patient health records. This oversimplification mischaracterizes the spirit of informed consent. Further\, it fails to acknowledge the benefits available to practitioners and their patients when true informed consent is obtained.\nThis program explores the principles underlying the concept of informed consent and reviews how informed consent affects medical malpractice claims. The program also highlights practical risk management strategies regarding several informed consent issues\, including special populations\, informed refusal\, and new technologies. \nAt the conclusion of this program\, participants should be able to:\nDescribe the concept of informed consent and how it evolved into the practice we know today.\nArticulate how informed consent can affect medical malpractice claims.\nUnderstand the concepts of obtaining informed consent for special populations (e.g.\, minors\, cognitively impaired individuals).\nDiscuss how to manage an informed refusal.\nExplain the informed concept process for new technologies\, such as telehealth\, robotic surgery\, and artificial intelligence.
URL:https://mecop.org/event/nfo-business-of-medicine-web-series-informed-consent-for-medical-surgical-procedures/
LOCATION:Internet Live Webcast
CATEGORIES:AMA
END:VEVENT
BEGIN:VEVENT
DTSTART;TZID=America/Chicago:20250911T080000
DTEND;TZID=America/Chicago:20250911T170000
DTSTAMP:20260423T023105
CREATED:20250912T195514Z
LAST-MODIFIED:20250919T090807Z
UID:64486-1757577600-1757610000@mecop.org
SUMMARY:Risk Adjustment and "The Usual Suspects" - Common Conditions
DESCRIPTION:Gain understanding of risk adjustment methodology and its role in Value Based Care models.\nReview specific official ICD-10-CM coding guidelines and how they are applied to diagnosis coding and reporting.\nIdentify elements of the medical record that help support the validation of reported conditions.\nIdentify documentation deficiencies for specific conditions.
URL:https://mecop.org/event/risk-adjustment-and-the-usual-suspects-chronic-conditions/
LOCATION:Internet Live Webcast
CATEGORIES:AMA
END:VEVENT
BEGIN:VEVENT
DTSTART;TZID=America/Chicago:20250910T123000
DTEND;TZID=America/Chicago:20250910T133000
DTSTAMP:20260423T023105
CREATED:20250905T221351Z
LAST-MODIFIED:20250925T202541Z
UID:64375-1757507400-1757511000@mecop.org
SUMMARY:MUSM Pediatric Alliance Webinar Series
DESCRIPTION:-overview of pediatric dermatology\n-broad review of common & uncommon pediatric dermatologic diagnoses\n-strategy for management of pediatric dermatology referrals
URL:https://mecop.org/event/musm-pediatric-alliance-webinar-series-4/
LOCATION:Virtual
CATEGORIES:AMA
END:VEVENT
BEGIN:VEVENT
DTSTART;TZID=America/Chicago:20250910T080000
DTEND;TZID=America/Chicago:20250910T170000
DTSTAMP:20260423T023105
CREATED:20251012T175738Z
LAST-MODIFIED:20251012T175738Z
UID:64918-1757491200-1757523600@mecop.org
SUMMARY:General Adult Tumor Board 2025
DESCRIPTION:Unavailable
URL:https://mecop.org/event/general-adult-tumor-board-2025-28/
LOCATION:Ascension Sacred Heart Hospital\, FL
CATEGORIES:AMA
END:VEVENT
BEGIN:VEVENT
DTSTART;TZID=America/Chicago:20250910T080000
DTEND;TZID=America/Chicago:20250910T170000
DTSTAMP:20260423T023105
CREATED:20250911T223001Z
LAST-MODIFIED:20251020T185256Z
UID:64475-1757491200-1757523600@mecop.org
SUMMARY:VIP Care Performance Forum
DESCRIPTION:Identified emerging data regarding this condition\, its identification and treatment\, including associated end organ damage to multiple organ systems.  \nDetailed treatment revolving around various aspects of lifestyle modification was included.
URL:https://mecop.org/event/vip-care-performance-forum-7/
LOCATION:Virtual
CATEGORIES:AMA
END:VEVENT
BEGIN:VEVENT
DTSTART;TZID=America/Chicago:20250910T080000
DTEND;TZID=America/Chicago:20250910T170000
DTSTAMP:20260423T023105
CREATED:20250911T221107Z
LAST-MODIFIED:20250912T195617Z
UID:64473-1757491200-1757523600@mecop.org
SUMMARY:Risk Adjustment and "The Usual Suspects" - Common Conditions
DESCRIPTION:Gain understanding of risk adjustment methodology and its role in Value Based Care models.\nReview specific official ICD-10-CM coding guidelines and how they are applied to diagnosis coding and reporting.\nIdentify elements of the medical record that help support the validation of reported conditions.\nIdentify documentation deficiencies for specific conditions.
URL:https://mecop.org/event/risk-adjustments-and-the-usual-suspects-common-conditions/
LOCATION:Internet Live Webcast
CATEGORIES:AMA
END:VEVENT
BEGIN:VEVENT
DTSTART;TZID=America/Chicago:20250910T080000
DTEND;TZID=America/Chicago:20250910T170000
DTSTAMP:20260423T023105
CREATED:20250829T132345Z
LAST-MODIFIED:20250925T191456Z
UID:64287-1757491200-1757523600@mecop.org
SUMMARY:Andalusia Health Grand Rounds
DESCRIPTION:understand and verbalize how sepsis is a life-threatening condition that arises when the body’s response to an infection spirals out of control\, leading to widespread inflammation and potential organ damage. It’s a critical healthcare concern due to its high mortality rate and\nsignificant impact on patient outcomes. The presentation will address the importance of early detection and intervention\, and importance of all components of Sepsis Alert\, such as antibiotics and fluid resuscitation\, along with the documentation to support.
URL:https://mecop.org/event/andalusia-health-grand-rounds-7/
LOCATION:Andalusia Health
CATEGORIES:AMA
END:VEVENT
BEGIN:VEVENT
DTSTART;TZID=America/Chicago:20250909T180000
DTEND;TZID=America/Chicago:20250909T200000
DTSTAMP:20260423T023105
CREATED:20250702T162734Z
LAST-MODIFIED:20251023T195458Z
UID:63492-1757440800-1757448000@mecop.org
SUMMARY:FSU-Sarasota
DESCRIPTION:1.	Recognize the prevalence of micronutrient deficiency in the general population\n2.	Perform a nutrition-oriented physical exam with attention to findings in the hair\, skin\, mouth and nails.\n3.	Connect physical exam findings to associated nutritional deficiencies and health conditions\n4.	Discuss therapeutic interventions for micronutrient deficiency.
URL:https://mecop.org/event/fsu-sarasota-47/
LOCATION:Zoom
CATEGORIES:AMA
END:VEVENT
BEGIN:VEVENT
DTSTART;TZID=America/Chicago:20250909T120000
DTEND;TZID=America/Chicago:20250909T130000
DTSTAMP:20260423T023105
CREATED:20250822T120649Z
LAST-MODIFIED:20251020T143047Z
UID:64205-1757419200-1757422800@mecop.org
SUMMARY:MUSM Clinical Faculty Development Series
DESCRIPTION:By the end of this session\, participants should be able to: \nDifferentiate Headache Syndromes\nDistinguish between common pediatric headache presentations and unusual syndromes such as sphenoid sinusitis\, herpes zoster\, visual snow\, ophthalmoplegic migraine\, and Alice in Wonderland syndrome. \nRecognize Clinical Red Flags\nIdentify warning signs in pediatric headaches (e.g.\, unilateral pain\, autonomic features\, visual disturbances\, cranial neuropathies) that necessitate neuroimaging or urgent referral. \nApply Case-Based Knowledge\nAnalyze six illustrative pediatric headache cases to understand diagnostic challenges\, misinterpretations (e.g.\, sinus vs. migraine)\, and potential overlap with epilepsy\, stroke\, or functional disorders. \nTailor Diagnostic Approaches\nSelect appropriate imaging modalities and consultations (neurology\, ophthalmology\, infectious disease) based on clinical presentation. \nIntegrate Treatment Strategies\nSummarize evidence-based management approaches for unusual pediatric headache syndromes\, including pharmacologic (e.g.\, acyclovir\, lamotrigine\, steroids)\, non-pharmacologic\, and supportive interventions. \nPromote Early Recognition & Prevention of Morbidity\nEmphasize the importance of primary care physicians and pediatricians in recognizing “zebra” headache patterns to prevent delayed diagnosis\, complications\, and mortality.
URL:https://mecop.org/event/musm-clinical-faculty-development-series-48/
LOCATION:Live
CATEGORIES:AMA
END:VEVENT
BEGIN:VEVENT
DTSTART;TZID=America/Chicago:20250907T080000
DTEND;TZID=America/Chicago:20250907T170000
DTSTAMP:20260423T023105
CREATED:20250923T214942Z
LAST-MODIFIED:20250923T215622Z
UID:64604-1757232000-1757264400@mecop.org
SUMMARY:Florida Osteopathic Medical Association
DESCRIPTION:Unavailable
URL:https://mecop.org/event/florida-osteopathic-medical-association/
LOCATION:Virtual
CATEGORIES:AOA1A,DV,Florida Laws and Rules/Professional and Medical Ethics,HIV/AIDS,Human Trafficking,MedErrors,Prescribing of Controlled Substances
END:VEVENT
BEGIN:VEVENT
DTSTART;TZID=America/Chicago:20250907T080000
DTEND;TZID=America/Chicago:20250907T170000
DTSTAMP:20260423T023105
CREATED:20250918T222317Z
LAST-MODIFIED:20250918T222739Z
UID:64540-1757232000-1757264400@mecop.org
SUMMARY:2025 PRN Annual Conference
DESCRIPTION:Unavailable
URL:https://mecop.org/event/2025-prn-annual-conference/
LOCATION:Live
CATEGORIES:AMA
END:VEVENT
BEGIN:VEVENT
DTSTART;TZID=America/Chicago:20250907T080000
DTEND;TZID=America/Chicago:20250907T170000
DTSTAMP:20260423T023105
CREATED:20250915T154645Z
LAST-MODIFIED:20250915T154654Z
UID:64503-1757232000-1757264400@mecop.org
SUMMARY:KAMAP Hyaluronidase: The Safety Net of Aesthetics
DESCRIPTION:Explain the mechanism of action of hyaluronidase\nIdentify safe prescribing practices of hyaluronidase\nDemonstrate safe administration of hyaluronidase\nCompare primary and secondary uses of hyaluronidase in medical aesthetics\nAnticipate the risk of allergic reaction to hyaluronidase\nOutline possible side effects of hyaluronidase administration
URL:https://mecop.org/event/kamap-hyaluronidase-the-safety-net-of-aesthetics-6/
LOCATION:Internet Enduring Material
CATEGORIES:AMA
END:VEVENT
BEGIN:VEVENT
DTSTART;TZID=America/Chicago:20250907T080000
DTEND;TZID=America/Chicago:20250907T170000
DTSTAMP:20260423T023105
CREATED:20250907T210533Z
LAST-MODIFIED:20250907T211129Z
UID:64397-1757232000-1757264400@mecop.org
SUMMARY:PCSS MOUD Case-based Learning Collaboratives Session 1:
DESCRIPTION:Unavailable
URL:https://mecop.org/event/pcss-moud-case-based-learning-collaboratives-session-1/
LOCATION:Enduring Material
CATEGORIES:AMA
END:VEVENT
BEGIN:VEVENT
DTSTART;TZID=America/Chicago:20250906T080000
DTEND;TZID=America/Chicago:20250906T170000
DTSTAMP:20260423T023105
CREATED:20251103T220917Z
LAST-MODIFIED:20251103T221142Z
UID:65266-1757145600-1757178000@mecop.org
SUMMARY:Optimizing the Collection of Race\, Ethnicity\, and Language Preference Data Performance Improvement Module
DESCRIPTION:Unavailable
URL:https://mecop.org/event/ptimizing-the-collection-of-race-ethnicity-and-language-preference-data-performance-improvement-module/
LOCATION:PI CME Activity
CATEGORIES:AMA
END:VEVENT
BEGIN:VEVENT
DTSTART;TZID=America/Chicago:20250904T080000
DTEND;TZID=America/Chicago:20250904T170000
DTSTAMP:20260423T023105
CREATED:20250906T144426Z
LAST-MODIFIED:20250906T144835Z
UID:64385-1756972800-1757005200@mecop.org
SUMMARY:KAMAP Advanced Neuromodulators and Dermal Filler
DESCRIPTION:1. Identify the advanced areas of injection of neuromodulators & dermal fillers.\n2. Identify safe prescribing practices of neuromodulators & dermal fillers.\n3. Demonstrate safe administration of neuromodulators & dermal fillers.\n4. Demonstrate safe and appropriate injection techniques of advanced\nneuromodulator and dermal filler areas discussed in this course.\n5. Discuss danger zones and possible side effects of advanced neuromodulator &\ndermal filler administration.
URL:https://mecop.org/event/kamap-advanced-neuromodulators-and-dermal-filler-3/
LOCATION:Live Course
CATEGORIES:AMA
END:VEVENT
BEGIN:VEVENT
DTSTART;TZID=America/Chicago:20250903T080000
DTEND;TZID=America/Chicago:20250903T170000
DTSTAMP:20260423T023105
CREATED:20250905T173453Z
LAST-MODIFIED:20250905T173840Z
UID:64368-1756886400-1756918800@mecop.org
SUMMARY:2025 ABOG Lifelong Learning and Self-Assessment Activity
DESCRIPTION:Unavailable
URL:https://mecop.org/event/2025-abog-lifelong-learning-and-self-assessment-activity/
LOCATION:Enduring Material
CATEGORIES:AMA
END:VEVENT
BEGIN:VEVENT
DTSTART;TZID=America/Chicago:20250903T080000
DTEND;TZID=America/Chicago:20250903T170000
DTSTAMP:20260423T023105
CREATED:20250903T222225Z
LAST-MODIFIED:20251116T185332Z
UID:64349-1756886400-1756918800@mecop.org
SUMMARY:2025 Faculty Teaching Credits Gynecologic Oncology Clerkship
DESCRIPTION:Unavailable
URL:https://mecop.org/event/2025-faculty-teaching-credits-gynecologic-oncology-clerkship/
LOCATION:Fort Pierce Regional Campus\, 1200 W International Speedway Blvd #101\, Daytona Beach\, FL\, 32114\, United States
CATEGORIES:AMA
END:VEVENT
BEGIN:VEVENT
DTSTART;TZID=America/Chicago:20250901T080000
DTEND;TZID=America/Chicago:20250901T170000
DTSTAMP:20260423T023105
CREATED:20251012T180414Z
LAST-MODIFIED:20251012T180640Z
UID:64920-1756713600-1756746000@mecop.org
SUMMARY:Developing Competencies to Advance Health Care for LHS+ Populations
DESCRIPTION:Unavailable
URL:https://mecop.org/event/developing-competencies-to-advance-health-care-for-lhs-populations/
LOCATION:Journal based CME activity
CATEGORIES:AMA
END:VEVENT
BEGIN:VEVENT
DTSTART;TZID=America/Chicago:20250901T080000
DTEND;TZID=America/Chicago:20250901T170000
DTSTAMP:20260423T023105
CREATED:20250906T141754Z
LAST-MODIFIED:20250906T142034Z
UID:64382-1756713600-1756746000@mecop.org
SUMMARY:ENT Fellowship: Ear Fullness\, Diagnostics\, and Antibiotic Stewardship
DESCRIPTION:Describe\, diagnose and treat TMD and outline how it is associated with ear fullness\, tinnitus\, and otalgia \nDiagnose otitis media accurately and to prescribe appropriately \nDifferentiate causes of ear fullness
URL:https://mecop.org/event/ent-fellowship-ear-fullness-diagnostics-and-antibiotic-stewardship-2/
LOCATION:Internet Enduring Material
CATEGORIES:AMA
END:VEVENT
BEGIN:VEVENT
DTSTART;TZID=America/Chicago:20250901T080000
DTEND;TZID=America/Chicago:20250901T170000
DTSTAMP:20260423T023105
CREATED:20250903T152402Z
LAST-MODIFIED:20250923T204310Z
UID:64333-1756713600-1756746000@mecop.org
SUMMARY:FSU Fundamentals of Teaching in the FSU COM Clinical Education Program I Module
DESCRIPTION:Unavailable
URL:https://mecop.org/event/fsu-fundamentals-of-teaching-in-the-fsu-com-clinical-education-program-i-module-15/
LOCATION:Enduring Material
CATEGORIES:AMA
END:VEVENT
BEGIN:VEVENT
DTSTART;TZID=America/Chicago:20250901T080000
DTEND;TZID=America/Chicago:20250901T170000
DTSTAMP:20260423T023105
CREATED:20250903T152052Z
LAST-MODIFIED:20250923T204140Z
UID:64331-1756713600-1756746000@mecop.org
SUMMARY:FSU Fundamentals of Teaching in the FSU COM Clinical Education Program II Module
DESCRIPTION:Unavailable
URL:https://mecop.org/event/fsu-fundamentals-of-teaching-in-the-fsu-com-clinical-education-program-ii-module-19/
LOCATION:Enduring Material
CATEGORIES:AMA
END:VEVENT
BEGIN:VEVENT
DTSTART;TZID=America/Chicago:20250831T080000
DTEND;TZID=America/Chicago:20250831T170000
DTSTAMP:20260423T023105
CREATED:20250908T211821Z
LAST-MODIFIED:20250908T211828Z
UID:64413-1756627200-1756659600@mecop.org
SUMMARY:PEEP Risk Adjustment and The Force Awakens Behavioral Health Part 2
DESCRIPTION:Gain understanding of risk adjustment methodology and its role in Value Based Care models.\nReview specific official ICD-10-CM coding guidelines and how they are applied to diagnosis coding and reporting.\nIdentify elements of the medical record that help support the validation of reported conditions.\nIdentify documentation deficiencies for specific conditions.
URL:https://mecop.org/event/peep-risk-adjustment-and-the-force-awakens-behavioral-health-part-2/
LOCATION:Internet Enduring Material
CATEGORIES:AMA
END:VEVENT
BEGIN:VEVENT
DTSTART;TZID=America/Chicago:20250831T080000
DTEND;TZID=America/Chicago:20250831T170000
DTSTAMP:20260423T023105
CREATED:20250901T201800Z
LAST-MODIFIED:20250901T202214Z
UID:64307-1756627200-1756659600@mecop.org
SUMMARY:A Persistent Papular Eruption on the Cheek of a Young Woman
DESCRIPTION:Unavailable
URL:https://mecop.org/event/a-persistent-papular-eruption-on-the-cheek-of-a-young-woman/
LOCATION:Journal based CME activity
CATEGORIES:AMA
END:VEVENT
BEGIN:VEVENT
DTSTART;TZID=America/Chicago:20250831T080000
DTEND;TZID=America/Chicago:20250831T170000
DTSTAMP:20260423T023105
CREATED:20250901T200200Z
LAST-MODIFIED:20250901T200405Z
UID:64297-1756627200-1756659600@mecop.org
SUMMARY:Cutaneous Melanoma: A Review
DESCRIPTION:Unavailable
URL:https://mecop.org/event/cutaneous-melanoma/
LOCATION:Journal based CME activity
CATEGORIES:AMA
END:VEVENT
BEGIN:VEVENT
DTSTART;TZID=America/Chicago:20250831T080000
DTEND;TZID=America/Chicago:20250831T170000
DTSTAMP:20260423T023105
CREATED:20250901T195732Z
LAST-MODIFIED:20250901T195851Z
UID:64294-1756627200-1756659600@mecop.org
SUMMARY:Fever\, Malaise\, and Weight Loss in a Woman With Aortic Valve Replacement
DESCRIPTION:Unavailable
URL:https://mecop.org/event/fever-malaise-and-weight-loss-in-a-woman-with-aortic-valve-replacement/
LOCATION:Journal based CME activity
CATEGORIES:AMA
END:VEVENT
END:VCALENDAR