BEGIN:VCALENDAR
VERSION:2.0
PRODID:-//Mecop - ECPv6.5.1.5//NONSGML v1.0//EN
CALSCALE:GREGORIAN
METHOD:PUBLISH
X-WR-CALNAME:Mecop
X-ORIGINAL-URL:https://mecop.org
X-WR-CALDESC:Events for Mecop
REFRESH-INTERVAL;VALUE=DURATION:PT1H
X-Robots-Tag:noindex
X-PUBLISHED-TTL:PT1H
BEGIN:VTIMEZONE
TZID:America/Chicago
BEGIN:DAYLIGHT
TZOFFSETFROM:-0600
TZOFFSETTO:-0500
TZNAME:CDT
DTSTART:20250309T080000
END:DAYLIGHT
BEGIN:STANDARD
TZOFFSETFROM:-0500
TZOFFSETTO:-0600
TZNAME:CST
DTSTART:20251102T070000
END:STANDARD
END:VTIMEZONE
BEGIN:VEVENT
DTSTART;TZID=America/Chicago:20250926T080000
DTEND;TZID=America/Chicago:20250926T170000
DTSTAMP:20260424T201248
CREATED:20250827T205600Z
LAST-MODIFIED:20251209T194945Z
UID:64285-1758873600-1758906000@mecop.org
SUMMARY:FSU COM 2025 Fall Clerkship Directors' Meeting
DESCRIPTION:TBA
URL:https://mecop.org/event/fsu-com-fall-clerkship-directors-meeting/
LOCATION:Rosen Plaza\, Orlando Florida
CATEGORIES:AMA
END:VEVENT
BEGIN:VEVENT
DTSTART;TZID=America/Chicago:20250925T123000
DTEND;TZID=America/Chicago:20250925T170000
DTSTAMP:20260424T201248
CREATED:20250827T205320Z
LAST-MODIFIED:20251209T194753Z
UID:64283-1758803400-1758819600@mecop.org
SUMMARY:FSU COM 2025 Fall Clerkship Directors' Meeting
DESCRIPTION:TBA
URL:https://mecop.org/event/fsu-com-2025-fall-clerkship-directors-meeting/
LOCATION:Rosen Plaza\, Orlando Florida
CATEGORIES:AMA
END:VEVENT
BEGIN:VEVENT
DTSTART;TZID=America/Chicago:20250925T080000
DTEND;TZID=America/Chicago:20250925T170000
DTSTAMP:20260424T201248
CREATED:20251001T155834Z
LAST-MODIFIED:20251001T160718Z
UID:64739-1758787200-1758819600@mecop.org
SUMMARY:ENT Pearls and Mastery of the Ear & Oral Cavity
DESCRIPTION:Understand oral cavity and oropharyngeal anatomy\, learn proper exam technique\, identify common oral cavity/oropharyngeal disease presentations\, and understand best treatment approaches for these conditions\nUnderstand nasal cavity anatomy\, learn proper exam techniques\, and identify common nasal cavity diagnoses with correct treatment protocols.\nLearn proper neck examination\, best imaging choices for various diagnoses\, and identify common neck pathological states with appropriate treatments.\nBecome much more confident in ear examinations through the use of otoscopy (normal and pneumatic otoscopy)\nLearn the use of performing the Valsalva maneuver during otoscopy – and how this may help diagnostic accuracy.\nLearn the proper use of the tuning fork – and implementing this to help discern middle ear pathology or tympanic membrane perforations.\nLearn how to perform tympanometry – and utilizing this to help detect the presence or absence of middle ear fluid/purulence or a tympanic membrane perforation.\nIdentification and proper treatment of otitis externa\nLearn various cerumen removal tools and techniques for cerumen and ear foreign bodies.\nLearn how to drain an auricular hematoma and properly place bolster.
URL:https://mecop.org/event/ent-pearls-and-mastery-of-the-ear-oral-cavity-5/
LOCATION:Internet Enduring Material
CATEGORIES:AMA
END:VEVENT
BEGIN:VEVENT
DTSTART;TZID=America/Chicago:20250925T080000
DTEND;TZID=America/Chicago:20250925T120000
DTSTAMP:20260424T201248
CREATED:20250827T172522Z
LAST-MODIFIED:20251019T141432Z
UID:64271-1758787200-1758801600@mecop.org
SUMMARY:FSU COM 2025 Fall Clerkship Directors' Meeting
DESCRIPTION:TBA
URL:https://mecop.org/event/2025-fall-clerkship-directors-meeting/
LOCATION:Rosen Plaza\, Orlando Florida
CATEGORIES:AMA
END:VEVENT
BEGIN:VEVENT
DTSTART;TZID=America/Chicago:20250924T120000
DTEND;TZID=America/Chicago:20250924T130000
DTSTAMP:20260424T201248
CREATED:20251018T123626Z
LAST-MODIFIED:20251018T124904Z
UID:65009-1758715200-1758718800@mecop.org
SUMMARY:MUSM Rural Autism ECHO: Strategies for Improving Healthcare for Autistic Patients in Rural Georgia
DESCRIPTION:● Brain development and differences in autism\n● Critical periods and sensory periods\n● Types of EI\, how they work\, and when they are meant to be used:  caregiver mediated intervention\, applied behavior analysis\, sensory integration therapies\, etc…\n● Research on the efficacy of early intervention therapies and missed therapeutic opportunities\n● Additional therapies: occupational therapy\, speech and language therapy\, physical therapy\, feeding therapy\, play therapy\, etc…
URL:https://mecop.org/event/musm-rural-autism-echo-brain-development-and-early-intervention-therapies/
LOCATION:Virtual
CATEGORIES:AMA
END:VEVENT
BEGIN:VEVENT
DTSTART;TZID=America/Chicago:20250924T090000
DTEND;TZID=America/Chicago:20250924T161500
DTSTAMP:20260424T201248
CREATED:20250915T201555Z
LAST-MODIFIED:20251002T143952Z
UID:64519-1758704400-1758730500@mecop.org
SUMMARY:MUSM Fall Collaborative Meeting
DESCRIPTION:
URL:https://mecop.org/event/musm-fall-collaborative-meeting/
LOCATION:Live
CATEGORIES:AMA
END:VEVENT
BEGIN:VEVENT
DTSTART;TZID=America/Chicago:20250924T080000
DTEND;TZID=America/Chicago:20250924T170000
DTSTAMP:20260424T201248
CREATED:20250926T195126Z
LAST-MODIFIED:20250926T195126Z
UID:64642-1758700800-1758733200@mecop.org
SUMMARY:General Adult Tumor Board 2025
DESCRIPTION:Unavailable
URL:https://mecop.org/event/general-adult-tumor-board-2025-25/
LOCATION:Ascension Sacred Heart Hospital\, FL
CATEGORIES:AMA
END:VEVENT
BEGIN:VEVENT
DTSTART;TZID=America/Chicago:20250924T080000
DTEND;TZID=America/Chicago:20250924T170000
DTSTAMP:20260424T201248
CREATED:20250912T175336Z
LAST-MODIFIED:20250928T134315Z
UID:64483-1758700800-1758733200@mecop.org
SUMMARY:Andalusia Health Grand Rounds
DESCRIPTION:Presentation and discussion on professionalism in the workplace\, strategies to manage miscommunication and promote mutual respect\, fostering a culture of a healthy work environment\, and ensuring a positive impact on patient care and satisfaction.
URL:https://mecop.org/event/andalusia-health-grand-rounds-8/
LOCATION:Andalusia Health
CATEGORIES:AMA
END:VEVENT
BEGIN:VEVENT
DTSTART;TZID=America/Chicago:20250923T080000
DTEND;TZID=America/Chicago:20250923T170000
DTSTAMP:20260424T201248
CREATED:20250905T134512Z
LAST-MODIFIED:20260204T144052Z
UID:64358-1758614400-1758646800@mecop.org
SUMMARY:Summit Medical Grand Rounds: Travel Medicine in Tennessee
DESCRIPTION:Educate local health providers on common issues encountered in overseas travelers
URL:https://mecop.org/event/summit-health-grand-rounds/
LOCATION:Live
CATEGORIES:AMA
END:VEVENT
BEGIN:VEVENT
DTSTART;TZID=America/Chicago:20250922T080000
DTEND;TZID=America/Chicago:20250922T170000
DTSTAMP:20260424T201248
CREATED:20251112T153405Z
LAST-MODIFIED:20251114T140954Z
UID:65446-1758528000-1758560400@mecop.org
SUMMARY:PEEP Risk Adjustment and the Top Gun Tips for Coding Cancer
DESCRIPTION:Review CMS-HCC risk adjustment model and why it is important\nReview specific official ICD-10-CM coding guidelines and how they are applied for HCC diagnosis coding\nIdentify elements of the medical record that help support the validation of an HCC diagnosis condition\nIdentify documentation deficiencies for specific conditions
URL:https://mecop.org/event/peep-risk-adjustment-and-the-top-gun-tips-for-coding-cancer/
LOCATION:Internet Enduring Material
CATEGORIES:AMA
END:VEVENT
BEGIN:VEVENT
DTSTART;TZID=America/Chicago:20250921T080000
DTEND;TZID=America/Chicago:20250921T170000
DTSTAMP:20260424T201248
CREATED:20250927T134310Z
LAST-MODIFIED:20250927T134450Z
UID:64669-1758441600-1758474000@mecop.org
SUMMARY:Superficial Vein Thrombosis: A Review
DESCRIPTION:Unavailable
URL:https://mecop.org/event/superficial-vein-thrombosis-a-review/
LOCATION:Journal based CME activity
CATEGORIES:AMA
END:VEVENT
BEGIN:VEVENT
DTSTART;TZID=America/Chicago:20250921T080000
DTEND;TZID=America/Chicago:20250921T170000
DTSTAMP:20260424T201248
CREATED:20250927T133451Z
LAST-MODIFIED:20250927T133724Z
UID:64666-1758441600-1758474000@mecop.org
SUMMARY:Diamond Sign in Calpainopathy
DESCRIPTION:Unavailable
URL:https://mecop.org/event/diamond-sign-in-calpainopathy/
LOCATION:Journal based CME activity
CATEGORIES:AMA
END:VEVENT
BEGIN:VEVENT
DTSTART;TZID=America/Chicago:20250921T080000
DTEND;TZID=America/Chicago:20250921T170000
DTSTAMP:20260424T201248
CREATED:20250927T131618Z
LAST-MODIFIED:20250927T132057Z
UID:64663-1758441600-1758474000@mecop.org
SUMMARY:A 62-Year-Old Man With Progressive Limb Weakness\, Involuntary Movements\, and HyperCKemia
DESCRIPTION:Unavailable
URL:https://mecop.org/event/a-62-year-old-man-with-progressive-limb-weakness-involuntary-movements-and-hyperckemia/
LOCATION:Journal based CME activity
CATEGORIES:AMA
END:VEVENT
BEGIN:VEVENT
DTSTART;TZID=America/Chicago:20250921T080000
DTEND;TZID=America/Chicago:20250921T170000
DTSTAMP:20260424T201248
CREATED:20250926T222450Z
LAST-MODIFIED:20250926T222838Z
UID:64660-1758441600-1758474000@mecop.org
SUMMARY:WHO Drinking Levels as a Primary Efficacy End Point for Alcohol Clinical Trials
DESCRIPTION:Unavailable
URL:https://mecop.org/event/who-drinking-levels-as-a-primary-efficacy-end-point-for-alcohol-clinical-trials/
LOCATION:Journal based CME activity
CATEGORIES:AMA
END:VEVENT
BEGIN:VEVENT
DTSTART;TZID=America/Chicago:20250921T080000
DTEND;TZID=America/Chicago:20250921T170000
DTSTAMP:20260424T201248
CREATED:20250926T214453Z
LAST-MODIFIED:20250926T214629Z
UID:64657-1758441600-1758474000@mecop.org
SUMMARY:Unilateral Iris Metastasis of Small Cell Lung Cancer
DESCRIPTION:Unavailable
URL:https://mecop.org/event/unilateral-iris-metastasis-of-small-cell-lung-cancer/
LOCATION:Journal based CME activity
CATEGORIES:AMA
END:VEVENT
BEGIN:VEVENT
DTSTART;TZID=America/Chicago:20250921T080000
DTEND;TZID=America/Chicago:20250921T170000
DTSTAMP:20260424T201248
CREATED:20250926T202437Z
LAST-MODIFIED:20250926T202647Z
UID:64654-1758441600-1758474000@mecop.org
SUMMARY:Current and Future Medications for Obesity Treatment
DESCRIPTION:Unavailable
URL:https://mecop.org/event/current-and-future-medications-for-obesity-treatment/
LOCATION:Journal based CME activity
CATEGORIES:AMA
END:VEVENT
BEGIN:VEVENT
DTSTART;TZID=America/Chicago:20250921T080000
DTEND;TZID=America/Chicago:20250921T170000
DTSTAMP:20260424T201248
CREATED:20250926T201018Z
LAST-MODIFIED:20250926T201157Z
UID:64650-1758441600-1758474000@mecop.org
SUMMARY:Hypothyroidism: A Review
DESCRIPTION:Unavailable
URL:https://mecop.org/event/hypothyroidism-a-review/
LOCATION:Journal based CME activity
CATEGORIES:AMA
END:VEVENT
BEGIN:VEVENT
DTSTART;TZID=America/Chicago:20250921T080000
DTEND;TZID=America/Chicago:20250921T170000
DTSTAMP:20260424T201248
CREATED:20250926T200342Z
LAST-MODIFIED:20250926T200449Z
UID:64647-1758441600-1758474000@mecop.org
SUMMARY:Methamphetamine Use Disorder
DESCRIPTION:Unavailable
URL:https://mecop.org/event/methamphetamine-use-disorder/
LOCATION:Journal based CME activity
CATEGORIES:AMA
END:VEVENT
BEGIN:VEVENT
DTSTART;TZID=America/Chicago:20250921T080000
DTEND;TZID=America/Chicago:20250921T170000
DTSTAMP:20260424T201248
CREATED:20250926T195839Z
LAST-MODIFIED:20250926T200007Z
UID:64644-1758441600-1758474000@mecop.org
SUMMARY:Indications for and Optimal Management of Percutaneous Cholecystectomy Drainage
DESCRIPTION:Unavailable
URL:https://mecop.org/event/indications-for-and-optimal-management-of-percutaneous-cholecystectomy-drainage/
LOCATION:Journal based CME activity
CATEGORIES:AMA
END:VEVENT
BEGIN:VEVENT
DTSTART;TZID=America/Chicago:20250921T080000
DTEND;TZID=America/Chicago:20250921T170000
DTSTAMP:20260424T201248
CREATED:20250923T152915Z
LAST-MODIFIED:20250923T152921Z
UID:64591-1758441600-1758474000@mecop.org
SUMMARY:Prescribing Controlled Substances: The Florida Requirement
DESCRIPTION:
URL:https://mecop.org/event/prescribing-controlled-substances-the-florida-requirement-2/
LOCATION:Internet Enduring Material
CATEGORIES:AMA,Prescribing of Controlled Substances
END:VEVENT
BEGIN:VEVENT
DTSTART;TZID=America/Chicago:20250921T080000
DTEND;TZID=America/Chicago:20250921T170000
DTSTAMP:20260424T201248
CREATED:20250923T152707Z
LAST-MODIFIED:20250923T152714Z
UID:64589-1758441600-1758474000@mecop.org
SUMMARY:Medical Errors: The Florida Requirement
DESCRIPTION:
URL:https://mecop.org/event/medical-errors-the-florida-requirement/
LOCATION:Internet Enduring Material
CATEGORIES:AMA,MedErrors
END:VEVENT
BEGIN:VEVENT
DTSTART;TZID=America/Chicago:20250920T080000
DTEND;TZID=America/Chicago:20250920T170000
DTSTAMP:20260424T201248
CREATED:20251112T153550Z
LAST-MODIFIED:20251114T163046Z
UID:65448-1758355200-1758387600@mecop.org
SUMMARY:PEEP Risk Adjustment and The Empire Strikes Back with Diabetes
DESCRIPTION:Review CMS-HCC risk adjustment model and why it is important\nReview specific official ICD-10-CM coding guidelines and how they are applied for HCC diagnosis coding\nIdentify elements of the medical record that help support the validation of an HCC diagnosis condition\nIdentify documentation deficiencies for specific conditions
URL:https://mecop.org/event/peep-risk-adjustment-and-the-empire-strikes-back-with-diabetes-5/
LOCATION:Internet Enduring Material
CATEGORIES:AMA
END:VEVENT
BEGIN:VEVENT
DTSTART;TZID=America/Chicago:20250918T080000
DTEND;TZID=America/Chicago:20250918T193000
DTSTAMP:20260424T201248
CREATED:20250824T191717Z
LAST-MODIFIED:20250926T201424Z
UID:64239-1758182400-1758223800@mecop.org
SUMMARY:MUSM Prescription for Prevention:
DESCRIPTION:TBA
URL:https://mecop.org/event/musm-prescription-for-prevention/
LOCATION:President’s Dining Room\, Mercer University
CATEGORIES:AMA
END:VEVENT
BEGIN:VEVENT
DTSTART;TZID=America/Chicago:20250918T080000
DTEND;TZID=America/Chicago:20250918T170000
DTSTAMP:20260424T201248
CREATED:20251112T153212Z
LAST-MODIFIED:20251112T153219Z
UID:65444-1758182400-1758214800@mecop.org
SUMMARY:PEEP Risk Adjustment and The Heart of Rock n Roll and Arrhythmias
DESCRIPTION:Review CMS-HCC risk adjustment model and why it is important\nReview specific official ICD-10-CM coding guidelines and how they are applied for HCC diagnosis coding\nIdentify elements of the medical record that help support the validation of an HCC diagnosis condition\nIdentify documentation deficiencies for specific conditions
URL:https://mecop.org/event/peep-risk-adjustment-and-the-heart-of-rock-n-roll-and-arrhythmias-3/
LOCATION:Internet Enduring Material
CATEGORIES:AMA
END:VEVENT
BEGIN:VEVENT
DTSTART;TZID=America/Chicago:20250918T080000
DTEND;TZID=America/Chicago:20250918T170000
DTSTAMP:20260424T201248
CREATED:20250919T214810Z
LAST-MODIFIED:20250919T215106Z
UID:64568-1758182400-1758214800@mecop.org
SUMMARY:Risk Adjustment and "The Usual Suspects" - Common Conditions
DESCRIPTION:Gain understanding of risk adjustment methodology and its role in Value Based Care models.\nReview specific official ICD-10-CM coding guidelines and how they are applied to diagnosis coding and reporting.\nIdentify elements of the medical record that help support the validation of reported conditions.\nIdentify documentation deficiencies for specific conditions.
URL:https://mecop.org/event/risk-adjustment-and-the-usual-suspects-common-conditions-3/
LOCATION:Internet Live Webcast
CATEGORIES:AMA
END:VEVENT
BEGIN:VEVENT
DTSTART;TZID=America/Chicago:20250917T080000
DTEND;TZID=America/Chicago:20250917T170000
DTSTAMP:20260424T201248
CREATED:20251112T153008Z
LAST-MODIFIED:20251112T153013Z
UID:65442-1758096000-1758128400@mecop.org
SUMMARY:PEEP The Cider House Rules of Risk Adjustment Models
DESCRIPTION:Review CMS-HCC risk adjustment model and why it is important\nReview specific official ICD-10-CM coding guidelines and how they are applied for HCC diagnosis coding\nIdentify elements of the medical record that help support the validation of an HCC diagnosis condition\nIdentify documentation deficiencies for specific conditions
URL:https://mecop.org/event/peep-the-cider-house-rules-of-risk-adjustment-models/
LOCATION:Internet Enduring Material
CATEGORIES:AMA
END:VEVENT
BEGIN:VEVENT
DTSTART;TZID=America/Chicago:20250917T080000
DTEND;TZID=America/Chicago:20250917T170000
DTSTAMP:20260424T201248
CREATED:20251012T175112Z
LAST-MODIFIED:20251012T175112Z
UID:64916-1758096000-1758128400@mecop.org
SUMMARY:General Adult Tumor Board 2025
DESCRIPTION:Unavailabel
URL:https://mecop.org/event/general-adult-tumor-board-2025-27/
LOCATION:Ascension Sacred Heart Hospital\, FL
CATEGORIES:AMA
END:VEVENT
BEGIN:VEVENT
DTSTART;TZID=America/Chicago:20250916T080000
DTEND;TZID=America/Chicago:20250916T170000
DTSTAMP:20260424T201248
CREATED:20251008T175413Z
LAST-MODIFIED:20251008T183445Z
UID:64800-1758009600-1758042000@mecop.org
SUMMARY:Baldwin Health Tumor Board
DESCRIPTION:1. Review patient cases and all necessary findings (pathology\, radiology\, surgery\, etc.) and discuss key findings to determine course of treatment.\n2. Discuss implications amongst multidisciplinary team members\, and review best practices\, current\nevidence-based findings\, etc.\n3. Assign treatment protocols based on consensus of the multidisciplinary team.
URL:https://mecop.org/event/baldwin-health-tumor-board-8/
LOCATION:Baldwin Health
CATEGORIES:AMA
END:VEVENT
BEGIN:VEVENT
DTSTART;TZID=America/Chicago:20250916T080000
DTEND;TZID=America/Chicago:20250916T170000
DTSTAMP:20260424T201248
CREATED:20250919T090509Z
LAST-MODIFIED:20250919T203744Z
UID:64544-1758009600-1758042000@mecop.org
SUMMARY:Risk Adjustment and "The Usual Suspects" - Common Conditions
DESCRIPTION:Gain understanding of risk adjustment methodology and its role in Value Based Care models.\nReview specific official ICD-10-CM coding guidelines and how they are applied to diagnosis coding and reporting.\nIdentify elements of the medical record that help support the validation of reported conditions.\nIdentify documentation deficiencies for specific conditions.
URL:https://mecop.org/event/risk-adjustment-and-the-usual-suspects-common-conditions-2/
LOCATION:Internet Live Webcast
CATEGORIES:AMA
END:VEVENT
BEGIN:VEVENT
DTSTART;TZID=America/Chicago:20250916T080000
DTEND;TZID=America/Chicago:20250916T170000
DTSTAMP:20260424T201248
CREATED:20250918T151156Z
LAST-MODIFIED:20250918T154340Z
UID:64531-1758009600-1758042000@mecop.org
SUMMARY:CMS Monthly Provider Meeting
DESCRIPTION:Discuss digital signing policy.\nOutline clincical absence protocol.\nUpdate split-dosing policy.\nDiscuss MOUD drug interactions and CYP450 enzyme effects.\nDiscuss approaches to gray areas in CMS policy.
URL:https://mecop.org/event/cms-monthly-provider-meeting-16/
LOCATION:Internet Live Webcast
CATEGORIES:AMA
END:VEVENT
END:VCALENDAR