BEGIN:VCALENDAR
VERSION:2.0
PRODID:-//Mecop - ECPv6.5.1.5//NONSGML v1.0//EN
CALSCALE:GREGORIAN
METHOD:PUBLISH
X-WR-CALNAME:Mecop
X-ORIGINAL-URL:https://mecop.org
X-WR-CALDESC:Events for Mecop
REFRESH-INTERVAL;VALUE=DURATION:PT1H
X-Robots-Tag:noindex
X-PUBLISHED-TTL:PT1H
BEGIN:VTIMEZONE
TZID:America/Chicago
BEGIN:DAYLIGHT
TZOFFSETFROM:-0600
TZOFFSETTO:-0500
TZNAME:CDT
DTSTART:20250309T080000
END:DAYLIGHT
BEGIN:STANDARD
TZOFFSETFROM:-0500
TZOFFSETTO:-0600
TZNAME:CST
DTSTART:20251102T070000
END:STANDARD
END:VTIMEZONE
BEGIN:VEVENT
DTSTART;TZID=America/Chicago:20251008T080000
DTEND;TZID=America/Chicago:20251008T170000
DTSTAMP:20260422T212937
CREATED:20251101T210355Z
LAST-MODIFIED:20251101T210533Z
UID:65236-1759910400-1759942800@mecop.org
SUMMARY:Gadopiclenol Versus Gadoterate Meglumine for Brain MRI
DESCRIPTION:Unavailable
URL:https://mecop.org/event/gadopiclenol-versus-gadoterate-meglumine-for-brain-mri/
LOCATION:Enduring Activity
CATEGORIES:AMA
END:VEVENT
BEGIN:VEVENT
DTSTART;TZID=America/Chicago:20251008T080000
DTEND;TZID=America/Chicago:20251008T170000
DTSTAMP:20260422T212937
CREATED:20251101T205653Z
LAST-MODIFIED:20251101T205905Z
UID:65233-1759910400-1759942800@mecop.org
SUMMARY:Cervical Cancer Reporting Lexicon
DESCRIPTION:Unavailable
URL:https://mecop.org/event/cervical-cancer-reporting-lexicon/
LOCATION:Enduring Activity
CATEGORIES:AMA
END:VEVENT
BEGIN:VEVENT
DTSTART;TZID=America/Chicago:20251008T080000
DTEND;TZID=America/Chicago:20251008T170000
DTSTAMP:20260422T212937
CREATED:20251101T203103Z
LAST-MODIFIED:20251101T203506Z
UID:65227-1759910400-1759942800@mecop.org
SUMMARY:MRI in Prostate Cancer Screening
DESCRIPTION:Unavailable
URL:https://mecop.org/event/mri-in-prostate-cancer-screening/
LOCATION:Enduring Activity
CATEGORIES:AMA
END:VEVENT
BEGIN:VEVENT
DTSTART;TZID=America/Chicago:20251008T080000
DTEND;TZID=America/Chicago:20251008T170000
DTSTAMP:20260422T212937
CREATED:20251020T233059Z
LAST-MODIFIED:20251020T233255Z
UID:65062-1759910400-1759942800@mecop.org
SUMMARY:Associations of Breast Cancer Detection Method and Outcomes
DESCRIPTION:Unavailable
URL:https://mecop.org/event/associations-of-breast-cancer-detection-method-and-outcomes/
LOCATION:Enduring Activity
CATEGORIES:AMA
END:VEVENT
BEGIN:VEVENT
DTSTART;TZID=America/Chicago:20251008T080000
DTEND;TZID=America/Chicago:20251008T170000
DTSTAMP:20260422T212937
CREATED:20251020T232459Z
LAST-MODIFIED:20251020T232633Z
UID:65059-1759910400-1759942800@mecop.org
SUMMARY:Bariatric Surgery\, Productivity\, and Employment Status
DESCRIPTION:Unavailable
URL:https://mecop.org/event/bariatric-surgery-productivity-and-employment-status/
LOCATION:Journal based CME activity
CATEGORIES:AMA
END:VEVENT
BEGIN:VEVENT
DTSTART;TZID=America/Chicago:20251008T080000
DTEND;TZID=America/Chicago:20251008T170000
DTSTAMP:20260422T212937
CREATED:20251020T224748Z
LAST-MODIFIED:20251020T225008Z
UID:65050-1759910400-1759942800@mecop.org
SUMMARY:AI Assistance for CT Detection of Lung Metastasis
DESCRIPTION:Unavailable
URL:https://mecop.org/event/ai-assistance-for-ct-detection-of-lung-metastasis/
LOCATION:Enduring Activity
CATEGORIES:AMA
END:VEVENT
BEGIN:VEVENT
DTSTART;TZID=America/Chicago:20251008T080000
DTEND;TZID=America/Chicago:20251008T170000
DTSTAMP:20260422T212937
CREATED:20251016T181826Z
LAST-MODIFIED:20251016T181834Z
UID:64982-1759910400-1759942800@mecop.org
SUMMARY:KAMAP Hyaluronidase: The Safety Net of Aesthetics
DESCRIPTION:Explain the mechanism of action of hyaluronidase\nIdentify safe prescribing practices of hyaluronidase\nDemonstrate safe administration of hyaluronidase\nCompare primary and secondary uses of hyaluronidase in medical aesthetics\nAnticipate the risk of allergic reaction to hyaluronidase\nOutline possible side effects of hyaluronidase administration
URL:https://mecop.org/event/kamap-hyaluronidase-the-safety-net-of-aesthetics-7/
LOCATION:Internet Enduring Material
CATEGORIES:AMA
END:VEVENT
BEGIN:VEVENT
DTSTART;TZID=America/Chicago:20251008T080000
DTEND;TZID=America/Chicago:20251008T170000
DTSTAMP:20260422T212937
CREATED:20251012T174159Z
LAST-MODIFIED:20251012T174159Z
UID:64914-1759910400-1759942800@mecop.org
SUMMARY:General Adult Tumor Board 2025
DESCRIPTION:Unavailable
URL:https://mecop.org/event/general-adult-tumor-board-2025-26/
LOCATION:Ascension Sacred Heart Hospital\, FL
CATEGORIES:AMA
END:VEVENT
BEGIN:VEVENT
DTSTART;TZID=America/Chicago:20251008T080000
DTEND;TZID=America/Chicago:20251008T170000
DTSTAMP:20260422T212937
CREATED:20251009T221006Z
LAST-MODIFIED:20251009T221006Z
UID:64872-1759910400-1759942800@mecop.org
SUMMARY:#91334 Medical Error Prevention and Root Cause Analysis
DESCRIPTION:Unavailable
URL:https://mecop.org/event/91334-medical-error-prevention-and-root-cause-analysis-6/
LOCATION:Enduring Material
CATEGORIES:AMA,MedErrors
END:VEVENT
BEGIN:VEVENT
DTSTART;TZID=America/Chicago:20251008T080000
DTEND;TZID=America/Chicago:20251008T170000
DTSTAMP:20260422T212937
CREATED:20251009T220239Z
LAST-MODIFIED:20251009T220437Z
UID:64869-1759910400-1759942800@mecop.org
SUMMARY:#45122 Strategies for Appropriate Opioid Prescribing:
DESCRIPTION:Unavailable
URL:https://mecop.org/event/45122-strategies-for-appropriate-opioid-prescribing-2/
LOCATION:Enduring Material
CATEGORIES:AMA,Prescribing of Controlled Substances
END:VEVENT
BEGIN:VEVENT
DTSTART;TZID=America/Chicago:20251008T080000
DTEND;TZID=America/Chicago:20251008T170000
DTSTAMP:20260422T212937
CREATED:20251009T200340Z
LAST-MODIFIED:20251009T202818Z
UID:64866-1759910400-1759942800@mecop.org
SUMMARY:Andalusia Health Tumor Board
DESCRIPTION:
URL:https://mecop.org/event/andalusia-health-tumor-board-3/
LOCATION:Andalusia Health
CATEGORIES:AMA
END:VEVENT
BEGIN:VEVENT
DTSTART;TZID=America/Chicago:20251008T080000
DTEND;TZID=America/Chicago:20251008T170000
DTSTAMP:20260422T212937
CREATED:20251009T191911Z
LAST-MODIFIED:20251010T193650Z
UID:64860-1759910400-1759942800@mecop.org
SUMMARY:Risk Adjustment and Stranger Things-Coding Updates and Vascular Disease
DESCRIPTION:Gain understanding of risk adjustment methodology and its role in Value Based Care models.\nReview specific official ICD-10-CM coding guidelines and how they are applied to diagnosis coding and reporting.\nIdentify elements of the medical record that help support the validation of reported conditions.\nIdentify documentation deficiencies for specific conditions.
URL:https://mecop.org/event/risk-adjustment-and-stranger-things-coding-updates-and-vascular-disease/
LOCATION:Internet Live Webcast
CATEGORIES:AMA
END:VEVENT
BEGIN:VEVENT
DTSTART;TZID=America/Chicago:20251007T080000
DTEND;TZID=America/Chicago:20251007T170000
DTSTAMP:20260422T212937
CREATED:20251013T204215Z
LAST-MODIFIED:20251027T224506Z
UID:64943-1759824000-1759856400@mecop.org
SUMMARY:FSU Fundamentals of Teaching in the FSU COM Clinical Education Program II Module
DESCRIPTION:Unavailable
URL:https://mecop.org/event/fsu-fundamentals-of-teaching-in-the-fsu-com-clinical-education-program-ii-module-20/
LOCATION:Enduring Material
CATEGORIES:AMA
END:VEVENT
BEGIN:VEVENT
DTSTART;TZID=America/Chicago:20251007T080000
DTEND;TZID=America/Chicago:20251007T170000
DTSTAMP:20260422T212937
CREATED:20251011T150122Z
LAST-MODIFIED:20251027T225656Z
UID:64900-1759824000-1759856400@mecop.org
SUMMARY:FSU Fundamentals of Teaching in the FSU COM Clinical Education Program I Module
DESCRIPTION:Unavailable
URL:https://mecop.org/event/fsu-fundamentals-of-teaching-in-the-fsu-com-clinical-education-program-i-module-16/
LOCATION:Enduring Material
CATEGORIES:AMA
END:VEVENT
BEGIN:VEVENT
DTSTART;TZID=America/Chicago:20251004T080000
DTEND;TZID=America/Chicago:20251004T170000
DTSTAMP:20260422T212937
CREATED:20251022T191840Z
LAST-MODIFIED:20251022T192154Z
UID:65109-1759564800-1759597200@mecop.org
SUMMARY:Facial Balancing and Biostimulators with Injector Coach International
DESCRIPTION:Perfect the patient consultation\nDiscuss pricing\nDifferentiate facial shapes\nBlend transition zones\nDemonstrate proficiency on practicum\nDefine biostimulators\nIdentify the mechanism of action of biostimulators\nDemonstrate competency in reconstituting and diluting biostimulators for different treatment areas\nDemonstrate appropriate technique for injection\nDefine the role of biostimulators in regenerative aesthetics
URL:https://mecop.org/event/facial-balancing-and-biostimulators-with-injector-coach-international/
LOCATION:Mind Body Soul Medical
CATEGORIES:AMA
END:VEVENT
BEGIN:VEVENT
DTSTART;TZID=America/Chicago:20251003T080000
DTEND;TZID=America/Chicago:20251003T170000
DTSTAMP:20260422T212937
CREATED:20251101T204901Z
LAST-MODIFIED:20251101T205041Z
UID:65230-1759478400-1759510800@mecop.org
SUMMARY:Imaging Review of Septic Thrombophlebitis
DESCRIPTION:Unavailable
URL:https://mecop.org/event/imaging-review-of-septic-thrombophlebitis/
LOCATION:Enduring Activity
CATEGORIES:AMA
END:VEVENT
BEGIN:VEVENT
DTSTART;TZID=America/Chicago:20251001T080000
DTEND;TZID=America/Chicago:20251001T170000
DTSTAMP:20260422T212937
CREATED:20251114T173226Z
LAST-MODIFIED:20251114T181951Z
UID:65605-1759305600-1759338000@mecop.org
SUMMARY:PEEP Risk Adjustment and the Usual Suspects Common Conditions in Primary Care
DESCRIPTION:See content.
URL:https://mecop.org/event/peep-risk-adjustment-and-the-usual-suspects-common-conditions-in-pulmonary-care/
LOCATION:Internet Enduring Material
CATEGORIES:AMA
END:VEVENT
BEGIN:VEVENT
DTSTART;TZID=America/Chicago:20251001T080000
DTEND;TZID=America/Chicago:20251001T170000
DTSTAMP:20260422T212937
CREATED:20251114T172727Z
LAST-MODIFIED:20251114T172739Z
UID:65603-1759305600-1759338000@mecop.org
SUMMARY:PEEP Risk Adjustment Rules of Engagement ICD-10 Coding
DESCRIPTION:See content.
URL:https://mecop.org/event/peep-risk-adjustment-rules-of-engagement-icd-10-coding-8/
LOCATION:Internet Enduring Material
CATEGORIES:AMA
END:VEVENT
BEGIN:VEVENT
DTSTART;TZID=America/Chicago:20251001T080000
DTEND;TZID=America/Chicago:20251001T170000
DTSTAMP:20260422T212937
CREATED:20251114T163624Z
LAST-MODIFIED:20251114T163630Z
UID:65601-1759305600-1759338000@mecop.org
SUMMARY:PEEP Risk Adjustment and Diners\, Drive-Ins and Dives for Your GI
DESCRIPTION:See content.
URL:https://mecop.org/event/peep-risk-adjustment-and-diners-drive-ins-and-dives-for-your-gi-4/
LOCATION:Internet Enduring Material
CATEGORIES:AMA
END:VEVENT
BEGIN:VEVENT
DTSTART;TZID=America/Chicago:20251001T080000
DTEND;TZID=America/Chicago:20251001T170000
DTSTAMP:20260422T212937
CREATED:20251114T163252Z
LAST-MODIFIED:20251114T163259Z
UID:65599-1759305600-1759338000@mecop.org
SUMMARY:PEEP Risk Adjustment and the Bone Collector - Musculoskeletal Health
DESCRIPTION:See content.
URL:https://mecop.org/event/peep-risk-adjustment-and-the-bone-collector-musculoskeletal-health-5/
LOCATION:Internet Enduring Material
CATEGORIES:AMA
END:VEVENT
BEGIN:VEVENT
DTSTART;TZID=America/Chicago:20251001T080000
DTEND;TZID=America/Chicago:20251001T170000
DTSTAMP:20260422T212937
CREATED:20251114T162817Z
LAST-MODIFIED:20251114T162822Z
UID:65595-1759305600-1759338000@mecop.org
SUMMARY:PEEP Risk Adjustment and a Tale of Two Kidneys
DESCRIPTION:See content.
URL:https://mecop.org/event/peep-risk-adjustment-and-a-tale-of-two-kidneys-5/
LOCATION:Internet Enduring Material
CATEGORIES:AMA
END:VEVENT
BEGIN:VEVENT
DTSTART;TZID=America/Chicago:20251001T080000
DTEND;TZID=America/Chicago:20251001T170000
DTSTAMP:20260422T212937
CREATED:20251114T162255Z
LAST-MODIFIED:20251114T162302Z
UID:65592-1759305600-1759338000@mecop.org
SUMMARY:PEEP Risk Adjustment and Managing the Summertime Blues Behavioral Health Part 1
DESCRIPTION:See content.
URL:https://mecop.org/event/peep-risk-adjustment-and-managing-the-summertime-blues-behavioral-health-part-1-2/
LOCATION:Internet Enduring Material
CATEGORIES:AMA
END:VEVENT
BEGIN:VEVENT
DTSTART;TZID=America/Chicago:20251001T080000
DTEND;TZID=America/Chicago:20251001T170000
DTSTAMP:20260422T212937
CREATED:20251114T150453Z
LAST-MODIFIED:20251114T150458Z
UID:65590-1759305600-1759338000@mecop.org
SUMMARY:PEEP V28 CMS HCC Risk Adjustment and The Never Ending Story
DESCRIPTION:Review CMS-HCC risk adjustment model and why it is important\nReview specific official ICD-10-CM coding guidelines and how they are applied for HCC diagnosis coding\nIdentify elements of the medical record that help support the validation of an HCC diagnosis condition\nIdentify documentation deficiencies for specific conditions.
URL:https://mecop.org/event/peep-v28-cms-hcc-risk-adjustment-and-the-never-ending-story-6/
LOCATION:Internet Enduring Material
CATEGORIES:AMA
END:VEVENT
BEGIN:VEVENT
DTSTART;TZID=America/Chicago:20251001T080000
DTEND;TZID=America/Chicago:20251001T170000
DTSTAMP:20260422T212937
CREATED:20251114T150028Z
LAST-MODIFIED:20251114T150222Z
UID:65587-1759305600-1759338000@mecop.org
SUMMARY:PEEP The Cider House Rules of Risk Adjustment Models
DESCRIPTION:Review CMS-HCC risk adjustment model and why it is important\nReview specific official ICD-10-CM coding guidelines and how they are applied for HCC diagnosis coding\nIdentify elements of the medical record that help support the validation of an HCC diagnosis condition\nIdentify documentation deficiencies for specific conditions
URL:https://mecop.org/event/peep-the-cider-house-rules-of-risk-adjustment-models-2/
LOCATION:Internet Enduring Material
CATEGORIES:AMA
END:VEVENT
BEGIN:VEVENT
DTSTART;TZID=America/Chicago:20251001T080000
DTEND;TZID=America/Chicago:20251001T170000
DTSTAMP:20260422T212937
CREATED:20251114T145643Z
LAST-MODIFIED:20251114T145650Z
UID:65585-1759305600-1759338000@mecop.org
SUMMARY:PEEP Risk Adjustment and Vascular Disease
DESCRIPTION:Review CMS-HCC risk adjustment model and why it is important\nReview specific official ICD-10-CM coding guidelines and how they are applied for HCC diagnosis coding\nIdentify elements of the medical record that help support the validation of an HCC diagnosis condition\nIdentify documentation deficiencies for specific conditions
URL:https://mecop.org/event/peep-risk-adjustment-and-vascular-disease-10/
LOCATION:Internet Enduring Material
CATEGORIES:AMA
END:VEVENT
BEGIN:VEVENT
DTSTART;TZID=America/Chicago:20251001T080000
DTEND;TZID=America/Chicago:20251001T170000
DTSTAMP:20260422T212937
CREATED:20251114T145301Z
LAST-MODIFIED:20251114T145307Z
UID:65583-1759305600-1759338000@mecop.org
SUMMARY:PEEP Risk Adjustment and The Heart of Rock n Roll and Arrhythmias
DESCRIPTION:Review CMS-HCC risk adjustment model and why it is important\nReview specific official ICD-10-CM coding guidelines and how they are applied for HCC diagnosis coding\nIdentify elements of the medical record that help support the validation of an HCC diagnosis condition\nIdentify documentation deficiencies for specific conditions
URL:https://mecop.org/event/peep-risk-adjustment-and-the-heart-of-rock-n-roll-and-arrhythmias-4/
LOCATION:Internet Enduring Material
CATEGORIES:AMA
END:VEVENT
BEGIN:VEVENT
DTSTART;TZID=America/Chicago:20251001T080000
DTEND;TZID=America/Chicago:20251001T170000
DTSTAMP:20260422T212937
CREATED:20251114T144938Z
LAST-MODIFIED:20251114T144947Z
UID:65581-1759305600-1759338000@mecop.org
SUMMARY:PEEP Risk Adjustment and Total Recall - Best Practices for Documentation and Coding
DESCRIPTION:See content.
URL:https://mecop.org/event/peep-risk-adjustment-and-total-recall-best-practices-for-documentation-and-coding-4/
LOCATION:Internet Enduring Material
CATEGORIES:AMA
END:VEVENT
BEGIN:VEVENT
DTSTART;TZID=America/Chicago:20251001T080000
DTEND;TZID=America/Chicago:20251001T170000
DTSTAMP:20260422T212937
CREATED:20251114T141458Z
LAST-MODIFIED:20251114T141506Z
UID:65571-1759305600-1759338000@mecop.org
SUMMARY:PEEP Risk Adjustment and the Facts of Life about Pediatric Conditions
DESCRIPTION:See content.
URL:https://mecop.org/event/peep-risk-adjustment-and-the-facts-of-life-about-pediatric-conditions-7/
LOCATION:Internet Enduring Material
CATEGORIES:AMA
END:VEVENT
BEGIN:VEVENT
DTSTART;TZID=America/Chicago:20251001T080000
DTEND;TZID=America/Chicago:20251001T170000
DTSTAMP:20260422T212937
CREATED:20251114T141257Z
LAST-MODIFIED:20251114T141308Z
UID:65568-1759305600-1759338000@mecop.org
SUMMARY:PEEP Risk Adjustment Reaching the Vertical Limit Pulmonary Conditions
DESCRIPTION:See content.
URL:https://mecop.org/event/peep-risk-adjustment-reaching-the-vertical-limit-pulmonary-conditions-4/
LOCATION:Internet Enduring Material
CATEGORIES:AMA
END:VEVENT
BEGIN:VEVENT
DTSTART;TZID=America/Chicago:20250930T080000
DTEND;TZID=America/Chicago:20250930T170000
DTSTAMP:20260422T212937
CREATED:20251114T140147Z
LAST-MODIFIED:20251114T140448Z
UID:65559-1759219200-1759251600@mecop.org
SUMMARY:PEEP Risk Adjustment and There's Something About Mary's Diabetes
DESCRIPTION:See content.
URL:https://mecop.org/event/peep-risk-adjustment-and-theres-something-about-marys-diabetes/
LOCATION:Internet Enduring Material
CATEGORIES:AMA
END:VEVENT
END:VCALENDAR