BEGIN:VCALENDAR
VERSION:2.0
PRODID:-//Mecop - ECPv6.5.1.5//NONSGML v1.0//EN
CALSCALE:GREGORIAN
METHOD:PUBLISH
X-WR-CALNAME:Mecop
X-ORIGINAL-URL:https://mecop.org
X-WR-CALDESC:Events for Mecop
REFRESH-INTERVAL;VALUE=DURATION:PT1H
X-Robots-Tag:noindex
X-PUBLISHED-TTL:PT1H
BEGIN:VTIMEZONE
TZID:America/Chicago
BEGIN:DAYLIGHT
TZOFFSETFROM:-0600
TZOFFSETTO:-0500
TZNAME:CDT
DTSTART:20260308T080000
END:DAYLIGHT
BEGIN:STANDARD
TZOFFSETFROM:-0500
TZOFFSETTO:-0600
TZNAME:CST
DTSTART:20261101T070000
END:STANDARD
END:VTIMEZONE
BEGIN:VEVENT
DTSTART;TZID=America/Chicago:20260310T080000
DTEND;TZID=America/Chicago:20260310T170000
DTSTAMP:20260419T105931
CREATED:20260328T153714Z
LAST-MODIFIED:20260328T153721Z
UID:67932-1773129600-1773162000@mecop.org
SUMMARY:PEEP Risk Adjustment - Exploring the Matrix of Neurological Disease Coding
DESCRIPTION:Review CMS-HCC risk adjustment model and why it is important\nReview specific official ICD-10-CM coding guidelines and how they are applied for HCC diagnosis coding\nIdentify elements of the medical record that help support the validation of an HCC diagnosis condition\nIdentify documentation deficiencies for specific conditions
URL:https://mecop.org/event/peep-risk-adjustment-exploring-the-matrix-of-neurological-disease-coding-3/
LOCATION:Internet Enduring Material
CATEGORIES:AMA
END:VEVENT
BEGIN:VEVENT
DTSTART;TZID=America/Chicago:20260310T080000
DTEND;TZID=America/Chicago:20260310T170000
DTSTAMP:20260419T105931
CREATED:20260313T205037Z
LAST-MODIFIED:20260313T205321Z
UID:67737-1773129600-1773162000@mecop.org
SUMMARY:PS Wellness and Aesthetics Peptide Webinar
DESCRIPTION:Understanding Peptide Therapies: Participants will learn about various peptides and their mechanisms of action.\nClinical Applications: Attendees will explore how to apply peptide therapies in clinical settings\, including potential benefits and risks.\nPatient Education: Participants will be equipped to effectively educate patients about these peptides\, including their FDA status and informed consent requirements.\nSafety and Monitoring: The importance of monitoring for side effects and understanding emergency protocols associated with peptide therapies will be emphasized.\nRegulatory Considerations: Insight into the regulatory landscape surrounding peptide therapies and their implications for clinical practice will be provided.
URL:https://mecop.org/event/ps-wellness-and-aesthetics-peptide-webinar/
LOCATION:Internet Enduring Material
CATEGORIES:AMA
END:VEVENT
BEGIN:VEVENT
DTSTART;TZID=America/Chicago:20260310T080000
DTEND;TZID=America/Chicago:20260310T170000
DTSTAMP:20260419T105931
CREATED:20260310T180613Z
LAST-MODIFIED:20260313T213139Z
UID:67673-1773129600-1773162000@mecop.org
SUMMARY:Risk Adjustment and Cancer-RE-MISSION is Possible
DESCRIPTION:Gain understanding of risk adjustment methodology and its role in Value Based Care models.\nReview specific official ICD-10-CM coding guidelines and how they are applied to diagnosis coding and reporting.\nIdentify elements of the medical record that help support the validation of reported conditions.\nIdentify documentation deficiencies for specific conditions.
URL:https://mecop.org/event/risk-adjustment-and-re-mission-is-possible/
LOCATION:Internet Live Webcast
CATEGORIES:AMA
END:VEVENT
BEGIN:VEVENT
DTSTART;TZID=America/Chicago:20260309T080000
DTEND;TZID=America/Chicago:20260309T170000
DTSTAMP:20260419T105931
CREATED:20260317T135635Z
LAST-MODIFIED:20260318T005154Z
UID:67784-1773043200-1773075600@mecop.org
SUMMARY:Facial Balancing with Injector Coach International
DESCRIPTION:Perfect the patient consultation\nDiscuss pricing\nDifferentiate facial shapes\nBlend transition zones\nDemonstrate proficiency on practicum\nDefine biostimulators\nIdentify the mechanism of action of biostimulators\nDemonstrate competency in reconstituting and diluting biostimulators for different treatment areas\nDemonstrate appropriate technique for injection\nDefine the role of biostimulators in regenerative aesthetics
URL:https://mecop.org/event/facial-balancing-with-injector-coach-international-2/
LOCATION:Mind Body Soul Medical
CATEGORIES:AMA
END:VEVENT
BEGIN:VEVENT
DTSTART;TZID=America/Chicago:20260308T080000
DTEND;TZID=America/Chicago:20260309T170000
DTSTAMP:20260419T105931
CREATED:20260313T201851Z
LAST-MODIFIED:20260318T005041Z
UID:67735-1772956800-1773075600@mecop.org
SUMMARY:MedSpa Militia: Operation Extreme Excellence
DESCRIPTION:Define top characteristics for a successful medical spa.\nDefine actionable steps for managing your medical spa.\nDiscuss practice-based problems and gain real-time methods for solving your most pressing issues.\nDiscuss conversions\, sales\, marketing and AI strategies to help increase impact and drive sales.\nDefine culture of excellence and apply skills to your medical practice.
URL:https://mecop.org/event/medspa-militia-operation-extreme-excellence/
LOCATION:Live
CATEGORIES:AMA
END:VEVENT
BEGIN:VEVENT
DTSTART;TZID=America/Chicago:20260306T080000
DTEND;TZID=America/Chicago:20260306T170000
DTSTAMP:20260419T105931
CREATED:20260317T135416Z
LAST-MODIFIED:20260318T005125Z
UID:67782-1772784000-1772816400@mecop.org
SUMMARY:Facial Balancing with Injector Coach International
DESCRIPTION:
URL:https://mecop.org/event/facial-balancing-with-injector-coach-international/
LOCATION:Mind Body Soul Medical
CATEGORIES:AMA
END:VEVENT
BEGIN:VEVENT
DTSTART;TZID=America/Chicago:20260306T080000
DTEND;TZID=America/Chicago:20260306T170000
DTSTAMP:20260419T105931
CREATED:20260310T140127Z
LAST-MODIFIED:20260310T140344Z
UID:67661-1772784000-1772816400@mecop.org
SUMMARY:PS Wellness and Aesthetics Peptide Guide
DESCRIPTION:Provide e a thorough overview of each peptide\, including its purpose\, benefits\, risks\, and usage protocols.\nOutline clear instructions on the informed consent process\, including necessary disclaimers about FDA approval status.\nDiscuss recommendations for monitoring and managing patient care using peptide therapies.\nReference for healthcare providers on the latest developments in peptide therapies.
URL:https://mecop.org/event/ps-wellness-and-aesthetics-peptide-guide/
LOCATION:Enduring Material
CATEGORIES:AMA
END:VEVENT
BEGIN:VEVENT
DTSTART;TZID=America/Chicago:20260306T080000
DTEND;TZID=America/Chicago:20260306T170000
DTSTAMP:20260419T105931
CREATED:20260209T161551Z
LAST-MODIFIED:20260306T190221Z
UID:67248-1772784000-1772816400@mecop.org
SUMMARY:FADAA Initiating MOUD: Best Practices in Emergency and Outpatient Care
DESCRIPTION:Identify key goals of medications for opioid use disorder (MOUD) initiation in the hospital emergency department and outpatient setting\nPerform patient assessment and compare initiation protocols for MOUD\nOutline follow-up\, monitoring and access barriers
URL:https://mecop.org/event/fadaa-initiating-moud-best-practices-in-emergency-and-outpatient-care/
LOCATION:Internet Enduring Material
CATEGORIES:AMA
END:VEVENT
BEGIN:VEVENT
DTSTART;TZID=America/Chicago:20260306T080000
DTEND;TZID=America/Chicago:20260306T170000
DTSTAMP:20260419T105931
CREATED:20260202T163810Z
LAST-MODIFIED:20260310T134904Z
UID:67154-1772784000-1772816400@mecop.org
SUMMARY:FADAA Evidence-Based Approaches to Opioid Use Disorder: A MOUD Overview
DESCRIPTION:Outline medications for Opioid Use Disorder (MOUD)\nDescribe the three FDA-approved medications to treat opioid use disorder (OUD) and how they are used\nDiscuss implementation strategies in healthcare settings
URL:https://mecop.org/event/fadaa-evidence-based-approaches-to-opioid-use-disorder-a-moud-overview/
LOCATION:Internet Enduring Material
CATEGORIES:AMA
END:VEVENT
BEGIN:VEVENT
DTSTART;TZID=America/Chicago:20260305T093000
DTEND;TZID=America/Chicago:20260305T160000
DTSTAMP:20260419T105931
CREATED:20260211T130637Z
LAST-MODIFIED:20260319T135958Z
UID:67295-1772703000-1772726400@mecop.org
SUMMARY:MUSM KidsABC Collaborative Meeting
DESCRIPTION:
URL:https://mecop.org/event/musm-kidsabc-collaborative-meeting-2/
LOCATION:Live Activity
CATEGORIES:AMA
END:VEVENT
BEGIN:VEVENT
DTSTART;TZID=America/Chicago:20260304T193000
DTEND;TZID=America/Chicago:20260304T223000
DTSTAMP:20260419T105931
CREATED:20260129T101458Z
LAST-MODIFIED:20260330T201040Z
UID:67067-1772652600-1772663400@mecop.org
SUMMARY:Pediatric Associates PACE Meeting
DESCRIPTION:Navigating PCOS as a Primary Care Provider \nReview the pathophysiology of PCOS\nReview the diagnostic workup of PCOS in youth as a PCP\nIdentify treatment options for PCOS in youth.
URL:https://mecop.org/event/pediatric-associates-pace-meeting-63/
LOCATION:Virtual
CATEGORIES:AMA
END:VEVENT
BEGIN:VEVENT
DTSTART;TZID=America/Chicago:20260304T093000
DTEND;TZID=America/Chicago:20260304T153000
DTSTAMP:20260419T105931
CREATED:20260211T130434Z
LAST-MODIFIED:20260313T115530Z
UID:67293-1772616600-1772638200@mecop.org
SUMMARY:MUSM KidsABC Collaborative Meeting
DESCRIPTION:
URL:https://mecop.org/event/musm-kidsabc-collaborative-meeting/
LOCATION:Live Activity
CATEGORIES:AMA
END:VEVENT
BEGIN:VEVENT
DTSTART;TZID=America/Chicago:20260304T080000
DTEND;TZID=America/Chicago:20260304T170000
DTSTAMP:20260419T105931
CREATED:20260310T115840Z
LAST-MODIFIED:20260408T202818Z
UID:67649-1772611200-1772643600@mecop.org
SUMMARY:FSU Fundamentals of Teaching in the FSU COM Clinical Education Program I Module
DESCRIPTION:Unavailable
URL:https://mecop.org/event/fsu-fundamentals-of-teaching-in-the-fsu-com-clinical-education-program-i-module-20/
LOCATION:Enduring Activity
CATEGORIES:AMA
END:VEVENT
BEGIN:VEVENT
DTSTART;TZID=America/Chicago:20260304T080000
DTEND;TZID=America/Chicago:20260304T170000
DTSTAMP:20260419T105931
CREATED:20260309T205713Z
LAST-MODIFIED:20260309T205802Z
UID:67644-1772611200-1772643600@mecop.org
SUMMARY:Pediatric Associates PACE Meeting
DESCRIPTION:Unavailable
URL:https://mecop.org/event/pediatric-associates-pace-meeting-65/
LOCATION:Virtual
CATEGORIES:AMA
END:VEVENT
BEGIN:VEVENT
DTSTART;TZID=America/Chicago:20260303T120000
DTEND;TZID=America/Chicago:20260303T130000
DTSTAMP:20260419T105931
CREATED:20260203T225405Z
LAST-MODIFIED:20260314T201949Z
UID:67174-1772539200-1772542800@mecop.org
SUMMARY:MUSM Clinical Faculty Development Series
DESCRIPTION:EXPLAIN the scope of AI utilization in Modern Medicine. \nDESCRIBE how to appropriately appraise the use of AI for delivering patient care. \nAVOID medical errors from using AI. \nENSURE ethical use of AI.
URL:https://mecop.org/event/musm-clinical-faculty-development-series-55/
LOCATION:Virtual
CATEGORIES:AMA
END:VEVENT
BEGIN:VEVENT
DTSTART;TZID=America/Chicago:20260303T080000
DTEND;TZID=America/Chicago:20260303T170000
DTSTAMP:20260419T105931
CREATED:20260226T145202Z
LAST-MODIFIED:20260314T203539Z
UID:67515-1772524800-1772557200@mecop.org
SUMMARY:FLORIDA SBIRT BH IMPACT Nutrition and Mental Health: Practical Tips Training
DESCRIPTION:a. Name the most common nutrient deficiencies in children and adolescents with psychiatric conditions\nb. Review neurodevelopmental and psychiatric conditions that can increase risk of nutritional deficiencies\nc. Review the impact of nutritional deficiencies on mental health\nd Demonstrate ability to apply treatment recommendations for common nutrient deficiencies in the clinical setting
URL:https://mecop.org/event/florida-sbirt-bh-impact-nutrition-and-mental-health-practical-tips-training-session/
LOCATION:Virtual
CATEGORIES:AMA
END:VEVENT
BEGIN:VEVENT
DTSTART;TZID=America/Chicago:20260301T080000
DTEND;TZID=America/Chicago:20260301T170000
DTSTAMP:20260419T105931
CREATED:20260310T120524Z
LAST-MODIFIED:20260408T202439Z
UID:67651-1772352000-1772384400@mecop.org
SUMMARY:FSU Fundamentals of Teaching in the FSU COM Clinical Education Program II Module
DESCRIPTION:Unavailable
URL:https://mecop.org/event/fsu-fundamentals-of-teaching-in-the-fsu-com-clinical-education-program-ii-module-25/
LOCATION:Enduring Activity
CATEGORIES:AMA
END:VEVENT
BEGIN:VEVENT
DTSTART;TZID=America/Chicago:20260227T080000
DTEND;TZID=America/Chicago:20260227T170000
DTSTAMP:20260419T105931
CREATED:20260415T151825Z
LAST-MODIFIED:20260415T151825Z
UID:68178-1772179200-1772211600@mecop.org
SUMMARY:2026 Faculty Teaching Credits Gastroenterology Clerkship
DESCRIPTION:Unavailable
URL:https://mecop.org/event/2026-faculty-teaching-credits-gastroenterology-clerkship/
LOCATION:Pensacola Regional Campus\, 11000 University Parkway Bldg 234\, 2nd Floor\, Pensacola\, FL\, 32514-5750\, United States
CATEGORIES:AMA
END:VEVENT
BEGIN:VEVENT
DTSTART;TZID=America/Chicago:20260227T080000
DTEND;TZID=America/Chicago:20260227T170000
DTSTAMP:20260419T105931
CREATED:20260415T151548Z
LAST-MODIFIED:20260415T151548Z
UID:68174-1772179200-1772211600@mecop.org
SUMMARY:2026 Faculty Teaching Credits Dermatology Clerkship
DESCRIPTION:Unavailable
URL:https://mecop.org/event/2026-faculty-teaching-credits-dermatology-clerkship/
LOCATION:Pensacola Regional Campus\, 11000 University Parkway Bldg 234\, 2nd Floor\, Pensacola\, FL\, 32514-5750\, United States
CATEGORIES:AMA
END:VEVENT
BEGIN:VEVENT
DTSTART;TZID=America/Chicago:20260227T080000
DTEND;TZID=America/Chicago:20260227T170000
DTSTAMP:20260419T105931
CREATED:20260328T152233Z
LAST-MODIFIED:20260328T153441Z
UID:67929-1772179200-1772211600@mecop.org
SUMMARY:PEEP Risk Adjustment and the Usual Suspects Common Conditions in Primary Care
DESCRIPTION:See content.
URL:https://mecop.org/event/peep-risk-adjustment-and-the-usual-suspects-common-conditions-in-primary-care-2/
LOCATION:Internet Enduring Material
CATEGORIES:AMA
END:VEVENT
BEGIN:VEVENT
DTSTART;TZID=America/Chicago:20260227T080000
DTEND;TZID=America/Chicago:20260227T170000
DTSTAMP:20260419T105931
CREATED:20260318T212142Z
LAST-MODIFIED:20260318T212142Z
UID:67811-1772179200-1772211600@mecop.org
SUMMARY:2026 Faculty Teaching Credits Special Topics in Medicine and Law
DESCRIPTION:Unavailable
URL:https://mecop.org/event/2026-faculty-teaching-credits-special-topics-in-medicine-and-law/
LOCATION:Tallahassee Regional Campus\, Tallahassee\, FL\, United States
CATEGORIES:AMA
END:VEVENT
BEGIN:VEVENT
DTSTART;TZID=America/Chicago:20260227T080000
DTEND;TZID=America/Chicago:20260227T170000
DTSTAMP:20260419T105931
CREATED:20260316T205558Z
LAST-MODIFIED:20260415T151954Z
UID:67768-1772179200-1772211600@mecop.org
SUMMARY:2026 Faculty Teaching Credits Internal Medicine Clerkship
DESCRIPTION:Unavailable
URL:https://mecop.org/event/2026-faculty-teaching-credits-internal-medicine-clerkship-2/
LOCATION:Tallahassee Regional Campus\, Tallahassee\, FL\, United States
CATEGORIES:AMA
END:VEVENT
BEGIN:VEVENT
DTSTART;TZID=America/Chicago:20260227T080000
DTEND;TZID=America/Chicago:20260227T170000
DTSTAMP:20260419T105931
CREATED:20260304T201807Z
LAST-MODIFIED:20260415T151300Z
UID:67597-1772179200-1772211600@mecop.org
SUMMARY:2026 Faculty Teaching Credits Emergency Medicine Clerkship
DESCRIPTION:Unavailable
URL:https://mecop.org/event/2026-faculty-teaching-credits-emergency-medicine-clerkship-2/
LOCATION:Tallahassee Regional Campus\, Tallahassee\, FL\, United States
CATEGORIES:AMA
END:VEVENT
BEGIN:VEVENT
DTSTART;TZID=America/Chicago:20260227T080000
DTEND;TZID=America/Chicago:20260227T170000
DTSTAMP:20260419T105931
CREATED:20260302T200805Z
LAST-MODIFIED:20260302T200805Z
UID:67556-1772179200-1772211600@mecop.org
SUMMARY:2026 Faculty Teaching Credits Internal Medicine Sub-Internship
DESCRIPTION:Unavailable
URL:https://mecop.org/event/2026-faculty-teaching-credits-internal-medicine-sub-internship/
LOCATION:Fort Pierce Regional Campus\, 1200 W International Speedway Blvd #101\, Daytona Beach\, FL\, 32114\, United States
CATEGORIES:AMA
END:VEVENT
BEGIN:VEVENT
DTSTART;TZID=America/Chicago:20260227T080000
DTEND;TZID=America/Chicago:20260227T170000
DTSTAMP:20260419T105931
CREATED:20260219T144738Z
LAST-MODIFIED:20260227T134324Z
UID:67438-1772179200-1772211600@mecop.org
SUMMARY:2026 Faculty Teaching Credits Special Topics in Family Medicine/Doctoring 3
DESCRIPTION:Unavailable
URL:https://mecop.org/event/2026-faculty-teaching-credits-special-topics-in-family-medicine-doctoring-3/
LOCATION:Daytona Beach Regional Campus\, 1200 W International Speedway\, Daytona Beach\, FL\, 32114\, United States
CATEGORIES:AMA
END:VEVENT
BEGIN:VEVENT
DTSTART;TZID=America/Chicago:20260226T180000
DTEND;TZID=America/Chicago:20260226T200000
DTSTAMP:20260419T105931
CREATED:20260217T184036Z
LAST-MODIFIED:20260306T180846Z
UID:67396-1772128800-1772136000@mecop.org
SUMMARY:FSU-Tallahassee
DESCRIPTION:•	Identify the subscription medical apps available\n•	Identify the mobile friendly library subscription resources available thru the mobile friendly library site\n•	Register and install subscription medical apps\n•	Identify highly recommended free and inexpensive medical apps\n•	Use the basic navigation tools of the primary apps\n•	Get help loading the medical applications provided by the College of Medicine to its faculty/students/residents
URL:https://mecop.org/event/intro-to-mobile-medical-apps-selecting-and-loading-resources/
LOCATION:2619 Centennial Blvd Suite 101
CATEGORIES:AMA
END:VEVENT
BEGIN:VEVENT
DTSTART;TZID=America/Chicago:20260226T120000
DTEND;TZID=America/Chicago:20260226T130000
DTSTAMP:20260419T105931
CREATED:20260304T133009Z
LAST-MODIFIED:20260312T190809Z
UID:67575-1772107200-1772110800@mecop.org
SUMMARY:MUSM Clinical Faculty Development Series
DESCRIPTION:Define “addiction” and “alcoholism” from a medical diagnostic perspective\nExplain addiction pathophysiology as it pertains to addict behavior\, tolerance\, and withdrawal\nList at least 3 genetic or environmental factors that may influence addict behavior\nList at least 3 trends or threats to Georgia residents regarding drugs of abuse\nExplain the types of questions involved in the Diagnostic and Statistical Manual of Mental Disorders survey on alcohol and drug addiction behavior\nName at least 3 free treatment options and explain how to explore each one\nDefine the “12-step program” and explain how its application may facilitate sobriety\nList at least 3 actions you can take to broach the subject of alcoholism with your loved one\nList at least 3 additional treatment options\nList at least 3 actions you can take if your addict chooses not to pursue sobriety\nExplain how an insight into an addict’s pathophysiology helps loved ones provide compassionate support
URL:https://mecop.org/event/musm-clinical-faculty-development-series-57/
LOCATION:Virtual
CATEGORIES:AMA
END:VEVENT
BEGIN:VEVENT
DTSTART;TZID=America/Chicago:20260226T080000
DTEND;TZID=America/Chicago:20260226T170000
DTSTAMP:20260419T105931
CREATED:20260328T164703Z
LAST-MODIFIED:20260328T171944Z
UID:67950-1772092800-1772125200@mecop.org
SUMMARY:PEEP Risk Adjustment and Managing the Summertime Blues Behavioral Health Part 1
DESCRIPTION:See content.
URL:https://mecop.org/event/peep-risk-adjustment-and-managing-the-summertime-blues-behavioral-health-part-1-4/
LOCATION:Internet Enduring Material
CATEGORIES:AMA
END:VEVENT
BEGIN:VEVENT
DTSTART;TZID=America/Chicago:20260226T080000
DTEND;TZID=America/Chicago:20260226T170000
DTSTAMP:20260419T105931
CREATED:20260328T164356Z
LAST-MODIFIED:20260328T164404Z
UID:67948-1772092800-1772125200@mecop.org
SUMMARY:PEEP Risk Adjustment and Back to the Future Year-End Review
DESCRIPTION:See content.
URL:https://mecop.org/event/peep-risk-adjustment-and-back-to-the-future-year-end-review-2/
LOCATION:Internet Enduring Material
CATEGORIES:AMA
END:VEVENT
BEGIN:VEVENT
DTSTART;TZID=America/Chicago:20260226T080000
DTEND;TZID=America/Chicago:20260226T170000
DTSTAMP:20260419T105931
CREATED:20260328T164132Z
LAST-MODIFIED:20260328T171829Z
UID:67946-1772092800-1772125200@mecop.org
SUMMARY:PEEP Risk Adjustment and Diners\, Drive-Ins and Dives for Your GI
DESCRIPTION:See content.
URL:https://mecop.org/event/peep-risk-adjustment-and-diners-drive-ins-and-dives-for-your-gi-6/
LOCATION:Internet Enduring Material
CATEGORIES:AMA
END:VEVENT
END:VCALENDAR