BEGIN:VCALENDAR
VERSION:2.0
PRODID:-//Mecop - ECPv6.5.1.5//NONSGML v1.0//EN
CALSCALE:GREGORIAN
METHOD:PUBLISH
X-WR-CALNAME:Mecop
X-ORIGINAL-URL:https://mecop.org
X-WR-CALDESC:Events for Mecop
REFRESH-INTERVAL;VALUE=DURATION:PT1H
X-Robots-Tag:noindex
X-PUBLISHED-TTL:PT1H
BEGIN:VTIMEZONE
TZID:America/Chicago
BEGIN:DAYLIGHT
TZOFFSETFROM:-0600
TZOFFSETTO:-0500
TZNAME:CDT
DTSTART:20250309T080000
END:DAYLIGHT
BEGIN:STANDARD
TZOFFSETFROM:-0500
TZOFFSETTO:-0600
TZNAME:CST
DTSTART:20251102T070000
END:STANDARD
TZID:America/Los_Angeles
BEGIN:DAYLIGHT
TZOFFSETFROM:-0800
TZOFFSETTO:-0700
TZNAME:PDT
DTSTART:20250309T100000
END:DAYLIGHT
BEGIN:STANDARD
TZOFFSETFROM:-0700
TZOFFSETTO:-0800
TZNAME:PST
DTSTART:20251102T090000
END:STANDARD
END:VTIMEZONE
BEGIN:VEVENT
DTSTART;TZID=America/Chicago:20251114T080000
DTEND;TZID=America/Chicago:20251114T170000
DTSTAMP:20260422T143614
CREATED:20251110T210602Z
LAST-MODIFIED:20260331T155206Z
UID:65399-1763107200-1763139600@mecop.org
SUMMARY:FCOM 2025: Treatment Updates in Otology - Tinnitus & Gene Therapy
DESCRIPTION:Tinnitus affects more than 1 billion people on this planet. The primary association is sensorineural hearing loss from noise\, aging medications and more.  Tinnitus is a symptom and while there are no known cures there are many options to help our patients.  This session will update the attendee on Tinnitus and its management.  \nDescribe the underlying mechanisms and common causes of tinnitus associated with sensorineural hearing loss.\nDiscuss current evidence-based approaches and emerging therapies for the management of tinnitus.\nEvaluate recent advances in gene therapy research and their potential implications for future tinnitus treatment.
URL:https://mecop.org/event/fcom-2025-treatment-updates-in-otology-tinnitus-gene-therapy/
LOCATION:Naples\, FL
CATEGORIES:AMA
END:VEVENT
BEGIN:VEVENT
DTSTART;TZID=America/Chicago:20251114T080000
DTEND;TZID=America/Chicago:20251114T170000
DTSTAMP:20260422T143614
CREATED:20251110T210202Z
LAST-MODIFIED:20260331T155120Z
UID:65397-1763107200-1763139600@mecop.org
SUMMARY:FCOM 2025: Minimally Invasive Approach to the Middle Ear
DESCRIPTION:A panel discussion regarding the emerging refinements and issues surrounding endoscopic ear surgery. \nAt the conclusion of this course\, participants will\n1.  Gain insight into the instrumentation required to perform endoscopic ear surgery\,\n2.  Develop an appreciation for which cases are suitable for endocsopic approaches and which cases are better treated with open ear surgery\,\n3.  Appreciate new areas of innovation as well as challenges for these emerging techniques
URL:https://mecop.org/event/fcom-2025-minimally-invasive-approach-to-the-middle-ear/
LOCATION:Naples\, FL
CATEGORIES:AMA
END:VEVENT
BEGIN:VEVENT
DTSTART;TZID=America/Chicago:20251114T080000
DTEND;TZID=America/Chicago:20251114T170000
DTSTAMP:20260422T143614
CREATED:20251110T210033Z
LAST-MODIFIED:20260331T155046Z
UID:65395-1763107200-1763139600@mecop.org
SUMMARY:FCOM 2025: Endoscopic Ear Surgery
DESCRIPTION:Endoscopic ear surgery (EES) has matured from a niche approach to a core technique at some centers to manage routine and complex tympanic membrane perforations\, cholesteatoma\, ossicular chain pathology\, and select lateral skull base conditions. The following presentation will synthesize current evidence and technical refinements that improve visualization\, reduce morbidity\, and expand candidacy for minimally invasive transcanal\, transmastoid\, and transcranial procedures. The rationale for endoscopic “heads up” otologic surgery will be discussed with a review of case-based pearls for challenging anatomy (e.g.\, sinus tympani\, anterior epitympanum)\, outcomes\, and complication. Participants will leave with practical algorithms for patient selection\, structured approaches to cholesteatoma clearance\, and strategies that enhance safety and patient-reported outcomes. Device and instrument options will be discussed comparatively using only published data. \nBy the end of this activity\, participants will be able to: \nDifferentiate indications and contraindications for endoscopic vs. microscopic ear surgery across common pathologies (perforation\, cholesteatoma\, ossicular chain reconstruction\, lateral skull base tumors\, superior canal dehiscence). \nApply step-wise techniques for safe transcanal endoscopic access\, hemostasis\, and instrument triaging in one-handed surgery. \nIdentify anatomic “blind spots” (e.g.\, sinus tympani\, facial recess\, anterior epitympanum) and implement visualization strategies to minimize residual disease. \nCompare short- and long-term outcomes (hearing results\, residual/recurrence\, complications) for EES relative to conventional approaches and integrate these data into procedure selection. \nConstruct a training and adoption plan—simulation\, video review\, instrumentation sets\, and OR workflow—that reduces the learning curve and improves team performance.
URL:https://mecop.org/event/fcom-2025-endoscopic-ear-surgery/
LOCATION:Naples\, FL
CATEGORIES:AMA
END:VEVENT
BEGIN:VEVENT
DTSTART;TZID=America/Chicago:20251114T080000
DTEND;TZID=America/Chicago:20251114T170000
DTSTAMP:20260422T143614
CREATED:20251110T205738Z
LAST-MODIFIED:20260113T201119Z
UID:65393-1763107200-1763139600@mecop.org
SUMMARY:FCOM 2025: Trending Questions in Allergy
DESCRIPTION:This panel discussion will focus on questions asked at otolaryngic allergy meetings regarding patient selection for immunotherapy\, contraindications to testing or treatment\, allergen selection\, duration of each phase of immunotherapy\, and the location of allergy immunotherapy treatment. Experts in the field will discuss their practice experience and what the literature has to say about these issues. \nParticipants would be able to do the following: \n1. Understand the rationale for deciding whether or not to test and treat patients taking beta blockers. If testing\, should the testing be limited?\n2. Determine if epinephrine autoinjectors should be required for patients on injection immunotherapy.\n3. Decide if home or other out-of-office site of injection immunotherapy is appropriate.\n4. Understand how to select allergens for testing and treatment in their geographic area.\n5. Create treatment plans for patients who may reside out of state for part of the year.
URL:https://mecop.org/event/fcom-2025-trending-questions-in-allergy/
LOCATION:Naples\, FL
CATEGORIES:AMA
END:VEVENT
BEGIN:VEVENT
DTSTART;TZID=America/Chicago:20251114T080000
DTEND;TZID=America/Chicago:20251114T170000
DTSTAMP:20260422T143614
CREATED:20251110T205614Z
LAST-MODIFIED:20260113T201050Z
UID:65391-1763107200-1763139600@mecop.org
SUMMARY:FCOM 2025: Diagnostic Skin Test for Evaluating Penicillin Allergy
DESCRIPTION:This session will review the role of diagnostic skin testing in evaluating patients with suspected penicillin allergy. Attendees will learn about current testing protocols\, interpretation of results\, and implications for patient management and antibiotic stewardship. \nParticipants will be able to:\n1. Describe the clinical importance of accurately identifying penicillin allergy through diagnostic skin testing.\n2. Outline the steps and safety considerations involved in performing penicillin skin testing.\n3. Interpret skin test results to guide clinical decision-making and optimize antibiotic selection.
URL:https://mecop.org/event/fcom-2025-diagnostic-skin-test-for-evaluating-penicillin-allergy/
LOCATION:Naples\, FL
CATEGORIES:AMA
END:VEVENT
BEGIN:VEVENT
DTSTART;TZID=America/Chicago:20251114T080000
DTEND;TZID=America/Chicago:20251114T170000
DTSTAMP:20260422T143614
CREATED:20251110T205456Z
LAST-MODIFIED:20260113T201022Z
UID:65389-1763107200-1763139600@mecop.org
SUMMARY:FCOM 2025: Oral Mucosal Immunotherapy for Allergic Rhinitis
DESCRIPTION:Oral mucosal immunotherapy [OMIT] represents an emerging approach in the management of allergic rhinitis\, designed to enhance patient adherence and broaden therapeutic options beyond traditional subcutaneous and sublingual immunotherapy. This session will review the underlying immunologic mechanisms\, current clinical evidence\, and practical considerations for integrating oral mucosal immunotherapy into clinical practice. Participants will gain insight into how this novel route of administration compares with existing therapies and its potential role in shaping the future of allergy care. \n1. Describe the immunologic principles and mechanisms of action underlying oral mucosal immunotherapy.\n2. Discuss current clinical data and emerging evidence regarding its efficacy and safety in allergic rhinitis.\n3. Discuss practical considerations for patient selection\, administration\, and integration into allergy management.
URL:https://mecop.org/event/fcom-2025-oral-mucosal-immunotherapy-for-allergic-rhinitis/
LOCATION:Naples\, FL
CATEGORIES:AMA
END:VEVENT
BEGIN:VEVENT
DTSTART;TZID=America/Chicago:20251114T080000
DTEND;TZID=America/Chicago:20251114T170000
DTSTAMP:20260422T143614
CREATED:20251110T205314Z
LAST-MODIFIED:20260331T154936Z
UID:65387-1763107200-1763139600@mecop.org
SUMMARY:FCOM 2025: Legal Review and Guidance on the Importance of Clinical Documentation\, Informed Consent\, & How to Handle Subpoenas\, Part 1
DESCRIPTION:Join us for a comprehensive presentation on Medical Malpractice Principles and Litigation Preparedness\, designed for healthcare professionals\, executives\, and providers. This session will cover essential topics including proper documentation practices\, informed consent pitfalls\, responding to subpoenas\, deposition preparation\, and effective communication with malpractice carriers and defense counsel. Attendees will gain practical strategies to mitigate legal risk\, protect patient safety\, and navigate the complex legal landscape with confidence. Whether you’re a physician\, mid-level provider or practice manager\, this training is essential for minimizing liability in today’s healthcare environment. \nBy the end of this session\, participants will be able to:\n1. Recognize how clinical documentation can support or hinder defense in legal cases.\n2. Describe the appropriate steps to take when presented with a notice of intent to litigate.\n3. Analyze defense attorney insights to identify common pitfalls and strategies for mitigating risk.\n4. Apply practical legal and documentation pearls to strengthen compliance and reduce liability in daily practice.
URL:https://mecop.org/event/fcom-2025-legal-review-and-guidance-on-the-importance-of-depositions-notice-of-intent-to-litigate-and-pearls-from-a-defense-attorney-part-ii/
LOCATION:Naples\, FL
CATEGORIES:AMA
END:VEVENT
BEGIN:VEVENT
DTSTART;TZID=America/Chicago:20251114T080000
DTEND;TZID=America/Chicago:20251114T170000
DTSTAMP:20260422T143614
CREATED:20251110T205134Z
LAST-MODIFIED:20251211T163620Z
UID:65385-1763107200-1763139600@mecop.org
SUMMARY:FCOM 2025: Bringing Rhinology In-House - The Office-Based Surgery Experience
DESCRIPTION:This session will explore how practices can successfully integrate rhinology and office-based sinus procedures into their clinical setting. Faculty will discuss patient selection\, workflow optimization\, equipment considerations\, and best practices for achieving safe and effective outcomes. \nParticipants will be able to:\n1. Explain the key factors involved in establishing office-based rhinologic procedures.\n2. Discuss criteria for appropriate patient selection and procedural planning.\n3. Evaluate strategies to optimize workflow\, safety\, and patient experience in the office-based surgical environment.
URL:https://mecop.org/event/fcom-2025-bringing-rhinology-in-house-the-office-based-surgery-experience/
LOCATION:Naples\, FL
CATEGORIES:AMA
END:VEVENT
BEGIN:VEVENT
DTSTART;TZID=America/Chicago:20251114T080000
DTEND;TZID=America/Chicago:20251114T170000
DTSTAMP:20260422T143614
CREATED:20251110T204951Z
LAST-MODIFIED:20260113T200739Z
UID:65383-1763107200-1763139600@mecop.org
SUMMARY:FCOM 2025: Office-Based Surgery
DESCRIPTION:This will be a presentation of the history of office-based surgery\, reasons to put an OR in one’s office\, an overview of differing ways to put an OR in the office\, and some of the details with regard to the state of Florida if one is to proceed.  This will require a description of the levels of surgery as defined by the state of Florida\, the four levels of anesthesia\, and the process of registering with the state of Florida. \n1.  Describe the differences between an free standing ambulatory center and an office surgical center\n2. List reasons why an office surgical suite can benefit both the surgeon and the patient\n3. List credentialling methods to putting an OR in the office\n4. Requirements by the state of Florida to provide a safe and legal OR in one’s office
URL:https://mecop.org/event/fcom-2025-office-based-surgery/
LOCATION:Naples\, FL
CATEGORIES:AMA
END:VEVENT
BEGIN:VEVENT
DTSTART;TZID=America/Chicago:20251114T080000
DTEND;TZID=America/Chicago:20251114T170000
DTSTAMP:20260422T143614
CREATED:20251110T204756Z
LAST-MODIFIED:20260331T155011Z
UID:65380-1763107200-1763139600@mecop.org
SUMMARY:FCOM 2025: Legal Review and Guidance on the Importance of Depositions\, Notice of Intent to Litigate\, and Pearls from a Defense Attorney\, Part II
DESCRIPTION:This session is designed for all providers and staff involved in patient care and practice operations who want to strengthen their understanding of legal and compliance essentials in clinical practice. Led by experts in risk\, compliance\, and law\, the session will review the importance of accurate clinical documentation\, best practices in informed consent\, and practical steps for handling subpoenas. Attendees will gain awareness of key legal requirements and walk away with actionable guidance to reduce risk and protect both patients and providers. \nBy the end of this session\, participants will be able to:\n1. Explain the legal and clinical importance of accurate and complete documentation.\n2. Identify best practices for ensuring informed consent is thorough and compliant.\n3. Describe appropriate steps to take when presented with a subpoena in the clinical setting.\n4. Apply risk-reduction strategies to everyday practice to enhance compliance and patient safety.
URL:https://mecop.org/event/fcom-2025-legal-review-and-guidance-on-the-importance-of-clinical-documentation-informed-consent-how-to-handle-subpoenas-part-1/
LOCATION:Naples\, FL
CATEGORIES:AMA
END:VEVENT
BEGIN:VEVENT
DTSTART;TZID=America/Los_Angeles:20251113T180000
DTEND;TZID=America/Los_Angeles:20251113T210000
DTSTAMP:20260422T143614
CREATED:20251001T200329Z
LAST-MODIFIED:20251212T135359Z
UID:64755-1763056800-1763067600@mecop.org
SUMMARY:Pediatric Associates PACE Meeting
DESCRIPTION:TBA
URL:https://mecop.org/event/pediatric-associates-pace-meeting-58/
LOCATION:Virtual
CATEGORIES:AMA
END:VEVENT
BEGIN:VEVENT
DTSTART;TZID=America/Chicago:20251113T080000
DTEND;TZID=America/Chicago:20251113T170000
DTSTAMP:20260422T143614
CREATED:20251124T140829Z
LAST-MODIFIED:20251124T141130Z
UID:65880-1763020800-1763053200@mecop.org
SUMMARY:FSU Letters of Recommendation Module
DESCRIPTION:Unavailable
URL:https://mecop.org/event/fsu-letters-of-recommendation-modules/
LOCATION:Enduring Activity
CATEGORIES:AMA
END:VEVENT
BEGIN:VEVENT
DTSTART;TZID=America/Chicago:20251113T080000
DTEND;TZID=America/Chicago:20251113T170000
DTSTAMP:20260422T143614
CREATED:20251121T152328Z
LAST-MODIFIED:20251121T152709Z
UID:65757-1763020800-1763053200@mecop.org
SUMMARY:FSU Gen Z is Your Next Wave of Learners Module
DESCRIPTION:Unavailable
URL:https://mecop.org/event/fsu-gen-z-is-your-next-wave-of-learners-module-2/
LOCATION:Enduring Activity
CATEGORIES:AMA
END:VEVENT
BEGIN:VEVENT
DTSTART;TZID=America/Chicago:20251113T080000
DTEND;TZID=America/Chicago:20251113T170000
DTSTAMP:20260422T143614
CREATED:20251121T130817Z
LAST-MODIFIED:20251121T130817Z
UID:65752-1763020800-1763053200@mecop.org
SUMMARY:FSU Integrating Learners into Your Busy Practice Module
DESCRIPTION:Unavailable
URL:https://mecop.org/event/fsu-integrating-learners-into-your-busy-practice-module-2/
LOCATION:Enduring Activity
CATEGORIES:AMA
END:VEVENT
BEGIN:VEVENT
DTSTART;TZID=America/Chicago:20251113T080000
DTEND;TZID=America/Chicago:20251113T170000
DTSTAMP:20260422T143614
CREATED:20251120T130801Z
LAST-MODIFIED:20251120T130801Z
UID:65735-1763020800-1763053200@mecop.org
SUMMARY:Pediatric Associates PACE Meeting
DESCRIPTION:
URL:https://mecop.org/event/pediatric-associates-pace-meeting-61/
LOCATION:Virtual
CATEGORIES:AMA
END:VEVENT
BEGIN:VEVENT
DTSTART;TZID=America/Chicago:20251113T080000
DTEND;TZID=America/Chicago:20251113T170000
DTSTAMP:20260422T143614
CREATED:20251115T143910Z
LAST-MODIFIED:20251117T191929Z
UID:65623-1763020800-1763053200@mecop.org
SUMMARY:Risk Adjustment and Bones-Musculoskeletal Inflammatory Conditions
DESCRIPTION:Gain understanding of risk adjustment methodology and its role in Value Based Care models.\nReview specific official ICD-10-CM coding guidelines and how they are applied to diagnosis coding and reporting.\nIdentify elements of the medical record that help support the validation of reported conditions.\nIdentify documentation deficiencies for specific conditions.
URL:https://mecop.org/event/risk-adjustment-and-bones-musculoskeletal-inflammatory-conditions-2/
LOCATION:Internet Live Webcast
CATEGORIES:AMA
END:VEVENT
BEGIN:VEVENT
DTSTART;TZID=America/Chicago:20251112T123000
DTEND;TZID=America/Chicago:20251112T133000
DTSTAMP:20260422T143614
CREATED:20250116T180834Z
LAST-MODIFIED:20251129T221504Z
UID:60651-1762950600-1762954200@mecop.org
SUMMARY:MUSM Pediatric Alliance Webinar Series
DESCRIPTION:1. What is a seizure?\n2. What is epilepsy?\n3. Seizures versus epilepsy\n4. Risk factors for epilepsy\n5. Seizure first aid\n6. Evaluation of seizures and epilepsy
URL:https://mecop.org/event/musm-pediatric-alliance-webinar-series-10/
LOCATION:Virtual
CATEGORIES:AMA
END:VEVENT
BEGIN:VEVENT
DTSTART;TZID=America/Chicago:20251112T080000
DTEND;TZID=America/Chicago:20251112T170000
DTSTAMP:20260422T143614
CREATED:20251215T101615Z
LAST-MODIFIED:20251215T101615Z
UID:66338-1762934400-1762966800@mecop.org
SUMMARY:General Adult Tumor Board 2025
DESCRIPTION:Unavailable
URL:https://mecop.org/event/general-adult-tumor-board-2025-40/
LOCATION:Ascension Sacred Heart Hospital\, FL
CATEGORIES:AMA
END:VEVENT
BEGIN:VEVENT
DTSTART;TZID=America/Chicago:20251112T080000
DTEND;TZID=America/Chicago:20251112T170000
DTSTAMP:20260422T143614
CREATED:20251123T144439Z
LAST-MODIFIED:20251217T122027Z
UID:65864-1762934400-1762966800@mecop.org
SUMMARY:VIP Care Performance Forum
DESCRIPTION:Unavailable
URL:https://mecop.org/event/vip-care-performance-forum-10/
LOCATION:Virtual
CATEGORIES:AMA
END:VEVENT
BEGIN:VEVENT
DTSTART;TZID=America/Chicago:20251112T080000
DTEND;TZID=America/Chicago:20251112T170000
DTSTAMP:20260422T143614
CREATED:20251115T151027Z
LAST-MODIFIED:20251115T153309Z
UID:65630-1762934400-1762966800@mecop.org
SUMMARY:Andalusia Health Tumor Board
DESCRIPTION:
URL:https://mecop.org/event/andalusia-health-tumor-board-4/
LOCATION:Virtual
CATEGORIES:AMA
END:VEVENT
BEGIN:VEVENT
DTSTART;TZID=America/Chicago:20251112T080000
DTEND;TZID=America/Chicago:20251112T170000
DTSTAMP:20260422T143614
CREATED:20251112T232651Z
LAST-MODIFIED:20251115T134411Z
UID:65472-1762934400-1762966800@mecop.org
SUMMARY:Risk Adjustment and Bones-Musculoskeletal Inflammatory Conditions
DESCRIPTION:Gain understanding of risk adjustment methodology and its role in Value Based Care models.\nReview specific official ICD-10-CM coding guidelines and how they are applied to diagnosis coding and reporting.\nIdentify elements of the medical record that help support the validation of reported conditions.\nIdentify documentation deficiencies for specific conditions.
URL:https://mecop.org/event/risk-adjustment-and-bones-musculoskeletal-inflammatory-conditions/
LOCATION:Internet Live Webcast
CATEGORIES:AMA
END:VEVENT
BEGIN:VEVENT
DTSTART;TZID=America/Chicago:20251111T120000
DTEND;TZID=America/Chicago:20251111T130000
DTSTAMP:20260422T143614
CREATED:20251110T121859Z
LAST-MODIFIED:20251202T142337Z
UID:65359-1762862400-1762866000@mecop.org
SUMMARY:MUSM Clinical Faculty Development Series
DESCRIPTION:Explain the Global Impact of Vaccines \nDescribe how vaccination programs have reduced morbidity and mortality worldwide. \nCite evidence supporting the long-term benefits of immunization efforts. \nUnderstand Vaccine Safety and Surveillance \nOutline the phases of vaccine development and post-licensure safety monitoring. \nIdentify the roles and limitations of VAERS and the Vaccine Safety Datalink (VSD). \nDifferentiate between correlation and causation in vaccine safety data. \nRecognize and Refute Vaccine Misinformation \nSummarize common myths surrounding vaccines and their scientific rebuttals. \nDiscuss how misinformation spreads via social media and public figures. \nEvaluate reliable sources for accurate vaccine information. \nAddress Vaccine Hesitancy in Clinical Practice \nDefine vaccine hesitancy and its impact on public health. \nApply motivational interviewing and presumptive communication techniques when discussing vaccines with caregivers. \nMaintain therapeutic relationships with families who decline or delay vaccination. \nPrepare for Clinical Challenges in a Post-Vaccine World \nImplement screening\, isolation\, and infection control procedures for vaccine-preventable diseases. \nRecognize the clinical presentations and isolation durations for measles\, varicella\, mumps\, and pertussis. \nDevelop protocols for staff immunization and clinic readiness to manage potential outbreaks. \nPromote Informed\, Trust-Based Vaccine Communication \nFrame vaccine conversations to emphasize shared goals for child safety and health. \nIdentify opportunities to rebuild trust through evidence-based dialogue and empathy.
URL:https://mecop.org/event/musm-clinical-faculty-development-series-51/
LOCATION:Virtual
CATEGORIES:AMA
END:VEVENT
BEGIN:VEVENT
DTSTART;TZID=America/Chicago:20251111T080000
DTEND;TZID=America/Chicago:20251111T170000
DTSTAMP:20260422T143614
CREATED:20251215T132040Z
LAST-MODIFIED:20251215T132150Z
UID:66363-1762848000-1762880400@mecop.org
SUMMARY:Diagnosis and Management of Hemodialysis Access Complications
DESCRIPTION:Unavailable
URL:https://mecop.org/event/diagnosis-and-management-of-hemodialysis-access-complications/
LOCATION:Journal based CME activity
CATEGORIES:AMA
END:VEVENT
BEGIN:VEVENT
DTSTART;TZID=America/Chicago:20251111T080000
DTEND;TZID=America/Chicago:20251111T170000
DTSTAMP:20260422T143614
CREATED:20251215T121730Z
LAST-MODIFIED:20251215T121845Z
UID:66342-1762848000-1762880400@mecop.org
SUMMARY:Emerging Artificial Intelligence Technologies for Risk Assessment and Management in Acute Myeloid Leukemia
DESCRIPTION:Unavailable
URL:https://mecop.org/event/emerging-artificial-intelligence-technologies-for-risk-assessment-and-management-in-acute-myeloid-leukemia/
LOCATION:Journal based CME activity
CATEGORIES:AMA
END:VEVENT
BEGIN:VEVENT
DTSTART;TZID=America/Chicago:20251110T080000
DTEND;TZID=America/Chicago:20251110T170000
DTSTAMP:20260422T143614
CREATED:20260105T231448Z
LAST-MODIFIED:20260105T231448Z
UID:66648-1762761600-1762794000@mecop.org
SUMMARY:Florida Prescribing Controlled Substances Course
DESCRIPTION:Unavailable
URL:https://mecop.org/event/florida-prescribing-controlled-substances-course-3/
LOCATION:Enduring Activity
CATEGORIES:AMA,Prescribing of Controlled Substances
END:VEVENT
BEGIN:VEVENT
DTSTART;TZID=America/Chicago:20251109T080000
DTEND;TZID=America/Chicago:20251109T170000
DTSTAMP:20260422T143614
CREATED:20251215T133232Z
LAST-MODIFIED:20251215T133355Z
UID:66369-1762675200-1762707600@mecop.org
SUMMARY:Intramedullary Hemorrhage Causing Quadriplegia in the Setting of a Type B Aortic Dissection
DESCRIPTION:Unavailable
URL:https://mecop.org/event/intramedullary-hemorrhage-causing-quadriplegia-in-the-setting-of-a-type-b-aortic-dissection/
LOCATION:Journal based CME activity
CATEGORIES:AMA
END:VEVENT
BEGIN:VEVENT
DTSTART;TZID=America/Chicago:20251109T080000
DTEND;TZID=America/Chicago:20251109T170000
DTSTAMP:20260422T143614
CREATED:20251215T132535Z
LAST-MODIFIED:20251215T132713Z
UID:66366-1762675200-1762707600@mecop.org
SUMMARY:Surrogate Dating of Humeral and Femoral Fractures in Infants
DESCRIPTION:Unavailable
URL:https://mecop.org/event/surrogate-dating-of-humeral-and-femoral-fractures-in-infants/
LOCATION:Enduring Activity
CATEGORIES:AMA
END:VEVENT
BEGIN:VEVENT
DTSTART;TZID=America/Chicago:20251109T080000
DTEND;TZID=America/Chicago:20251109T170000
DTSTAMP:20260422T143614
CREATED:20251215T130927Z
LAST-MODIFIED:20251215T131041Z
UID:66357-1762675200-1762707600@mecop.org
SUMMARY:Contrast Media in Children
DESCRIPTION:Unavailable
URL:https://mecop.org/event/contrast-media-in-children/
LOCATION:Enduring Activity
CATEGORIES:AMA
END:VEVENT
BEGIN:VEVENT
DTSTART;TZID=America/Chicago:20251109T080000
DTEND;TZID=America/Chicago:20251109T170000
DTSTAMP:20260422T143614
CREATED:20251215T130258Z
LAST-MODIFIED:20251215T130444Z
UID:66354-1762675200-1762707600@mecop.org
SUMMARY:Classification and Risk Assessment of Chronic Kidney Disease
DESCRIPTION:Unavailable
URL:https://mecop.org/event/classification-and-risk-assessment-of-chronic-kidney-disease/
LOCATION:Journal based CME activity
CATEGORIES:AMA
END:VEVENT
BEGIN:VEVENT
DTSTART;TZID=America/Chicago:20251109T080000
DTEND;TZID=America/Chicago:20251109T170000
DTSTAMP:20260422T143614
CREATED:20251215T125431Z
LAST-MODIFIED:20251215T125612Z
UID:66351-1762675200-1762707600@mecop.org
SUMMARY:A Guide to CEM-Guided Biopsy
DESCRIPTION:Unavailable
URL:https://mecop.org/event/a-guide-to-cem-guided-biopsy/
LOCATION:Enduring Activity
CATEGORIES:AMA
END:VEVENT
END:VCALENDAR