BEGIN:VCALENDAR
VERSION:2.0
PRODID:-//Mecop - ECPv6.5.1.5//NONSGML v1.0//EN
CALSCALE:GREGORIAN
METHOD:PUBLISH
X-WR-CALNAME:Mecop
X-ORIGINAL-URL:https://mecop.org
X-WR-CALDESC:Events for Mecop
REFRESH-INTERVAL;VALUE=DURATION:PT1H
X-Robots-Tag:noindex
X-PUBLISHED-TTL:PT1H
BEGIN:VTIMEZONE
TZID:America/Chicago
BEGIN:DAYLIGHT
TZOFFSETFROM:-0600
TZOFFSETTO:-0500
TZNAME:CDT
DTSTART:20250309T080000
END:DAYLIGHT
BEGIN:STANDARD
TZOFFSETFROM:-0500
TZOFFSETTO:-0600
TZNAME:CST
DTSTART:20251102T070000
END:STANDARD
END:VTIMEZONE
BEGIN:VEVENT
DTSTART;TZID=America/Chicago:20251021T070000
DTEND;TZID=America/Chicago:20251021T080000
DTSTAMP:20260422T161656
CREATED:20251011T213902Z
LAST-MODIFIED:20251022T130928Z
UID:64905-1761030000-1761033600@mecop.org
SUMMARY:Baldwin Health Tumor Board
DESCRIPTION:1. Review patient cases and all necessary findings (pathology\, radiology\, surgery\, etc.) and discuss key findings to determine course of treatment.\n2. Discuss implications amongst multidisciplinary team members\, and review best practices\, current\nevidence-based findings\, etc.\n3. Assign treatment protocols based on consensus of the multidisciplinary team.
URL:https://mecop.org/event/baldwin-health-tumor-board-10/
LOCATION:Baldwin Health
CATEGORIES:AMA
END:VEVENT
BEGIN:VEVENT
DTSTART;TZID=America/Chicago:20251019T080000
DTEND;TZID=America/Chicago:20251019T170000
DTSTAMP:20260422T161656
CREATED:20251021T143626Z
LAST-MODIFIED:20251021T144448Z
UID:65068-1760860800-1760893200@mecop.org
SUMMARY:Signature Lip Filler Advanced Training
DESCRIPTION:Thoroughly outline lip anatomy\, shape\, tissue\, and treatment options\nEffectively assess patient lips\, select product and place product\nAddress complications and complementary treatments or combination therapies
URL:https://mecop.org/event/signature-lip-filler-advanced-training-with-jaime-2/
LOCATION:Watt Plastic Surgery
CATEGORIES:AMA
END:VEVENT
BEGIN:VEVENT
DTSTART;TZID=America/Chicago:20251018T080000
DTEND;TZID=America/Chicago:20251018T170000
DTSTAMP:20260422T161656
CREATED:20251021T143805Z
LAST-MODIFIED:20251021T144404Z
UID:65070-1760774400-1760806800@mecop.org
SUMMARY:Neurotoxin Training
DESCRIPTION:Discuss the FDA-approved and off-label uses of neurotoxin. \nOutline proper product preparation and placement. \nDiscuss facial anatomy\, contraindications and patient consult. \nDemonstrate proper preparation\, patient consultation\, technique and injection of neurotoxin.
URL:https://mecop.org/event/neurotoxin-training-with-jaime-3/
LOCATION:Watt Plastic Surgery
CATEGORIES:AMA
END:VEVENT
BEGIN:VEVENT
DTSTART;TZID=America/Chicago:20251018T080000
DTEND;TZID=America/Chicago:20251018T170000
DTSTAMP:20260422T161656
CREATED:20251019T205751Z
LAST-MODIFIED:20251019T205758Z
UID:65028-1760774400-1760806800@mecop.org
SUMMARY:ECMS Super Saturday: Prescribing Controlled Substances and Medical Error Prevention
DESCRIPTION:
URL:https://mecop.org/event/ecms-super-saturday-prescribing-controlled-substances-and-medical-error-prevention/
LOCATION:FSU College of Medicine\, Pensacola Regional Campus\, 11000 University Pkwy Bldg 234 Conference Room\, Pensacola\, FL\, 32514\, United States
CATEGORIES:AMA,MedErrors,Prescribing of Controlled Substances
END:VEVENT
BEGIN:VEVENT
DTSTART;TZID=America/Chicago:20251017T080000
DTEND;TZID=America/Chicago:20251017T170000
DTSTAMP:20260422T161656
CREATED:20251130T234412Z
LAST-MODIFIED:20251130T234412Z
UID:65976-1760688000-1760720400@mecop.org
SUMMARY:2025 Faculty Teaching Credits Gynecology Clerkship
DESCRIPTION:Unavailable
URL:https://mecop.org/event/2025-faculty-teaching-credits-gynecology-clerkship/
LOCATION:Sarasota Regional Campus\, 5560 Bee Ridge Rd\, Sarasota\, FL\, 34233\, United States
CATEGORIES:AMA
END:VEVENT
BEGIN:VEVENT
DTSTART;TZID=America/Chicago:20251016T080000
DTEND;TZID=America/Chicago:20251016T170000
DTSTAMP:20260422T161656
CREATED:20251021T145744Z
LAST-MODIFIED:20251021T145749Z
UID:65074-1760601600-1760634000@mecop.org
SUMMARY:KAMAP Bioidentical Hormone Replacement Therapy
DESCRIPTION:Review foundations of BHRT \nDetermine indications for Pellet Therapy \nIdentify signs of Hormonal Decline \nUnderstand the benefits of BHRT within your Practice. \nIdentify other options of HRT other then pellet therapy. \nReview of specifics of BHRT pellet therapy in Males & Females. \nAnticipate the risk of side effects\, adverse events\, and complications of administration of BHRT pellets.
URL:https://mecop.org/event/kamap-bioidentical-hormone-replacement-therapy-3/
LOCATION:Lexington\, KY
CATEGORIES:AMA
END:VEVENT
BEGIN:VEVENT
DTSTART;TZID=America/Chicago:20251016T080000
DTEND;TZID=America/Chicago:20251016T170000
DTSTAMP:20260422T161656
CREATED:20251017T143028Z
LAST-MODIFIED:20251019T220333Z
UID:65000-1760601600-1760634000@mecop.org
SUMMARY:Risk Adjustment and Stranger Things-Coding Updates and Vascular Disease
DESCRIPTION:Gain understanding of risk adjustment methodology and its role in Value Based Care models.\nReview specific official ICD-10-CM coding guidelines and how they are applied to diagnosis coding and reporting.\nIdentify elements of the medical record that help support the validation of reported conditions.\nIdentify documentation deficiencies for specific conditions.
URL:https://mecop.org/event/risk-adjustment-and-stranger-things-coding-updates-and-vascular-disease-4/
LOCATION:Internet Live Webcast
CATEGORIES:AMA
END:VEVENT
BEGIN:VEVENT
DTSTART;TZID=America/Chicago:20251015T080000
DTEND;TZID=America/Chicago:20251015T170000
DTSTAMP:20260422T161656
CREATED:20251114T142112Z
LAST-MODIFIED:20251114T142333Z
UID:65573-1760515200-1760547600@mecop.org
SUMMARY:PEEP Risk Adjustment and The Force Awakens Behavioral Health Part 2
DESCRIPTION:See content.
URL:https://mecop.org/event/peep-risk-adjustment-and-the-force-awakens-behavioral-health-part-2-2/
LOCATION:Internet Enduring Material
CATEGORIES:AMA
END:VEVENT
BEGIN:VEVENT
DTSTART;TZID=America/Chicago:20251015T080000
DTEND;TZID=America/Chicago:20251015T170000
DTSTAMP:20260422T161656
CREATED:20251016T191905Z
LAST-MODIFIED:20251016T192314Z
UID:64985-1760515200-1760547600@mecop.org
SUMMARY:2025 Continuing Certification (CC) Program
DESCRIPTION:
URL:https://mecop.org/event/2025-continuing-certification-cc-program/
LOCATION:Enduring Material
CATEGORIES:AMA
END:VEVENT
BEGIN:VEVENT
DTSTART;TZID=America/Chicago:20251015T080000
DTEND;TZID=America/Chicago:20251015T170000
DTSTAMP:20260422T161656
CREATED:20251015T185856Z
LAST-MODIFIED:20251015T185856Z
UID:64971-1760515200-1760547600@mecop.org
SUMMARY:General Adult Tumor Board 2025
DESCRIPTION:Unavailable
URL:https://mecop.org/event/general-adult-tumor-board-2025-36/
LOCATION:Live Activity
CATEGORIES:AMA
END:VEVENT
BEGIN:VEVENT
DTSTART;TZID=America/Chicago:20251015T080000
DTEND;TZID=America/Chicago:20251015T170000
DTSTAMP:20260422T161656
CREATED:20251015T185333Z
LAST-MODIFIED:20251015T185333Z
UID:64969-1760515200-1760547600@mecop.org
SUMMARY:Ovarian Cancer:
DESCRIPTION:Unavailable
URL:https://mecop.org/event/ovarian-cancer/
LOCATION:Journal based CME activity
CATEGORIES:AMA
END:VEVENT
BEGIN:VEVENT
DTSTART;TZID=America/Chicago:20251014T120000
DTEND;TZID=America/Chicago:20251014T130000
DTSTAMP:20260422T161656
CREATED:20251010T114841Z
LAST-MODIFIED:20251019T212948Z
UID:64879-1760443200-1760446800@mecop.org
SUMMARY:MUSM Clinical Faculty Development Series
DESCRIPTION:1. To explain current cervical cancer and breast cancer screening guidelines\n2. to explain the basic evaluation of a breast mass from a primary care standpoint\n3. to explain common contraceptive methods that a primary care provider may use\n4. to explain management of common non-pregnancy medical issues that occur in pregnancy\n5. to explain common lab and physiology changes in pregnancy
URL:https://mecop.org/event/musm-clinical-faculty-development-series-49/
LOCATION:Virtual
CATEGORIES:AMA
END:VEVENT
BEGIN:VEVENT
DTSTART;TZID=America/Chicago:20251014T080000
DTEND;TZID=America/Chicago:20251014T170000
DTSTAMP:20260422T161656
CREATED:20251010T110552Z
LAST-MODIFIED:20260204T144117Z
UID:64876-1760428800-1760461200@mecop.org
SUMMARY:Summit Medical Grand Rounds: Low Value Care in Primary Care
DESCRIPTION:1. Educate providers and staff on the harms of continuing to prescribe and order testing that is no longer recommended.\n2. Help create new protocols at the sites to eliminate legacy workflows that constitute low value care.
URL:https://mecop.org/event/summit-medical-grand-rounds-low-value-care-in-primary-care/
LOCATION:Live
CATEGORIES:AMA
END:VEVENT
BEGIN:VEVENT
DTSTART;TZID=America/Chicago:20251013T080000
DTEND;TZID=America/Chicago:20251013T170000
DTSTAMP:20260422T161656
CREATED:20251014T165428Z
LAST-MODIFIED:20251014T165428Z
UID:64960-1760342400-1760374800@mecop.org
SUMMARY:Fetal Heart Monitoring (v2)
DESCRIPTION:Unavailable
URL:https://mecop.org/event/fetal-heart-monitoring-v2-8/
LOCATION:Enduring Activity
CATEGORIES:AMA
END:VEVENT
BEGIN:VEVENT
DTSTART;TZID=America/Chicago:20251012T080000
DTEND;TZID=America/Chicago:20251012T170000
DTSTAMP:20260422T161656
CREATED:20251020T191633Z
LAST-MODIFIED:20251020T191919Z
UID:65044-1760256000-1760288400@mecop.org
SUMMARY:Iatrogenic CSF-Venous Fistula
DESCRIPTION:Unavailable
URL:https://mecop.org/event/iatrogenic-csf-venous-fistula/
LOCATION:Journal based CME activity
CATEGORIES:AMA
END:VEVENT
BEGIN:VEVENT
DTSTART;TZID=America/Chicago:20251012T080000
DTEND;TZID=America/Chicago:20251012T170000
DTSTAMP:20260422T161656
CREATED:20251020T190853Z
LAST-MODIFIED:20251020T191129Z
UID:65040-1760256000-1760288400@mecop.org
SUMMARY:Patient Values and Preferences in Chronic Urticaria Treatment
DESCRIPTION:Unavailable
URL:https://mecop.org/event/patient-values-and-preferences-in-chronic-urticaria-treatment/
LOCATION:Journal based CME activity
CATEGORIES:AMA
END:VEVENT
BEGIN:VEVENT
DTSTART;TZID=America/Chicago:20251012T080000
DTEND;TZID=America/Chicago:20251012T170000
DTSTAMP:20260422T161656
CREATED:20251015T190517Z
LAST-MODIFIED:20251015T190635Z
UID:64973-1760256000-1760288400@mecop.org
SUMMARY:Developing Medical Cannabis Competencies
DESCRIPTION:Unavailable
URL:https://mecop.org/event/developing-medical-cannabis-competencies/
LOCATION:Journal based CME activity
CATEGORIES:AMA
END:VEVENT
BEGIN:VEVENT
DTSTART;TZID=America/Chicago:20251010T080000
DTEND;TZID=America/Chicago:20251010T170000
DTSTAMP:20260422T161656
CREATED:20251112T180451Z
LAST-MODIFIED:20251212T213657Z
UID:65463-1760083200-1760115600@mecop.org
SUMMARY:2025 Faculty Teaching Credits Infectious Disease Clerkship
DESCRIPTION:Unavailable
URL:https://mecop.org/event/2025-faculty-teaching-credits-infectious-disease-clerkship-2/
LOCATION:Fort Pierce Regional Campus\, 1200 W International Speedway Blvd #101\, Daytona Beach\, FL\, 32114\, United States
CATEGORIES:AMA
END:VEVENT
BEGIN:VEVENT
DTSTART;TZID=America/Chicago:20251010T080000
DTEND;TZID=America/Chicago:20251010T170000
DTSTAMP:20260422T161656
CREATED:20251012T113633Z
LAST-MODIFIED:20251012T114423Z
UID:64910-1760083200-1760115600@mecop.org
SUMMARY:2025 Faculty Teaching Credits Palliative Care Clerkship
DESCRIPTION:Unavailable
URL:https://mecop.org/event/2025-faculty-teaching-credits-palliative-care-clerkship-2/
LOCATION:Daytona Beach Regional Campus\, 1200 W International Speedway\, Daytona Beach\, FL\, 32114\, United States
CATEGORIES:AMA
END:VEVENT
BEGIN:VEVENT
DTSTART;TZID=America/Chicago:20251010T080000
DTEND;TZID=America/Chicago:20251010T170000
DTSTAMP:20260422T161656
CREATED:20251011T004208Z
LAST-MODIFIED:20251011T004255Z
UID:64891-1760083200-1760115600@mecop.org
SUMMARY:Risk Adjustment and Stranger Things-Coding Updates and Vascular Disease
DESCRIPTION:Gain understanding of risk adjustment methodology and its role in Value Based Care models.\nReview specific official ICD-10-CM coding guidelines and how they are applied to diagnosis coding and reporting.\nIdentify elements of the medical record that help support the validation of reported conditions.\nIdentify documentation deficiencies for specific conditions.
URL:https://mecop.org/event/risk-adjustment-and-stranger-things-coding-updates-and-vascular-disease-3/
LOCATION:Internet Live Webcast
CATEGORIES:AMA
END:VEVENT
BEGIN:VEVENT
DTSTART;TZID=America/Chicago:20251009T080000
DTEND;TZID=America/Chicago:20251009T170000
DTSTAMP:20260422T161656
CREATED:20251013T174656Z
LAST-MODIFIED:20251013T174702Z
UID:64940-1759996800-1760029200@mecop.org
SUMMARY:ANI BBL Training
DESCRIPTION:Differentiate between the two approved products for BBL and outline the risks and benefits associated with each. \nDiscuss the risks of both surgical and non-surgical BBL to provide informed consent to the patient. \nidentify patient shapes and select the appropriate product and technique to address the shape and patient goals. \nPerform a patient consultation and prepare the product for administration for a non-surgical BBL. \nPerform non-surgical BBL successfully on patient.
URL:https://mecop.org/event/ani-bbl-training-2/
LOCATION:Houston\, TX
CATEGORIES:AMA
END:VEVENT
BEGIN:VEVENT
DTSTART;TZID=America/Chicago:20251009T080000
DTEND;TZID=America/Chicago:20251009T170000
DTSTAMP:20260422T161656
CREATED:20251011T204509Z
LAST-MODIFIED:20251021T204734Z
UID:64902-1759996800-1760029200@mecop.org
SUMMARY:VIP Care Performance Forum
DESCRIPTION:
URL:https://mecop.org/event/vip-care-performance-forum-9/
LOCATION:Virtual
CATEGORIES:AMA
END:VEVENT
BEGIN:VEVENT
DTSTART;TZID=America/Chicago:20251009T080000
DTEND;TZID=America/Chicago:20251009T170000
DTSTAMP:20260422T161656
CREATED:20251010T165803Z
LAST-MODIFIED:20251010T170107Z
UID:64883-1759996800-1760029200@mecop.org
SUMMARY:AATOD 2025 Conference
DESCRIPTION:Unavailable
URL:https://mecop.org/event/aatod-2025-conference/
LOCATION:Live
CATEGORIES:AMA
END:VEVENT
BEGIN:VEVENT
DTSTART;TZID=America/Chicago:20251009T080000
DTEND;TZID=America/Chicago:20251009T170000
DTSTAMP:20260422T161656
CREATED:20251009T193923Z
LAST-MODIFIED:20251010T214935Z
UID:64863-1759996800-1760029200@mecop.org
SUMMARY:Risk Adjustment and Stranger Things-Coding Updates and Vascular Disease
DESCRIPTION:Gain understanding of risk adjustment methodology and its role in Value Based Care models.\nReview specific official ICD-10-CM coding guidelines and how they are applied to diagnosis coding and reporting.\nIdentify elements of the medical record that help support the validation of reported conditions.\nIdentify documentation deficiencies for specific conditions.
URL:https://mecop.org/event/risk-adjustment-and-stranger-things-coding-updates-and-vascular-disease-2/
LOCATION:Internet Live Webcast
CATEGORIES:AMA
END:VEVENT
BEGIN:VEVENT
DTSTART;TZID=America/Chicago:20251008T123000
DTEND;TZID=America/Chicago:20251008T133000
DTSTAMP:20260422T161656
CREATED:20250116T180408Z
LAST-MODIFIED:20251014T114854Z
UID:60648-1759926600-1759930200@mecop.org
SUMMARY:MUSM Pediatric Alliance Webinar Series
DESCRIPTION:DIAGNOSE concussions \nDESCRIBE latest management recommendations \nASSIST in return to school process \nCLEAR for return to sports
URL:https://mecop.org/event/musm-pediatric-alliance-webinar-series-9/
LOCATION:Virtual
CATEGORIES:AMA
END:VEVENT
BEGIN:VEVENT
DTSTART;TZID=America/Chicago:20251008T080000
DTEND;TZID=America/Chicago:20251008T170000
DTSTAMP:20260422T161656
CREATED:20251102T155252Z
LAST-MODIFIED:20251102T155414Z
UID:65256-1759910400-1759942800@mecop.org
SUMMARY:US for Midgut Malrotation and Volvulus in Children
DESCRIPTION:Unavailable
URL:https://mecop.org/event/us-for-midgut-malrotation-and-volvulus-in-children/
LOCATION:Enduring Activity
CATEGORIES:AMA
END:VEVENT
BEGIN:VEVENT
DTSTART;TZID=America/Chicago:20251008T080000
DTEND;TZID=America/Chicago:20251008T170000
DTSTAMP:20260422T161656
CREATED:20251102T154734Z
LAST-MODIFIED:20251102T154901Z
UID:65253-1759910400-1759942800@mecop.org
SUMMARY:Suicide Interventions for Youths
DESCRIPTION:Unavailable
URL:https://mecop.org/event/suicide-interventions-for-youths/
LOCATION:Journal based CME activity
CATEGORIES:AMA
END:VEVENT
BEGIN:VEVENT
DTSTART;TZID=America/Chicago:20251008T080000
DTEND;TZID=America/Chicago:20251008T170000
DTSTAMP:20260422T161656
CREATED:20251102T153614Z
LAST-MODIFIED:20251102T154306Z
UID:65250-1759910400-1759942800@mecop.org
SUMMARY:Management of Severe Refractory Asthma
DESCRIPTION:Unavailable
URL:https://mecop.org/event/management-of-severe-refractory-asthma/
LOCATION:Journal based CME activity
CATEGORIES:AMA
END:VEVENT
BEGIN:VEVENT
DTSTART;TZID=America/Chicago:20251008T080000
DTEND;TZID=America/Chicago:20251008T170000
DTSTAMP:20260422T161656
CREATED:20251102T152943Z
LAST-MODIFIED:20251102T153110Z
UID:65247-1759910400-1759942800@mecop.org
SUMMARY:Approach to Scarring Alopecia
DESCRIPTION:Unavailable
URL:https://mecop.org/event/approach-to-scarring-alopecia/
LOCATION:Journal based CME activity
CATEGORIES:AMA
END:VEVENT
BEGIN:VEVENT
DTSTART;TZID=America/Chicago:20251008T080000
DTEND;TZID=America/Chicago:20251008T170000
DTSTAMP:20260422T161656
CREATED:20251102T151703Z
LAST-MODIFIED:20251102T151930Z
UID:65243-1759910400-1759942800@mecop.org
SUMMARY:Resting-State Functional MRI
DESCRIPTION:Unavailable
URL:https://mecop.org/event/resting-state-functional-mri/
LOCATION:Enduring Activity
CATEGORIES:AMA
END:VEVENT
END:VCALENDAR