BEGIN:VCALENDAR
VERSION:2.0
PRODID:-//Mecop - ECPv6.5.1.5//NONSGML v1.0//EN
CALSCALE:GREGORIAN
METHOD:PUBLISH
X-WR-CALNAME:Mecop
X-ORIGINAL-URL:https://mecop.org
X-WR-CALDESC:Events for Mecop
REFRESH-INTERVAL;VALUE=DURATION:PT1H
X-Robots-Tag:noindex
X-PUBLISHED-TTL:PT1H
BEGIN:VTIMEZONE
TZID:America/Chicago
BEGIN:DAYLIGHT
TZOFFSETFROM:-0600
TZOFFSETTO:-0500
TZNAME:CDT
DTSTART:20250309T080000
END:DAYLIGHT
BEGIN:STANDARD
TZOFFSETFROM:-0500
TZOFFSETTO:-0600
TZNAME:CST
DTSTART:20251102T070000
END:STANDARD
TZID:America/New_York
BEGIN:DAYLIGHT
TZOFFSETFROM:-0500
TZOFFSETTO:-0400
TZNAME:EDT
DTSTART:20250309T070000
END:DAYLIGHT
BEGIN:STANDARD
TZOFFSETFROM:-0400
TZOFFSETTO:-0500
TZNAME:EST
DTSTART:20251102T060000
END:STANDARD
END:VTIMEZONE
BEGIN:VEVENT
DTSTART;TZID=America/Chicago:20251112T080000
DTEND;TZID=America/Chicago:20251112T170000
DTSTAMP:20260422T143614
CREATED:20251115T151027Z
LAST-MODIFIED:20251115T153309Z
UID:65630-1762934400-1762966800@mecop.org
SUMMARY:Andalusia Health Tumor Board
DESCRIPTION:
URL:https://mecop.org/event/andalusia-health-tumor-board-4/
LOCATION:Virtual
CATEGORIES:AMA
END:VEVENT
BEGIN:VEVENT
DTSTART;TZID=America/Chicago:20251112T080000
DTEND;TZID=America/Chicago:20251112T170000
DTSTAMP:20260422T143614
CREATED:20251112T232651Z
LAST-MODIFIED:20251115T134411Z
UID:65472-1762934400-1762966800@mecop.org
SUMMARY:Risk Adjustment and Bones-Musculoskeletal Inflammatory Conditions
DESCRIPTION:Gain understanding of risk adjustment methodology and its role in Value Based Care models.\nReview specific official ICD-10-CM coding guidelines and how they are applied to diagnosis coding and reporting.\nIdentify elements of the medical record that help support the validation of reported conditions.\nIdentify documentation deficiencies for specific conditions.
URL:https://mecop.org/event/risk-adjustment-and-bones-musculoskeletal-inflammatory-conditions/
LOCATION:Internet Live Webcast
CATEGORIES:AMA
END:VEVENT
BEGIN:VEVENT
DTSTART;TZID=America/Chicago:20251111T120000
DTEND;TZID=America/Chicago:20251111T130000
DTSTAMP:20260422T143614
CREATED:20251110T121859Z
LAST-MODIFIED:20251202T142337Z
UID:65359-1762862400-1762866000@mecop.org
SUMMARY:MUSM Clinical Faculty Development Series
DESCRIPTION:Explain the Global Impact of Vaccines \nDescribe how vaccination programs have reduced morbidity and mortality worldwide. \nCite evidence supporting the long-term benefits of immunization efforts. \nUnderstand Vaccine Safety and Surveillance \nOutline the phases of vaccine development and post-licensure safety monitoring. \nIdentify the roles and limitations of VAERS and the Vaccine Safety Datalink (VSD). \nDifferentiate between correlation and causation in vaccine safety data. \nRecognize and Refute Vaccine Misinformation \nSummarize common myths surrounding vaccines and their scientific rebuttals. \nDiscuss how misinformation spreads via social media and public figures. \nEvaluate reliable sources for accurate vaccine information. \nAddress Vaccine Hesitancy in Clinical Practice \nDefine vaccine hesitancy and its impact on public health. \nApply motivational interviewing and presumptive communication techniques when discussing vaccines with caregivers. \nMaintain therapeutic relationships with families who decline or delay vaccination. \nPrepare for Clinical Challenges in a Post-Vaccine World \nImplement screening\, isolation\, and infection control procedures for vaccine-preventable diseases. \nRecognize the clinical presentations and isolation durations for measles\, varicella\, mumps\, and pertussis. \nDevelop protocols for staff immunization and clinic readiness to manage potential outbreaks. \nPromote Informed\, Trust-Based Vaccine Communication \nFrame vaccine conversations to emphasize shared goals for child safety and health. \nIdentify opportunities to rebuild trust through evidence-based dialogue and empathy.
URL:https://mecop.org/event/musm-clinical-faculty-development-series-51/
LOCATION:Virtual
CATEGORIES:AMA
END:VEVENT
BEGIN:VEVENT
DTSTART;TZID=America/Chicago:20251111T080000
DTEND;TZID=America/Chicago:20251111T170000
DTSTAMP:20260422T143614
CREATED:20251215T132040Z
LAST-MODIFIED:20251215T132150Z
UID:66363-1762848000-1762880400@mecop.org
SUMMARY:Diagnosis and Management of Hemodialysis Access Complications
DESCRIPTION:Unavailable
URL:https://mecop.org/event/diagnosis-and-management-of-hemodialysis-access-complications/
LOCATION:Journal based CME activity
CATEGORIES:AMA
END:VEVENT
BEGIN:VEVENT
DTSTART;TZID=America/Chicago:20251111T080000
DTEND;TZID=America/Chicago:20251111T170000
DTSTAMP:20260422T143614
CREATED:20251215T121730Z
LAST-MODIFIED:20251215T121845Z
UID:66342-1762848000-1762880400@mecop.org
SUMMARY:Emerging Artificial Intelligence Technologies for Risk Assessment and Management in Acute Myeloid Leukemia
DESCRIPTION:Unavailable
URL:https://mecop.org/event/emerging-artificial-intelligence-technologies-for-risk-assessment-and-management-in-acute-myeloid-leukemia/
LOCATION:Journal based CME activity
CATEGORIES:AMA
END:VEVENT
BEGIN:VEVENT
DTSTART;TZID=America/Chicago:20251110T080000
DTEND;TZID=America/Chicago:20251110T170000
DTSTAMP:20260422T143614
CREATED:20260105T231448Z
LAST-MODIFIED:20260105T231448Z
UID:66648-1762761600-1762794000@mecop.org
SUMMARY:Florida Prescribing Controlled Substances Course
DESCRIPTION:Unavailable
URL:https://mecop.org/event/florida-prescribing-controlled-substances-course-3/
LOCATION:Enduring Activity
CATEGORIES:AMA,Prescribing of Controlled Substances
END:VEVENT
BEGIN:VEVENT
DTSTART;TZID=America/Chicago:20251109T080000
DTEND;TZID=America/Chicago:20251109T170000
DTSTAMP:20260422T143614
CREATED:20251215T133232Z
LAST-MODIFIED:20251215T133355Z
UID:66369-1762675200-1762707600@mecop.org
SUMMARY:Intramedullary Hemorrhage Causing Quadriplegia in the Setting of a Type B Aortic Dissection
DESCRIPTION:Unavailable
URL:https://mecop.org/event/intramedullary-hemorrhage-causing-quadriplegia-in-the-setting-of-a-type-b-aortic-dissection/
LOCATION:Journal based CME activity
CATEGORIES:AMA
END:VEVENT
BEGIN:VEVENT
DTSTART;TZID=America/Chicago:20251109T080000
DTEND;TZID=America/Chicago:20251109T170000
DTSTAMP:20260422T143614
CREATED:20251215T132535Z
LAST-MODIFIED:20251215T132713Z
UID:66366-1762675200-1762707600@mecop.org
SUMMARY:Surrogate Dating of Humeral and Femoral Fractures in Infants
DESCRIPTION:Unavailable
URL:https://mecop.org/event/surrogate-dating-of-humeral-and-femoral-fractures-in-infants/
LOCATION:Enduring Activity
CATEGORIES:AMA
END:VEVENT
BEGIN:VEVENT
DTSTART;TZID=America/Chicago:20251109T080000
DTEND;TZID=America/Chicago:20251109T170000
DTSTAMP:20260422T143614
CREATED:20251215T130927Z
LAST-MODIFIED:20251215T131041Z
UID:66357-1762675200-1762707600@mecop.org
SUMMARY:Contrast Media in Children
DESCRIPTION:Unavailable
URL:https://mecop.org/event/contrast-media-in-children/
LOCATION:Enduring Activity
CATEGORIES:AMA
END:VEVENT
BEGIN:VEVENT
DTSTART;TZID=America/Chicago:20251109T080000
DTEND;TZID=America/Chicago:20251109T170000
DTSTAMP:20260422T143614
CREATED:20251215T130258Z
LAST-MODIFIED:20251215T130444Z
UID:66354-1762675200-1762707600@mecop.org
SUMMARY:Classification and Risk Assessment of Chronic Kidney Disease
DESCRIPTION:Unavailable
URL:https://mecop.org/event/classification-and-risk-assessment-of-chronic-kidney-disease/
LOCATION:Journal based CME activity
CATEGORIES:AMA
END:VEVENT
BEGIN:VEVENT
DTSTART;TZID=America/Chicago:20251109T080000
DTEND;TZID=America/Chicago:20251109T170000
DTSTAMP:20260422T143614
CREATED:20251215T125431Z
LAST-MODIFIED:20251215T125612Z
UID:66351-1762675200-1762707600@mecop.org
SUMMARY:A Guide to CEM-Guided Biopsy
DESCRIPTION:Unavailable
URL:https://mecop.org/event/a-guide-to-cem-guided-biopsy/
LOCATION:Enduring Activity
CATEGORIES:AMA
END:VEVENT
BEGIN:VEVENT
DTSTART;TZID=America/Chicago:20251109T080000
DTEND;TZID=America/Chicago:20251109T170000
DTSTAMP:20260422T143614
CREATED:20251215T123245Z
LAST-MODIFIED:20251215T123433Z
UID:66345-1762675200-1762707600@mecop.org
SUMMARY:Generative AI for Radiographs in Tuberculosis Screening
DESCRIPTION:Unavailable
URL:https://mecop.org/event/generative-ai-for-radiographs-in-tuberculosis-screening/
LOCATION:Enduring Activity
CATEGORIES:AMA
END:VEVENT
BEGIN:VEVENT
DTSTART;TZID=America/Chicago:20251109T080000
DTEND;TZID=America/Chicago:20251109T170000
DTSTAMP:20260422T143614
CREATED:20251215T100554Z
LAST-MODIFIED:20251215T100740Z
UID:66333-1762675200-1762707600@mecop.org
SUMMARY:RNC and ceVUS for Diagnosing Vesicoureteral Reflux
DESCRIPTION:Unavailable
URL:https://mecop.org/event/rnc-and-cevus-for-diagnosing-vesicoureteral-reflux/
LOCATION:Enduring Activity
CATEGORIES:AMA
END:VEVENT
BEGIN:VEVENT
DTSTART;TZID=America/Chicago:20251108T080000
DTEND;TZID=America/Chicago:20251108T170000
DTSTAMP:20260422T143614
CREATED:20251111T125647Z
LAST-MODIFIED:20260108T125004Z
UID:65428-1762588800-1762621200@mecop.org
SUMMARY:FSU College of Medicine 2025 Alumni Weekend
DESCRIPTION:This session is designed to address the gap in the latest knowledge\, research and findings on the topics of AI in health care and practicing medicine in rural settings. Presenters will discuss both subjects with the intention of enhancing the resources and knowledge of attending physicians for both of these health issues.
URL:https://mecop.org/event/fsu-com-alumni-weekend-2025/
CATEGORIES:AMA
END:VEVENT
BEGIN:VEVENT
DTSTART;TZID=America/Chicago:20251107T080000
DTEND;TZID=America/Chicago:20251107T170000
DTSTAMP:20260422T143614
CREATED:20251122T155617Z
LAST-MODIFIED:20251122T155617Z
UID:65818-1762502400-1762534800@mecop.org
SUMMARY:2025 Faculty Teaching Credits Surgery Clerkship
DESCRIPTION:Unavailable
URL:https://mecop.org/event/2025-faculty-teaching-credits-surgery-clerkship/
LOCATION:Tallahassee Regional Campus\, Tallahassee\, FL\, United States
CATEGORIES:AMA
END:VEVENT
BEGIN:VEVENT
DTSTART;TZID=America/Chicago:20251107T080000
DTEND;TZID=America/Chicago:20251107T170000
DTSTAMP:20260422T143614
CREATED:20251114T131947Z
LAST-MODIFIED:20251203T202444Z
UID:65557-1762502400-1762534800@mecop.org
SUMMARY:FSU Fundamentals of Teaching in the FSU COM Clinical Education Program II Module
DESCRIPTION:Unavailable
URL:https://mecop.org/event/fsu-fundamentals-of-teaching-in-the-fsu-com-clinical-education-program-ii-module-21/
LOCATION:Enduring Activity
CATEGORIES:AMA
END:VEVENT
BEGIN:VEVENT
DTSTART;TZID=America/Chicago:20251107T080000
DTEND;TZID=America/Chicago:20251107T170000
DTSTAMP:20260422T143614
CREATED:20251114T131624Z
LAST-MODIFIED:20251203T202333Z
UID:65555-1762502400-1762534800@mecop.org
SUMMARY:FSU Fundamentals of Teaching in the FSU COM Clinical Education Program I Module
DESCRIPTION:Unavailable
URL:https://mecop.org/event/fsu-fundamentals-of-teaching-in-the-fsu-com-clinical-education-program-i-module-17/
LOCATION:Enduring Activity
CATEGORIES:AMA
END:VEVENT
BEGIN:VEVENT
DTSTART;TZID=America/Chicago:20251107T080000
DTEND;TZID=America/Chicago:20251107T170000
DTSTAMP:20260422T143614
CREATED:20251112T175435Z
LAST-MODIFIED:20251119T203656Z
UID:65454-1762502400-1762534800@mecop.org
SUMMARY:2025 Faculty Teaching Credits Internal Medicine Sub-Internship
DESCRIPTION:Unavailable
URL:https://mecop.org/event/2025-faculty-teaching-credits-internal-medicine-sub-internship-clerkship/
LOCATION:Fort Pierce Regional Campus\, 1200 W International Speedway Blvd #101\, Daytona Beach\, FL\, 32114\, United States
CATEGORIES:AMA
END:VEVENT
BEGIN:VEVENT
DTSTART;TZID=America/Chicago:20251107T080000
DTEND;TZID=America/Chicago:20251107T170000
DTSTAMP:20260422T143614
CREATED:20251111T131815Z
LAST-MODIFIED:20251111T131958Z
UID:65432-1762502400-1762534800@mecop.org
SUMMARY:2025 Faculty Teaching Credits Elective Dermatology Clerkship
DESCRIPTION:Unavailable
URL:https://mecop.org/event/2025-faculty-teaching-credits-elective-dermatology-clerkship/
LOCATION:Daytona Beach Regional Campus\, 1200 W International Speedway\, Daytona Beach\, FL\, 32114\, United States
CATEGORIES:AMA
END:VEVENT
BEGIN:VEVENT
DTSTART;TZID=America/Chicago:20251107T080000
DTEND;TZID=America/Chicago:20251107T170000
DTSTAMP:20260422T143614
CREATED:20251106T130907Z
LAST-MODIFIED:20251211T202417Z
UID:65316-1762502400-1762534800@mecop.org
SUMMARY:2025 Faculty Teaching Credits Pediatrics Clerkship
DESCRIPTION:Unavailable
URL:https://mecop.org/event/2025-faculty-teaching-credits-pediatrics-clerkship-3/
LOCATION:Daytona Beach Regional Campus\, 1200 W International Speedway\, Daytona Beach\, FL\, 32114\, United States
CATEGORIES:AMA
END:VEVENT
BEGIN:VEVENT
DTSTART;TZID=America/Chicago:20251106T080000
DTEND;TZID=America/Chicago:20251106T170000
DTSTAMP:20260422T143614
CREATED:20251111T124526Z
LAST-MODIFIED:20251111T124526Z
UID:65426-1762416000-1762448400@mecop.org
SUMMARY:2025 Continuing Certification (CC) Program
DESCRIPTION:Unavailable
URL:https://mecop.org/event/2025-continuing-certification-cc-program-4/
LOCATION:Enduring Activity
CATEGORIES:AMA
END:VEVENT
BEGIN:VEVENT
DTSTART;TZID=America/Chicago:20251105T080000
DTEND;TZID=America/Chicago:20251105T170000
DTSTAMP:20260422T143614
CREATED:20251215T101133Z
LAST-MODIFIED:20251215T101133Z
UID:66336-1762329600-1762362000@mecop.org
SUMMARY:General Adult Tumor Board 2025
DESCRIPTION:Unavailable
URL:https://mecop.org/event/general-adult-tumor-board-2025-39/
LOCATION:Ascension Sacred Heart Hospital\, FL
CATEGORIES:AMA
END:VEVENT
BEGIN:VEVENT
DTSTART;TZID=America/New_York:20251104T183000
DTEND;TZID=America/New_York:20251104T213000
DTSTAMP:20260422T143614
CREATED:20251001T200028Z
LAST-MODIFIED:20251212T123103Z
UID:64753-1762281000-1762291800@mecop.org
SUMMARY:Pediatric Associates PACE Meeting
DESCRIPTION:TBA
URL:https://mecop.org/event/pediatric-associates-pace-meeting-57/
LOCATION:Virtual
CATEGORIES:AMA
END:VEVENT
BEGIN:VEVENT
DTSTART;TZID=America/Chicago:20251104T080000
DTEND;TZID=America/Chicago:20251104T170000
DTSTAMP:20260422T143614
CREATED:20251215T124418Z
LAST-MODIFIED:20251215T124614Z
UID:66348-1762243200-1762275600@mecop.org
SUMMARY:Topical Anti-Inflammatory Treatments of Atopic Dermatitis
DESCRIPTION:Unavailable
URL:https://mecop.org/event/topical-anti-inflammatory-treatments-of-atopic-dermatitis/
LOCATION:Journal based CME activity
CATEGORIES:AMA
END:VEVENT
BEGIN:VEVENT
DTSTART;TZID=America/Chicago:20251104T080000
DTEND;TZID=America/Chicago:20251104T170000
DTSTAMP:20260422T143614
CREATED:20251112T125407Z
LAST-MODIFIED:20251112T125407Z
UID:65438-1762243200-1762275600@mecop.org
SUMMARY:Pediatric Associates PACE Meeting
DESCRIPTION:Unavailable
URL:https://mecop.org/event/pediatric-associates-pace-meeting-60/
LOCATION:Virtual
CATEGORIES:AMA
END:VEVENT
BEGIN:VEVENT
DTSTART;TZID=America/Chicago:20251104T080000
DTEND;TZID=America/Chicago:20251104T170000
DTSTAMP:20260422T143614
CREATED:20251112T121751Z
LAST-MODIFIED:20251112T121751Z
UID:65436-1762243200-1762275600@mecop.org
SUMMARY:Pediatric Associates PACE Meeting
DESCRIPTION:Unavailable
URL:https://mecop.org/event/pediatric-associates-pace-meeting-59/
LOCATION:Virtual
CATEGORIES:AMA
END:VEVENT
BEGIN:VEVENT
DTSTART;TZID=America/Chicago:20251103T080000
DTEND;TZID=America/Chicago:20251103T170000
DTSTAMP:20260422T143614
CREATED:20251202T192159Z
LAST-MODIFIED:20251202T192204Z
UID:66053-1762156800-1762189200@mecop.org
SUMMARY:Community Medical Services Provider Manual: Addiction Primer
DESCRIPTION:
URL:https://mecop.org/event/community-medical-services-provider-manual-addiction-primer-14/
LOCATION:Enduring Material
CATEGORIES:AMA
END:VEVENT
BEGIN:VEVENT
DTSTART;TZID=America/Chicago:20251030T180000
DTEND;TZID=America/Chicago:20251030T200000
DTSTAMP:20260422T143614
CREATED:20250730T161456Z
LAST-MODIFIED:20251105T210602Z
UID:63914-1761847200-1761854400@mecop.org
SUMMARY:FSU-Tallahassee
DESCRIPTION:Presenters:	Karen Oehme\, J.D.\n		Director\, Institute for Trauma and Resilience Studies\n		Florida State University\, College of Social Work \n		Javier I. Rosado\, PhD\n		Director\, FSU Center for Child Stress & Health\n		Florida State University\, College of Medicine  \nKaren Oehme \n1.	Recognize Trauma and Its Scope: Understand individual trauma\, Adverse Childhood Experiences (ACEs)\, and community trauma\, and acknowledge their widespread nature and public health significance.\n2.	Impact on Health and Development: Describe the increased risk for adult health problems linked to childhood maltreatment and how stress from ACEs can affect brain development\, emphasizing the importance of early prevention and intervention.\n3.	Trauma as a Public Health Issue: Understand the research indicating that trauma is nearly universal and is considered a public health issue due to its potential impacts. \nJavier Rosado \n4.	Implement Trauma-Aware Practices: Apply practical strategies to conduct physical exams in a trauma-sensitive manner.\n5.	Enhance Patient Engagement and Comfort: Develop techniques to create a safe and supportive environment for patients during exams.\n6.	Mitigate Re-Traumatization Risks: Learn methods to avoid re-traumatizing patients during physical exams.
URL:https://mecop.org/event/trauma-aware-care-understanding-impact-and-practical-strategies-for-medical-exams/
LOCATION:Zoom
CATEGORIES:AMA
END:VEVENT
BEGIN:VEVENT
DTSTART;TZID=America/Chicago:20251029T120000
DTEND;TZID=America/Chicago:20251029T130000
DTSTAMP:20260422T143614
CREATED:20251008T131324Z
LAST-MODIFIED:20260102T095252Z
UID:64793-1761739200-1761742800@mecop.org
SUMMARY:MUSM Rural Autism ECHO: Strategies for Improving Healthcare for Autistic Patients in Rural Georgia
DESCRIPTION:Review co-morbid medical conditions associated with Autism Spectrum Disorder (ASD) \nReview co-morbid psychiatric conditions associated with ASD \nDescribe some common behaviors that may be associated with ASD
URL:https://mecop.org/event/musm-rural-autism-echo-strategies-for-improving-healthcare-for-autistic-patients-in-rural-georgia-2/
LOCATION:Virtual
CATEGORIES:AMA
END:VEVENT
BEGIN:VEVENT
DTSTART;TZID=America/Chicago:20251029T080000
DTEND;TZID=America/Chicago:20251029T170000
DTSTAMP:20260422T143614
CREATED:20251125T003943Z
LAST-MODIFIED:20251125T003943Z
UID:65909-1761724800-1761757200@mecop.org
SUMMARY:2025 Continuing Certification (CC) Program
DESCRIPTION:Unavailable
URL:https://mecop.org/event/2025-continuing-certification-cc-program-5/
LOCATION:Enduring Activity
CATEGORIES:AMA
END:VEVENT
END:VCALENDAR