BEGIN:VCALENDAR
VERSION:2.0
PRODID:-//Mecop - ECPv6.5.1.5//NONSGML v1.0//EN
CALSCALE:GREGORIAN
METHOD:PUBLISH
X-WR-CALNAME:Mecop
X-ORIGINAL-URL:https://mecop.org
X-WR-CALDESC:Events for Mecop
REFRESH-INTERVAL;VALUE=DURATION:PT1H
X-Robots-Tag:noindex
X-PUBLISHED-TTL:PT1H
BEGIN:VTIMEZONE
TZID:America/Chicago
BEGIN:DAYLIGHT
TZOFFSETFROM:-0600
TZOFFSETTO:-0500
TZNAME:CDT
DTSTART:20250309T080000
END:DAYLIGHT
BEGIN:STANDARD
TZOFFSETFROM:-0500
TZOFFSETTO:-0600
TZNAME:CST
DTSTART:20251102T070000
END:STANDARD
END:VTIMEZONE
BEGIN:VEVENT
DTSTART;TZID=America/Chicago:20251125T080000
DTEND;TZID=America/Chicago:20251125T170000
DTSTAMP:20260420T072204
CREATED:20260105T230948Z
LAST-MODIFIED:20260105T231205Z
UID:66645-1764057600-1764090000@mecop.org
SUMMARY:Florida Medical Errors
DESCRIPTION:Unavailable
URL:https://mecop.org/event/florida-medical-errors-2/
LOCATION:Enduring Activity
CATEGORIES:AMA,MedErrors
END:VEVENT
BEGIN:VEVENT
DTSTART;TZID=America/Chicago:20251121T080000
DTEND;TZID=America/Chicago:20251121T170000
DTSTAMP:20260420T072204
CREATED:20251124T124927Z
LAST-MODIFIED:20251214T235148Z
UID:65872-1763712000-1763744400@mecop.org
SUMMARY:2025 Faculty Teaching Credits Internal Medicine Clerkship
DESCRIPTION:Unavailable
URL:https://mecop.org/event/2025-faculty-teaching-credits-internal-medicine-clerkship-4/
LOCATION:Sarasota Regional Campus\, 5560 Bee Ridge Rd\, Sarasota\, FL\, 34233\, United States
CATEGORIES:AMA
END:VEVENT
BEGIN:VEVENT
DTSTART;TZID=America/Chicago:20251120T080000
DTEND;TZID=America/Chicago:20251120T170000
DTSTAMP:20260420T072204
CREATED:20251122T154217Z
LAST-MODIFIED:20251123T013948Z
UID:65814-1763625600-1763658000@mecop.org
SUMMARY:Risk Adjustment and Bones-Musculoskeletal Inflammatory Conditions
DESCRIPTION:Unavailable
URL:https://mecop.org/event/risk-adjustment-and-bones-musculoskeletal-inflamatory-conditions/
LOCATION:Internet Live Webcast
CATEGORIES:AMA
END:VEVENT
BEGIN:VEVENT
DTSTART;TZID=America/Chicago:20251119T080000
DTEND;TZID=America/Chicago:20251119T170000
DTSTAMP:20260420T072204
CREATED:20251219T192110Z
LAST-MODIFIED:20251219T192110Z
UID:66488-1763539200-1763571600@mecop.org
SUMMARY:Question of the Week
DESCRIPTION:Unavailable
URL:https://mecop.org/event/question-of-the-week-16/
LOCATION:Enduring Material
CATEGORIES:AMA
END:VEVENT
BEGIN:VEVENT
DTSTART;TZID=America/Chicago:20251119T080000
DTEND;TZID=America/Chicago:20251119T170000
DTSTAMP:20260420T072204
CREATED:20251124T213012Z
LAST-MODIFIED:20251124T213340Z
UID:65905-1763539200-1763571600@mecop.org
SUMMARY:KAMAP Introduction to Dermal Fillers
DESCRIPTION:Explain the mechanism of action of hyaluronic acid dermal fillers.\nIdentify safe prescribing practices of hyaluronic acid dermal fillers\nDemonstrate safe administration of hyaluronic acid dermal fillers\nAnticipate the risk of side effects\, adverse events\, and complications of administration of hyaluronic acid dermal fillers.\nOutline possible side effects of hyaluronic acid dermal fillers.\nUnderstand management of emergent complications of hyaluronic acid dermal fillers.
URL:https://mecop.org/event/kamap-introduction-to-dermal-fillers-7/
LOCATION:Lexington\, KY
CATEGORIES:AMA
END:VEVENT
BEGIN:VEVENT
DTSTART;TZID=America/Chicago:20251119T080000
DTEND;TZID=America/Chicago:20251119T170000
DTSTAMP:20260420T072204
CREATED:20251124T212841Z
LAST-MODIFIED:20251124T213311Z
UID:65903-1763539200-1763571600@mecop.org
SUMMARY:KAMAP Introduction to Neuromodulators
DESCRIPTION:Explain the mechanism of action of neuromodulators.\nIdentify safe prescribing practices of neuromodulators.\nDemonstrate safe administration of neuromodulators.\nAnticipate the risk of side effects\, adverse events\, and complications of administration of neuromodulators.\nOutline possible side effects of neuromodulator administration.
URL:https://mecop.org/event/kamap-introduction-to-neuromodulators-9/
LOCATION:Lexington\, KY
CATEGORIES:AMA
END:VEVENT
BEGIN:VEVENT
DTSTART;TZID=America/Chicago:20251118T174500
DTEND;TZID=America/Chicago:20251118T184500
DTSTAMP:20260420T072204
CREATED:20251118T130647Z
LAST-MODIFIED:20251208T222717Z
UID:65664-1763487900-1763491500@mecop.org
SUMMARY:FLORIDA SBIRT BH IMPACT Pediatric Training
DESCRIPTION:
URL:https://mecop.org/event/florida-bh-impact-pediatric-training/
LOCATION:Virtual
CATEGORIES:AMA
END:VEVENT
BEGIN:VEVENT
DTSTART;TZID=America/Chicago:20251118T120000
DTEND;TZID=America/Chicago:20251118T130000
DTSTAMP:20260420T072204
CREATED:20251118T121530Z
LAST-MODIFIED:20251214T015352Z
UID:65658-1763467200-1763470800@mecop.org
SUMMARY:FLORIDA SBIRT BH IMPACT MAT Training
DESCRIPTION:Increase understanding of the effects of substance use disorders in pregnant and postpartum women. \nIdentify validated screening tools and how to assess the results.  \nUnderstand how to implement brief counseling or motivational interviewing with patients following a screening. \nIdentify strategies for medication management for substance use disorders in the perinatal population
URL:https://mecop.org/event/florida-bh-impact-sbirt-training-3/
LOCATION:Virtual
CATEGORIES:AMA
END:VEVENT
BEGIN:VEVENT
DTSTART;TZID=America/Chicago:20251118T080000
DTEND;TZID=America/Chicago:20251118T170000
DTSTAMP:20260420T072204
CREATED:20251124T174052Z
LAST-MODIFIED:20260327T160824Z
UID:65892-1763452800-1763485200@mecop.org
SUMMARY:Summit Medical Grand Rounds: Updates in Syphilis
DESCRIPTION:Following this session\, learners will:\nOutline the changing epidemiology of syphilis and congenital syphilis\nAssess\, stage and effectively treat syphilis
URL:https://mecop.org/event/summit-medical-grand-rounds-updates-in-syphilis/
LOCATION:Knoxville\, TN
CATEGORIES:AMA
END:VEVENT
BEGIN:VEVENT
DTSTART;TZID=America/Chicago:20251118T080000
DTEND;TZID=America/Chicago:20251118T170000
DTSTAMP:20260420T072204
CREATED:20251124T143012Z
LAST-MODIFIED:20251124T144249Z
UID:65888-1763452800-1763485200@mecop.org
SUMMARY:FSU Assisting Students with Motivational Interviewing Skills to Enhance Patient Care Module
DESCRIPTION:Unavailable
URL:https://mecop.org/event/fsu-assisting-students-with-motivational-interviewing-skills-to-enhance-patient-care-module-10/
LOCATION:Enduring Activity
CATEGORIES:AMA
END:VEVENT
BEGIN:VEVENT
DTSTART;TZID=America/Chicago:20251118T080000
DTEND;TZID=America/Chicago:20251118T170000
DTSTAMP:20260420T072204
CREATED:20251124T142411Z
LAST-MODIFIED:20251124T143844Z
UID:65884-1763452800-1763485200@mecop.org
SUMMARY:FSU Developing FSU Medical Students Using Emotional Intelligence Module
DESCRIPTION:Unavailable
URL:https://mecop.org/event/fsu-developing-fsu-medical-students-using-emotional-intelligence-module-4/
LOCATION:Enduring Activity
CATEGORIES:AMA
END:VEVENT
BEGIN:VEVENT
DTSTART;TZID=America/Chicago:20251118T080000
DTEND;TZID=America/Chicago:20251118T170000
DTSTAMP:20260420T072204
CREATED:20251119T195027Z
LAST-MODIFIED:20251119T195035Z
UID:65718-1763452800-1763485200@mecop.org
SUMMARY:CMS Monthly Provider Meeting
DESCRIPTION:Discussed new novel and emerging substances\nReviewed On-Time medical data and discussed new goals\nDiscussed how to approach patients filling opioid prescriptions who are already on MOUD\nShare outcomes data on follow-up appointments
URL:https://mecop.org/event/cms-monthly-provider-meeting-18/
LOCATION:Internet Live Webcast
CATEGORIES:AMA
END:VEVENT
BEGIN:VEVENT
DTSTART;TZID=America/Chicago:20251118T080000
DTEND;TZID=America/Chicago:20251118T170000
DTSTAMP:20260420T072204
CREATED:20251119T144152Z
LAST-MODIFIED:20251119T191649Z
UID:65689-1763452800-1763485200@mecop.org
SUMMARY:Risk Adjustment and Bones-Musculoskeletal Inflammatory Conditions
DESCRIPTION:Gain understanding of risk adjustment methodology and its role in Value Based Care models.\nReview specific official ICD-10-CM coding guidelines and how they are applied to diagnosis coding and reporting.\nIdentify elements of the medical record that help support the validation of reported conditions.\nIdentify documentation deficiencies for specific conditions.
URL:https://mecop.org/event/risk-adjustment-and-bones-musculoskeletal-inflammatory-conditions-3/
LOCATION:Internet Live Webcast
CATEGORIES:AMA
END:VEVENT
BEGIN:VEVENT
DTSTART;TZID=America/Chicago:20251118T070000
DTEND;TZID=America/Chicago:20251118T080000
DTSTAMP:20260420T072204
CREATED:20251120T125212Z
LAST-MODIFIED:20251121T095617Z
UID:65730-1763449200-1763452800@mecop.org
SUMMARY:Baldwin Health Tumor Board
DESCRIPTION:1. Review patient cases and all necessary findings (pathology\, radiology\, surgery\, etc.) and discuss key findings to determine course of treatment.\n2. Discuss implications amongst multidisciplinary team members\, and review best practices\, current\nevidence-based findings\, etc.\n3. Assign treatment protocols based on consensus of the multidisciplinary team.
URL:https://mecop.org/event/baldwin-health-tumor-board-11/
LOCATION:West Wing Conference Room
CATEGORIES:AMA
END:VEVENT
BEGIN:VEVENT
DTSTART;TZID=America/Chicago:20251117T080000
DTEND;TZID=America/Chicago:20251117T170000
DTSTAMP:20260420T072204
CREATED:20260109T171813Z
LAST-MODIFIED:20260109T171818Z
UID:66721-1763366400-1763398800@mecop.org
SUMMARY:PEEP Risk Adjustment and the Top Gun Tips for Coding Cancer
DESCRIPTION:Review CMS-HCC risk adjustment model and why it is important\nReview specific official ICD-10-CM coding guidelines and how they are applied for HCC diagnosis coding\nIdentify elements of the medical record that help support the validation of an HCC diagnosis condition\nIdentify documentation deficiencies for specific conditions
URL:https://mecop.org/event/peep-risk-adjustment-and-the-top-gun-tips-for-coding-cancer-2/
LOCATION:Internet Enduring Material
CATEGORIES:AMA
END:VEVENT
BEGIN:VEVENT
DTSTART;TZID=America/Chicago:20251117T080000
DTEND;TZID=America/Chicago:20251117T170000
DTSTAMP:20260420T072204
CREATED:20251119T153923Z
LAST-MODIFIED:20251119T154203Z
UID:65709-1763366400-1763398800@mecop.org
SUMMARY:ENT Pearls and Mastery of the Ear & Oral Cavity
DESCRIPTION:Understand oral cavity and oropharyngeal anatomy\, learn proper exam technique\, identify common oral cavity/oropharyngeal disease presentations\, and understand best treatment approaches for these conditions\nUnderstand nasal cavity anatomy\, learn proper exam techniques\, and identify common nasal cavity diagnoses with correct treatment protocols.\nLearn proper neck examination\, best imaging choices for various diagnoses\, and identify common neck pathological states with appropriate treatments.\nBecome much more confident in ear examinations through the use of otoscopy (normal and pneumatic otoscopy)\nLearn the use of performing the Valsalva maneuver during otoscopy – and how this may help diagnostic accuracy.\nLearn the proper use of the tuning fork – and implementing this to help discern middle ear pathology or tympanic membrane perforations.\nLearn how to perform tympanometry – and utilizing this to help detect the presence or absence of middle ear fluid/purulence or a tympanic membrane perforation.\nIdentification and proper treatment of otitis externa\nLearn various cerumen removal tools and techniques for cerumen and ear foreign bodies.\nLearn how to drain an auricular hematoma and properly place bolster.
URL:https://mecop.org/event/ent-pearls-and-mastery-of-the-ear-oral-cavity-6/
LOCATION:Internet Enduring Material
CATEGORIES:AMA
END:VEVENT
BEGIN:VEVENT
DTSTART;TZID=America/Chicago:20251116T080000
DTEND;TZID=America/Chicago:20251116T170000
DTSTAMP:20260420T072204
CREATED:20251120T133335Z
LAST-MODIFIED:20251120T133840Z
UID:65737-1763280000-1763312400@mecop.org
SUMMARY:CME Credit Transcript
DESCRIPTION:Unavailable
URL:https://mecop.org/event/cme-credit-transcript-3/
LOCATION:Enduring Activities
CATEGORIES:AMA
END:VEVENT
BEGIN:VEVENT
DTSTART;TZID=America/Chicago:20251116T080000
DTEND;TZID=America/Chicago:20251116T170000
DTSTAMP:20260420T072204
CREATED:20251113T194404Z
LAST-MODIFIED:20260115T174423Z
UID:65508-1763280000-1763312400@mecop.org
SUMMARY:FCOM 2025: Scary Cases in Sleep
DESCRIPTION:We will present three unusual patient vignettes related to sleep medicine.  The proper evaluation\, care and management of these patients will be discussed. \nLearn how to recognize\, evaluate and treat some unusual sleep medicine patients.
URL:https://mecop.org/event/fcom-2025-scary-cases-in-sleep/
LOCATION:Naples\, FL
CATEGORIES:AMA
END:VEVENT
BEGIN:VEVENT
DTSTART;TZID=America/Chicago:20251116T080000
DTEND;TZID=America/Chicago:20251116T170000
DTSTAMP:20260420T072204
CREATED:20251113T194142Z
LAST-MODIFIED:20260115T174349Z
UID:65506-1763280000-1763312400@mecop.org
SUMMARY:FCOM 2025: Advances in Hypoglossal Nerve Stimulation
DESCRIPTION:This session will explore the latest advancements in hypoglossal nerve stimulation for the treatment of obstructive sleep apnea. Presenters will review patient selection criteria\, surgical techniques\, outcomes data\, and recent innovations improving performance and patient adherence. \nParticipants will be able to:\n1. Describe the mechanism of action and clinical rationale for hypoglossal nerve stimulation in sleep apnea.\n2. Identify appropriate patient selection criteria and perioperative considerations.\n3. Evaluate current evidence and emerging technologies that enhance outcomes in hypoglossal nerve stimulation therapy.
URL:https://mecop.org/event/fcom-2025-advances-in-hypoglossal-nerve-stimulation/
LOCATION:Naples\, FL
CATEGORIES:AMA
END:VEVENT
BEGIN:VEVENT
DTSTART;TZID=America/Chicago:20251116T080000
DTEND;TZID=America/Chicago:20251116T170000
DTSTAMP:20260420T072204
CREATED:20251113T193946Z
LAST-MODIFIED:20260115T174313Z
UID:65504-1763280000-1763312400@mecop.org
SUMMARY:FCOM 2025: Balloon Sinuplasty - The Good\, Bad and Ugly
DESCRIPTION:This panel will provide a candid discussion of balloon sinuplasty\, examining its benefits\, limitations\, and challenges in contemporary rhinologic practice. Experts will share real-world experiences\, patient selection insights\, and complication management strategies to guide effective use of this technique. \nParticipants will be able to:\n1. Discuss the clinical indications and advantages of balloon sinuplasty in sinus surgery.\n2. Analyze potential complications and limitations associated with the procedure.\n3. Evaluate best practices for patient selection\, technique optimization\, and long-term outcome management.
URL:https://mecop.org/event/fcom-2025-balloon-sinuplasty-the-good-bad-and-ugly/
LOCATION:Naples\, FL
CATEGORIES:AMA
END:VEVENT
BEGIN:VEVENT
DTSTART;TZID=America/Chicago:20251116T080000
DTEND;TZID=America/Chicago:20251116T170000
DTSTAMP:20260420T072204
CREATED:20251113T151019Z
LAST-MODIFIED:20260115T174241Z
UID:65502-1763280000-1763312400@mecop.org
SUMMARY:FCOM 2025: How to Approach Sinus Surgery Complications - Advice from the Experts
DESCRIPTION:Complications can occur even in the most experienced hands. In this expert-led session\, attendees will gain practical insights into the most common challenges that arise after endoscopic sinus surgery. Faculty will share approaches to managing complications\, treatment options to optimize patient outcomes\, and strategies for navigating difficult post-operative conversations with patients. \nAfter this session\, participants will be able to:\n1. Discuss common complications of endoscopic sinus surgery (ESS)\n2. Discuss treatment options for ESS complications\n3. Discuss strategies for patient discussions after ESS complications
URL:https://mecop.org/event/fcom-2025-how-to-approach-sinus-surgery-complications-advice-from-the-experts/
LOCATION:Naples\, FL
CATEGORIES:AMA
END:VEVENT
BEGIN:VEVENT
DTSTART;TZID=America/Chicago:20251116T080000
DTEND;TZID=America/Chicago:20251116T170000
DTSTAMP:20260420T072204
CREATED:20251113T150811Z
LAST-MODIFIED:20260115T174214Z
UID:65500-1763280000-1763312400@mecop.org
SUMMARY:FCOM 2025: Poster Session Awards
DESCRIPTION:This session will feature brief presentations from the winners of the Scientific Poster Awards. Each presenter will highlight their research findings\, clinical relevance\, and future implications for advancing otolaryngology and related specialties. \nParticipants will be able to:\n1. Summarize key findings from current research in otolaryngology presented by award recipients.\n2. Discuss the clinical and scientific significance of innovative research topics.\n3. Identify potential future directions and applications of the presented studies in clinical practice.
URL:https://mecop.org/event/fcom-2025-poster-session-awards/
LOCATION:Naples\, FL
CATEGORIES:AMA
END:VEVENT
BEGIN:VEVENT
DTSTART;TZID=America/Chicago:20251116T080000
DTEND;TZID=America/Chicago:20251116T170000
DTSTAMP:20260420T072204
CREATED:20251113T150611Z
LAST-MODIFIED:20260331T155942Z
UID:65498-1763280000-1763312400@mecop.org
SUMMARY:FCOM 2025: Current State of Florida's Otolaryngology Workforce
DESCRIPTION:This session presents the current landscape of Florida’s otolaryngology workforce\, highlighting key demographic and practice patterns across metropolitan and non-metropolitan counties. Using a cross-sectional database analysis\, the study reveals significant disparities in access to care\, particularly in rural regions. Attendees will gain insights into the distribution\, training backgrounds\, and practice settings of otolaryngologists across the state\, with implications for workforce planning and patient access. \nBy the end of this session\, participants will be able to\nIdentify key demographic and practice characteristics of otolaryngologists currently practicing in Florida.\nRecognize geographic disparities in otolaryngology workforce distribution and their impact on patient access to specialized care.
URL:https://mecop.org/event/fcom-2025-current-state-of-floridas-otolaryngology-workforce/
LOCATION:Naples\, FL
CATEGORIES:AMA
END:VEVENT
BEGIN:VEVENT
DTSTART;TZID=America/Chicago:20251115T080000
DTEND;TZID=America/Chicago:20251116T170000
DTSTAMP:20260420T072204
CREATED:20251117T184744Z
LAST-MODIFIED:20251118T144130Z
UID:65645-1763193600-1763312400@mecop.org
SUMMARY:Fundamentals with Injector Coach International
DESCRIPTION:Assess facial anatomy to determine proper treatment and placement. Demonstrate competency in facial anatomy as it pertains to placement of botulinium toxin and filler. Demonstrate efficiency in neurotoxin and filler. Perform proper placement and injection of neurotoxin and filler for glabella\, frontalis and crow’s feet\, as well as cheeks\, lips and nasolabial folds.
URL:https://mecop.org/event/fundamentals-with-injector-coach-international/
LOCATION:Mind Body Soul Medical
CATEGORIES:AMA
END:VEVENT
BEGIN:VEVENT
DTSTART;TZID=America/Chicago:20251115T080000
DTEND;TZID=America/Chicago:20251115T170000
DTSTAMP:20260420T072204
CREATED:20260109T195400Z
LAST-MODIFIED:20260109T195408Z
UID:66745-1763193600-1763226000@mecop.org
SUMMARY:PEEP Risk Adjustment and Stranger Things
DESCRIPTION:See content.
URL:https://mecop.org/event/peep-risk-adjustment-and-stranger-things/
LOCATION:Internet Enduring Material
CATEGORIES:AMA
END:VEVENT
BEGIN:VEVENT
DTSTART;TZID=America/Chicago:20251115T080000
DTEND;TZID=America/Chicago:20251115T170000
DTSTAMP:20260420T072204
CREATED:20251201T181526Z
LAST-MODIFIED:20251201T181531Z
UID:66009-1763193600-1763226000@mecop.org
SUMMARY:Method Aesthetics Academy: Lip Masterclass
DESCRIPTION:
URL:https://mecop.org/event/method-aesthetics-academy-lip-masterclass-2/
LOCATION:Mela MedSpa
CATEGORIES:AMA
END:VEVENT
BEGIN:VEVENT
DTSTART;TZID=America/Chicago:20251115T080000
DTEND;TZID=America/Chicago:20251115T170000
DTSTAMP:20260420T072204
CREATED:20251122T215930Z
LAST-MODIFIED:20260331T155846Z
UID:65854-1763193600-1763226000@mecop.org
SUMMARY:FCOM 2025: Resident Skills - Negotiating Contracts
DESCRIPTION:
URL:https://mecop.org/event/fcom-2025-resident-skills-negotiating-contracts/
LOCATION:Naples\, FL
CATEGORIES:AMA
END:VEVENT
BEGIN:VEVENT
DTSTART;TZID=America/Chicago:20251115T080000
DTEND;TZID=America/Chicago:20251115T170000
DTSTAMP:20260420T072204
CREATED:20251122T213444Z
LAST-MODIFIED:20251125T211513Z
UID:65842-1763193600-1763226000@mecop.org
SUMMARY:FCOM 2025: Beyond Residency - Mastering the Next Chapter
DESCRIPTION:
URL:https://mecop.org/event/fcom-2025-beyond-residency-mastering-the-next-chapter/
LOCATION:Naples\, FL
CATEGORIES:AMA
END:VEVENT
BEGIN:VEVENT
DTSTART;TZID=America/Chicago:20251115T080000
DTEND;TZID=America/Chicago:20251115T170000
DTSTAMP:20260420T072204
CREATED:20251114T014300Z
LAST-MODIFIED:20260331T155913Z
UID:65548-1763193600-1763226000@mecop.org
SUMMARY:FCOM 2025: Resident Academic Bowl
DESCRIPTION:Always a highlight of the meeting\, the Academic Resident Bowl brings together teams from the University of Miami (last year’s champions)\, University of South Florida\, University of Florida\, and now for the first time Mayo Clinic Jacksonville for a spirited head-to-head competition. While residents showcase their knowledge of Otolaryngology in a fast-paced quiz format\, all attendees benefit from the review of core concepts\, cutting-edge topics\, and the energy of friendly rivalry. This session is both educational and entertaining—an engaging way for providers at every level to test their knowledge and cheer on the next generation of ENT leaders. \nBy the end of this session\, participants will be able to:\n1. Recall key otolaryngology knowledge areas through observation of competition-style questions.\n2. Discuss current trends and clinical pearls highlighted during the event.\n3. Recognize the value of academic competition in fostering collaboration\, education\, and leadership development among trainees.
URL:https://mecop.org/event/fcom-2025-resident-academic-bowl/
LOCATION:Naples\, FL
CATEGORIES:AMA
END:VEVENT
BEGIN:VEVENT
DTSTART;TZID=America/Chicago:20251115T080000
DTEND;TZID=America/Chicago:20251115T170000
DTSTAMP:20260420T072204
CREATED:20251114T013809Z
LAST-MODIFIED:20260113T201525Z
UID:65546-1763193600-1763226000@mecop.org
SUMMARY:FCOM 2025: In-Office Rhinology
DESCRIPTION:1. To present a case of management of inverting papilloma in the office based setting\n2. To discuss treatment options for management of posterior nasal nerve ablation \n1. To provide the audience a better understanding of how certain disease states which would traditionally be managed in an operating room setting can now feasibly be managed in an office based setting\n2. To provide the audience information on how to best decide which of the various tools/techniques may be best for their patients that deal with posterior nasal nerve dysfunction
URL:https://mecop.org/event/fcom-2025-in-office-rhinology/
LOCATION:Naples\, FL
CATEGORIES:AMA
END:VEVENT
END:VCALENDAR