BEGIN:VCALENDAR
VERSION:2.0
PRODID:-//Mecop - ECPv6.5.1.5//NONSGML v1.0//EN
CALSCALE:GREGORIAN
METHOD:PUBLISH
X-WR-CALNAME:Mecop
X-ORIGINAL-URL:https://mecop.org
X-WR-CALDESC:Events for Mecop
REFRESH-INTERVAL;VALUE=DURATION:PT1H
X-Robots-Tag:noindex
X-PUBLISHED-TTL:PT1H
BEGIN:VTIMEZONE
TZID:America/Chicago
BEGIN:DAYLIGHT
TZOFFSETFROM:-0600
TZOFFSETTO:-0500
TZNAME:CDT
DTSTART:20200308T080000
END:DAYLIGHT
BEGIN:STANDARD
TZOFFSETFROM:-0500
TZOFFSETTO:-0600
TZNAME:CST
DTSTART:20201101T070000
END:STANDARD
BEGIN:DAYLIGHT
TZOFFSETFROM:-0600
TZOFFSETTO:-0500
TZNAME:CDT
DTSTART:20210314T080000
END:DAYLIGHT
BEGIN:STANDARD
TZOFFSETFROM:-0500
TZOFFSETTO:-0600
TZNAME:CST
DTSTART:20211107T070000
END:STANDARD
BEGIN:DAYLIGHT
TZOFFSETFROM:-0600
TZOFFSETTO:-0500
TZNAME:CDT
DTSTART:20220313T080000
END:DAYLIGHT
BEGIN:STANDARD
TZOFFSETFROM:-0500
TZOFFSETTO:-0600
TZNAME:CST
DTSTART:20221106T070000
END:STANDARD
BEGIN:DAYLIGHT
TZOFFSETFROM:-0600
TZOFFSETTO:-0500
TZNAME:CDT
DTSTART:20230312T080000
END:DAYLIGHT
BEGIN:STANDARD
TZOFFSETFROM:-0500
TZOFFSETTO:-0600
TZNAME:CST
DTSTART:20231105T070000
END:STANDARD
BEGIN:DAYLIGHT
TZOFFSETFROM:-0600
TZOFFSETTO:-0500
TZNAME:CDT
DTSTART:20240310T080000
END:DAYLIGHT
BEGIN:STANDARD
TZOFFSETFROM:-0500
TZOFFSETTO:-0600
TZNAME:CST
DTSTART:20241103T070000
END:STANDARD
BEGIN:DAYLIGHT
TZOFFSETFROM:-0600
TZOFFSETTO:-0500
TZNAME:CDT
DTSTART:20250309T080000
END:DAYLIGHT
BEGIN:STANDARD
TZOFFSETFROM:-0500
TZOFFSETTO:-0600
TZNAME:CST
DTSTART:20251102T070000
END:STANDARD
BEGIN:DAYLIGHT
TZOFFSETFROM:-0600
TZOFFSETTO:-0500
TZNAME:CDT
DTSTART:20260308T080000
END:DAYLIGHT
BEGIN:STANDARD
TZOFFSETFROM:-0500
TZOFFSETTO:-0600
TZNAME:CST
DTSTART:20261101T070000
END:STANDARD
BEGIN:DAYLIGHT
TZOFFSETFROM:-0600
TZOFFSETTO:-0500
TZNAME:CDT
DTSTART:20270314T080000
END:DAYLIGHT
BEGIN:STANDARD
TZOFFSETFROM:-0500
TZOFFSETTO:-0600
TZNAME:CST
DTSTART:20271107T070000
END:STANDARD
BEGIN:DAYLIGHT
TZOFFSETFROM:-0600
TZOFFSETTO:-0500
TZNAME:CDT
DTSTART:20280312T080000
END:DAYLIGHT
BEGIN:STANDARD
TZOFFSETFROM:-0500
TZOFFSETTO:-0600
TZNAME:CST
DTSTART:20281105T070000
END:STANDARD
BEGIN:DAYLIGHT
TZOFFSETFROM:-0600
TZOFFSETTO:-0500
TZNAME:CDT
DTSTART:20290311T080000
END:DAYLIGHT
BEGIN:STANDARD
TZOFFSETFROM:-0500
TZOFFSETTO:-0600
TZNAME:CST
DTSTART:20291104T070000
END:STANDARD
BEGIN:DAYLIGHT
TZOFFSETFROM:-0600
TZOFFSETTO:-0500
TZNAME:CDT
DTSTART:20300310T080000
END:DAYLIGHT
BEGIN:STANDARD
TZOFFSETFROM:-0500
TZOFFSETTO:-0600
TZNAME:CST
DTSTART:20301103T070000
END:STANDARD
BEGIN:DAYLIGHT
TZOFFSETFROM:-0600
TZOFFSETTO:-0500
TZNAME:CDT
DTSTART:20310309T080000
END:DAYLIGHT
BEGIN:STANDARD
TZOFFSETFROM:-0500
TZOFFSETTO:-0600
TZNAME:CST
DTSTART:20311102T070000
END:STANDARD
BEGIN:DAYLIGHT
TZOFFSETFROM:-0600
TZOFFSETTO:-0500
TZNAME:CDT
DTSTART:20320314T080000
END:DAYLIGHT
BEGIN:STANDARD
TZOFFSETFROM:-0500
TZOFFSETTO:-0600
TZNAME:CST
DTSTART:20321107T070000
END:STANDARD
BEGIN:DAYLIGHT
TZOFFSETFROM:-0600
TZOFFSETTO:-0500
TZNAME:CDT
DTSTART:20330313T080000
END:DAYLIGHT
BEGIN:STANDARD
TZOFFSETFROM:-0500
TZOFFSETTO:-0600
TZNAME:CST
DTSTART:20331106T070000
END:STANDARD
BEGIN:DAYLIGHT
TZOFFSETFROM:-0600
TZOFFSETTO:-0500
TZNAME:CDT
DTSTART:20340312T080000
END:DAYLIGHT
BEGIN:STANDARD
TZOFFSETFROM:-0500
TZOFFSETTO:-0600
TZNAME:CST
DTSTART:20341105T070000
END:STANDARD
BEGIN:DAYLIGHT
TZOFFSETFROM:-0600
TZOFFSETTO:-0500
TZNAME:CDT
DTSTART:20350311T080000
END:DAYLIGHT
BEGIN:STANDARD
TZOFFSETFROM:-0500
TZOFFSETTO:-0600
TZNAME:CST
DTSTART:20351104T070000
END:STANDARD
BEGIN:DAYLIGHT
TZOFFSETFROM:-0600
TZOFFSETTO:-0500
TZNAME:CDT
DTSTART:20360309T080000
END:DAYLIGHT
BEGIN:STANDARD
TZOFFSETFROM:-0500
TZOFFSETTO:-0600
TZNAME:CST
DTSTART:20361102T070000
END:STANDARD
BEGIN:DAYLIGHT
TZOFFSETFROM:-0600
TZOFFSETTO:-0500
TZNAME:CDT
DTSTART:20370308T080000
END:DAYLIGHT
BEGIN:STANDARD
TZOFFSETFROM:-0500
TZOFFSETTO:-0600
TZNAME:CST
DTSTART:20371101T070000
END:STANDARD
END:VTIMEZONE
BEGIN:VEVENT
DTSTART;TZID=America/Chicago:20200902T000000
DTEND;TZID=America/Chicago:20270902T000000
DTSTAMP:20260419T072631
CREATED:20200902T221953Z
LAST-MODIFIED:20260217T020031Z
UID:37951-1599004800-1819843200@mecop.org
SUMMARY:Bringing Darkness to Light: Identifying and Reporting Human Trafficking
DESCRIPTION:Define human trafficking and differentiate sex trafficking and labor trafficking.\nIdentify the risk factors that make individuals vulnerable to human trafficking.\nDiscuss potential effects that COVID-19 could have on human trafficking.\nOutline the signs of human trafficking and resources for reporting.\nDiscuss important health and referral sources for victims of trafficking\, as well as next steps for health care teams.
URL:https://mecop.org/event/bringing-darkness-to-light-identifying-and-reporting-human-trafficking/
LOCATION:Online Learning Web Portal
CATEGORIES:AMA,Human Trafficking
END:VEVENT
BEGIN:VEVENT
DTSTART;TZID=America/Chicago:20211014T000000
DTEND;TZID=America/Chicago:20261014T000000
DTSTAMP:20260419T072631
CREATED:20211014T172344Z
LAST-MODIFIED:20260408T180945Z
UID:42395-1634169600-1791936000@mecop.org
SUMMARY:Prescribing Controlled Substances: The Florida Mandated Requirement
DESCRIPTION:Outline the requirements in House Bill 21 and House Bill 451.\nDiscuss the implications of the rules outlined in HB 21 and HB 451.\nDiscuss the current opioid overdose death statistics and the effects of the Covid-19 pandemic.\nOutline current recommendations from the CDC.\nDiscuss OUD (Opioid Use Disorder) and best practices for managing and treating patients.
URL:https://mecop.org/event/prescribing-controlled-substances-the-florida-mandated-requiremen/
LOCATION:Online Learning Web Portal
CATEGORIES:AMA,Prescribing of Controlled Substances
END:VEVENT
BEGIN:VEVENT
DTSTART;TZID=America/Chicago:20211015T000000
DTEND;TZID=America/Chicago:20261015T000000
DTSTAMP:20260419T072631
CREATED:20211015T143124Z
LAST-MODIFIED:20251021T155021Z
UID:42434-1634256000-1792022400@mecop.org
SUMMARY:Point-of-Care: Claim CME for Finding Answers to Problems in Practice
DESCRIPTION:Each learner should:\nIdentify their own problem(s) in practice.\nPerform an Internet search to identify solutions to problems or questions in clinical practice.\nReview source(s) as solutions or answeres to the problem or question.\nCite the source(s) for credit.
URL:https://mecop.org/event/point-of-care-claim-cme-for-finding-answers-to-problems-in-practice/
LOCATION:Online Learning Web Portal
CATEGORIES:AMA
END:VEVENT
BEGIN:VEVENT
DTSTART;TZID=America/Chicago:20230921T000000
DTEND;TZID=America/Chicago:20260921T000000
DTSTAMP:20260419T072631
CREATED:20230921T170648Z
LAST-MODIFIED:20260408T181051Z
UID:52591-1695254400-1789948800@mecop.org
SUMMARY:Medical Errors: The Florida CME Requirement (2023)
DESCRIPTION:Discuss error prevention and risk mitigation.\nOutline important contributing factors to error.\nReview the five most misdiagnosed conditions in the state of Florida (updated 2023).\nReview legal cases from the state of Florida and discuss implications for the licensee and patient.
URL:https://mecop.org/event/medical-errors-the-florida-cme-requirement-2023-2/
LOCATION:Online Learning Web Portal
CATEGORIES:AMA,MedErrors
END:VEVENT
BEGIN:VEVENT
DTSTART;TZID=America/Chicago:20231117T000000
DTEND;TZID=America/Chicago:22031117T000000
DTSTAMP:20260419T072631
CREATED:20240105T015126Z
LAST-MODIFIED:20240105T015954Z
UID:54935-1700179200-7380374400@mecop.org
SUMMARY:Prescribing Controlled Substances
DESCRIPTION:See attachments
URL:https://mecop.org/event/prescribing-controlled-substances-5/
LOCATION:Internet Enduring Material
CATEGORIES:AMA,Prescribing of Controlled Substances
END:VEVENT
BEGIN:VEVENT
DTSTART;TZID=America/Chicago:20250805T080000
DTEND;TZID=America/Chicago:20280805T170000
DTSTAMP:20260419T072631
CREATED:20251021T163038Z
LAST-MODIFIED:20260414T143030Z
UID:65084-1754380800-1849107600@mecop.org
SUMMARY:RAISE Summit
DESCRIPTION:Explain the rationale and clinical considerations for blending calcium hydroxylapatite (CaHA) with hyaluronic acid (HA) fillers\, including rheological balance\, reversibility implications\, and safety in aesthetic applications \nApply safe injection practices in high-risk facial areas by limiting bolus volume and using anatomical landmarks to guide needle or cannula placement \nUnderstand the importance of anatomical landmarks and facial layers to ensure safe and effective injection placement with biostimulators and dermal fillers \nDifferentiate the mechanisms of action and clinical applications of CaHA and PLLA in bio-regenerative aesthetic medicine \nDescribe strategies to differentiate a medical aesthetic practice through enhanced patient experience\, comprehensive consultations\, and loyalty programs
URL:https://mecop.org/event/raise-summit/
LOCATION:Internet Enduring Material
CATEGORIES:AMA
END:VEVENT
BEGIN:VEVENT
DTSTART;TZID=America/Chicago:20260324T080000
DTEND;TZID=America/Chicago:20260324T170000
DTSTAMP:20260419T072631
CREATED:20260326T143319Z
LAST-MODIFIED:20260401T135337Z
UID:67867-1774339200-1774371600@mecop.org
SUMMARY:Allergy - How To Do It
DESCRIPTION:More than 100 million people in the U.S. experience various types of allergies each year\, but many individuals go undiagnosed due to the complexity of allergy symptoms and the lack of formal diagnosis. According to a recent survey\, 65% of individuals with unexplained symptoms discovered hidden allergens as the root cause of their ailments. This indicates that a significant number of people may not seek medical care for their allergies\, leading to an underestimation of the actual prevalence of allergic conditions. \nThis thorough\, self-paced enduring activity is designed to address the gaps that persist in allergy testing.  There are multiple evidence-based\, insurance-covered modalities for testing for allergies.  This course is designed to narrow that gap and train physician offices to expand their practice into allergy testing.  It is also designed to address the gaps in undiagnosed allergies and patient treatment by providing thorough demonstrations and outlines for assessing and treating patients with allergies. \nFollowing this program\, learners will define the etiology of URD\, pain and inflammation and outline the considerations for arriving at treatment decisions. \nLearners will apply evidence-based methodologies using history\, physical and diagnostic testing in making an accurate diagnosis. \nLearners will discuss the clinical role of skin testing and/or blood testing for IGE in determining the true etiology as well as their benefit in the disease management process. \nFinally\, learners will incorporate the best suited management options and conduct appropriate testing and treating.
URL:https://mecop.org/event/ace-program/
LOCATION:Internet Enduring Material
CATEGORIES:AMA
END:VEVENT
BEGIN:VEVENT
DTSTART;TZID=America/Chicago:20260325T080000
DTEND;TZID=America/Chicago:20260325T170000
DTSTAMP:20260419T072631
CREATED:20260219T145100Z
LAST-MODIFIED:20260326T184156Z
UID:67441-1774425600-1774458000@mecop.org
SUMMARY:Andalusia Health Grand Rounds
DESCRIPTION:Importance of clinical validation\, documentation requirements for diagnoses to meet payor’s guidelines\, a review of most common queries from the CDI specialist\, and most frequent discussions CDI has with payors.
URL:https://mecop.org/event/andalusia-health-grand-rounds-9/
LOCATION:Andalusia Health
CATEGORIES:AMA
END:VEVENT
BEGIN:VEVENT
DTSTART;TZID=America/Chicago:20260325T080000
DTEND;TZID=America/Chicago:20260325T170000
DTSTAMP:20260419T072631
CREATED:20260327T120233Z
LAST-MODIFIED:20260327T120233Z
UID:67882-1774425600-1774458000@mecop.org
SUMMARY:General Adult Tumor Board 2026
DESCRIPTION:Unavailable
URL:https://mecop.org/event/general-adult-tumor-board-2026-7/
LOCATION:Ascension Sacred Heart Hospital\, FL
CATEGORIES:AMA
END:VEVENT
BEGIN:VEVENT
DTSTART;TZID=America/Chicago:20260325T120000
DTEND;TZID=America/Chicago:20260325T130000
DTSTAMP:20260419T072631
CREATED:20260303T131102Z
LAST-MODIFIED:20260309T111223Z
UID:67560-1774440000-1774443600@mecop.org
SUMMARY:MUSM Rural Autism ECHO: Strategies for Improving Healthcare for Autistic Patients in Rural Georgia
DESCRIPTION:Describe common life outcomes and challenges experienced by autistic adults. \nAnalyze barriers autistic adults may face in accessing employment\, housing\, and mental health services. \nExplain key considerations for caregivers and physicians when supporting autistic adolescents transitioning into young adulthood. \nIdentify appropriate approaches for discussing sensitive issues such as sexuality with autistic young adults.
URL:https://mecop.org/event/rural-autism-echo-strategies-for-improving-healthcare-for-autistic-patients-in-rural-georgia-3/
LOCATION:Virtual
CATEGORIES:AMA
END:VEVENT
BEGIN:VEVENT
DTSTART;TZID=America/Chicago:20260325T123000
DTEND;TZID=America/Chicago:20260325T133000
DTSTAMP:20260419T072631
CREATED:20260305T215229Z
LAST-MODIFIED:20260410T165949Z
UID:67617-1774441800-1774445400@mecop.org
SUMMARY:MUSM Internal Medicine Grand Rounds
DESCRIPTION:Recognize the landscape of modern oncology therapies relevant to internal medicine physicians.\nExplain the mechanisms of action and toxicity profiles of key drug classes (BiTEs\, checkpoint inhibitors\, CAR-T\, antibody-drug conjugates [ADCs] and TKIs).\nIdentify the clinical features and grading criteria for CRS and ICANS.\nApply evidence-based monitoring and management strategies for oncology-related toxicities.TBA
URL:https://mecop.org/event/musm-internal-medicine-grand-rounds-7/
LOCATION:Live Activity
CATEGORIES:AMA
END:VEVENT
BEGIN:VEVENT
DTSTART;TZID=America/Chicago:20260326T080000
DTEND;TZID=America/Chicago:20260326T170000
DTSTAMP:20260419T072631
CREATED:20260327T120836Z
LAST-MODIFIED:20260331T153907Z
UID:67884-1774512000-1774544400@mecop.org
SUMMARY:Conjunctival Pyogenic Granulomas During Lung Cancer Therapy
DESCRIPTION:Unavailable
URL:https://mecop.org/event/conjunctival-pyogenic-granulomas-during-lung-cancer-therapy/
LOCATION:Journal based CME activity
CATEGORIES:AMA
END:VEVENT
BEGIN:VEVENT
DTSTART;TZID=America/Chicago:20260326T080000
DTEND;TZID=America/Chicago:20260326T170000
DTSTAMP:20260419T072631
CREATED:20260327T121448Z
LAST-MODIFIED:20260331T154110Z
UID:67888-1774512000-1774544400@mecop.org
SUMMARY:Treatment of Helicobacter Pylori Infection
DESCRIPTION:Unavailable
URL:https://mecop.org/event/treatment-of-helicobacter-pylori-infection/
LOCATION:Journal based CME activity
CATEGORIES:AMA
END:VEVENT
BEGIN:VEVENT
DTSTART;TZID=America/Chicago:20260326T080000
DTEND;TZID=America/Chicago:20260326T170000
DTSTAMP:20260419T072631
CREATED:20260327T122022Z
LAST-MODIFIED:20260331T154701Z
UID:67891-1774512000-1774544400@mecop.org
SUMMARY:Current Challenges in Imaging-Based Cancer Screening
DESCRIPTION:Unavailable
URL:https://mecop.org/event/current-challenges-in-imaging-based-cancer-screening/
LOCATION:Enduring Activity
CATEGORIES:AMA
END:VEVENT
BEGIN:VEVENT
DTSTART;TZID=America/Chicago:20260326T080000
DTEND;TZID=America/Chicago:20260326T170000
DTSTAMP:20260419T072631
CREATED:20260401T171435Z
LAST-MODIFIED:20260401T171440Z
UID:68060-1774512000-1774544400@mecop.org
SUMMARY:FADAA Understanding Buprenorphine: Uses\, Benefits\, and Considerations
DESCRIPTION:Describe buprenorphine and outline how it fits into the framework of medication-assisted treatment (MAT)Recognize how buprenorphine works as a partial opioid agonist and its effects on the brain’s opioid receptors\, including protocols for starting\, adjusting\, and maintaining therapy\nDiscuss policies and regulations surrounding buprenorphine prescribing\, including the role of waivered providers
URL:https://mecop.org/event/fadaa-understanding-buprenorphine-uses-benefits-and-considerations/
LOCATION:Internet Enduring Material
CATEGORIES:AMA
END:VEVENT
BEGIN:VEVENT
DTSTART;TZID=America/Chicago:20260326T120000
DTEND;TZID=America/Chicago:20260326T130000
DTSTAMP:20260419T072631
CREATED:20260313T185519Z
LAST-MODIFIED:20260414T171744Z
UID:67729-1774526400-1774530000@mecop.org
SUMMARY:MUSM Clinical Faculty Development Series
DESCRIPTION:1. Explain how agricultural practices\, food processing\, storage\, and preparation affect nutrient density across the food journey.\n2. Describe how poverty\, rural geography\, and structural barriers (transportation\, refrigeration\, cost\, and retail access) influence food choices and nutritional quality.\n3. Identify key points of nutrient loss and excess (e.g.\, sodium\, added sugars) from grocery purchase through home preparation\, particularly in low-access settings.\n4. Apply practical\, evidence-based\, and harm-reduction strategies to support nutrition preservation and chronic disease prevention in underserved patients.
URL:https://mecop.org/event/musm-clinical-faculty-development-series-58/
LOCATION:Virtual
CATEGORIES:AMA
END:VEVENT
BEGIN:VEVENT
DTSTART;TZID=America/Chicago:20260328T080000
DTEND;TZID=America/Chicago:20260328T170000
DTSTAMP:20260419T072631
CREATED:20260401T165240Z
LAST-MODIFIED:20260401T165247Z
UID:68058-1774684800-1774717200@mecop.org
SUMMARY:Allergy - How To Do It
DESCRIPTION:More than 100 million people in the U.S. experience various types of allergies each year\, but many individuals go undiagnosed due to the complexity of allergy symptoms and the lack of formal diagnosis. According to a recent survey\, 65% of individuals with unexplained symptoms discovered hidden allergens as the root cause of their ailments. This indicates that a significant number of people may not seek medical care for their allergies\, leading to an underestimation of the actual prevalence of allergic conditions. \nThis thorough\, self-paced enduring activity is designed to address the gaps that persist in allergy testing.  There are multiple evidence-based\, insurance-covered modalities for testing for allergies.  This course is designed to narrow that gap and train physician offices to expand their practice into allergy testing.  It is also designed to address the gaps in undiagnosed allergies and patient treatment by providing thorough demonstrations and outlines for assessing and treating patients with allergies. \nFollowing this program\, learners will define the etiology of URD\, pain and inflammation and outline the considerations for arriving at treatment decisions. \nLearners will apply evidence-based methodologies using history\, physical and diagnostic testing in making an accurate diagnosis. \nLearners will discuss the clinical role of skin testing and/or blood testing for IGE in determining the true etiology as well as their benefit in the disease management process. \nFinally\, learners will incorporate the best suited management options and conduct appropriate testing and treating.
URL:https://mecop.org/event/allergy-how-to-do-it/
LOCATION:Internet Enduring Material
CATEGORIES:AMA
END:VEVENT
BEGIN:VEVENT
DTSTART;TZID=America/Chicago:20260329T080000
DTEND;TZID=America/Chicago:20260329T170000
DTSTAMP:20260419T072631
CREATED:20260331T151508Z
LAST-MODIFIED:20260331T151631Z
UID:68012-1774771200-1774803600@mecop.org
SUMMARY:Caring for Adult Patients With Sepsis
DESCRIPTION:Unavailable
URL:https://mecop.org/event/caring-for-adult-patients-with-sepsis/
LOCATION:Journal based CME activity
CATEGORIES:AMA
END:VEVENT
BEGIN:VEVENT
DTSTART;TZID=America/Chicago:20260329T080000
DTEND;TZID=America/Chicago:20260329T170000
DTSTAMP:20260419T072631
CREATED:20260331T152322Z
LAST-MODIFIED:20260331T152435Z
UID:68016-1774771200-1774803600@mecop.org
SUMMARY:Ambulatory Blood Pressure Monitoring
DESCRIPTION:Unavailable
URL:https://mecop.org/event/ambulatory-blood-pressure-monitoring/
LOCATION:Journal based CME activity
CATEGORIES:AMA
END:VEVENT
BEGIN:VEVENT
DTSTART;TZID=America/Chicago:20260329T080000
DTEND;TZID=America/Chicago:20260329T170000
DTSTAMP:20260419T072631
CREATED:20260331T152743Z
LAST-MODIFIED:20260331T152847Z
UID:68019-1774771200-1774803600@mecop.org
SUMMARY:Resistant Hypertension: A Review
DESCRIPTION:Unavailable
URL:https://mecop.org/event/resistant-hypertension-a-review/
LOCATION:Journal based CME activity
CATEGORIES:AMA
END:VEVENT
BEGIN:VEVENT
DTSTART;TZID=America/Chicago:20260329T080000
DTEND;TZID=America/Chicago:20260329T170000
DTSTAMP:20260419T072631
CREATED:20260331T153213Z
LAST-MODIFIED:20260331T153530Z
UID:68022-1774771200-1774803600@mecop.org
SUMMARY:Management of Hypertension in Adults
DESCRIPTION:Unavailable
URL:https://mecop.org/event/management-of-hypertension-in-adults/
LOCATION:Journal based CME activity
CATEGORIES:AMA
END:VEVENT
BEGIN:VEVENT
DTSTART;TZID=America/Chicago:20260401T123000
DTEND;TZID=America/Chicago:20260401T133000
DTSTAMP:20260419T072631
CREATED:20260119T213936Z
LAST-MODIFIED:20260418T181346Z
UID:66906-1775046600-1775050200@mecop.org
SUMMARY:MUSM Internal Medicine Grand Rounds
DESCRIPTION:Educate on ASB  \nReview IDSA updated July 2025 Complicated UTI guidelines
URL:https://mecop.org/event/musm-internal-medicine-grand-rounds-5/
LOCATION:Live Activity
CATEGORIES:AMA
END:VEVENT
BEGIN:VEVENT
DTSTART;TZID=America/Chicago:20260403T080000
DTEND;TZID=America/Chicago:20260403T170000
DTSTAMP:20260419T072631
CREATED:20260408T182525Z
LAST-MODIFIED:20260408T182714Z
UID:68102-1775203200-1775235600@mecop.org
SUMMARY:PS Wellness and Aesthetics Peptide Guide
DESCRIPTION:Provide e a thorough overview of each peptide\, including its purpose\, benefits\, risks\, and usage protocols.\nOutline clear instructions on the informed consent process\, including necessary disclaimers about FDA approval status.\nDiscuss recommendations for monitoring and managing patient care using peptide therapies.\nReference for healthcare providers on the latest developments in peptide therapies.
URL:https://mecop.org/event/ps-wellness-and-aesthetics-peptide-guide-2/
LOCATION:Enduring Material
CATEGORIES:AMA
END:VEVENT
BEGIN:VEVENT
DTSTART;TZID=America/Chicago:20260403T080000
DTEND;TZID=America/Chicago:20260403T170000
DTSTAMP:20260419T072631
CREATED:20260408T183230Z
LAST-MODIFIED:20260408T184417Z
UID:68105-1775203200-1775235600@mecop.org
SUMMARY:Confidence Lab Cadaver Course: Anatomy in Practice - Safe Injection Mapping
DESCRIPTION:Understand 3D anatomy of the face\nIdentify high risk vascular zones\nCorrelate cadaver dissection with injection safety\nImprove confidence in injection planning & technique
URL:https://mecop.org/event/confidence-lab-cadaver-course-anatomy-in-practice-safe-injection-mapping-2/
LOCATION:Chicago\, IL
CATEGORIES:AMA
END:VEVENT
BEGIN:VEVENT
DTSTART;TZID=America/Chicago:20260404T080000
DTEND;TZID=America/Chicago:20260404T170000
DTSTAMP:20260419T072631
CREATED:20260408T185806Z
LAST-MODIFIED:20260408T185812Z
UID:68108-1775289600-1775322000@mecop.org
SUMMARY:Allergy - How To Do It
DESCRIPTION:More than 100 million people in the U.S. experience various types of allergies each year\, but many individuals go undiagnosed due to the complexity of allergy symptoms and the lack of formal diagnosis. According to a recent survey\, 65% of individuals with unexplained symptoms discovered hidden allergens as the root cause of their ailments. This indicates that a significant number of people may not seek medical care for their allergies\, leading to an underestimation of the actual prevalence of allergic conditions. \nThis thorough\, self-paced enduring activity is designed to address the gaps that persist in allergy testing.  There are multiple evidence-based\, insurance-covered modalities for testing for allergies.  This course is designed to narrow that gap and train physician offices to expand their practice into allergy testing.  It is also designed to address the gaps in undiagnosed allergies and patient treatment by providing thorough demonstrations and outlines for assessing and treating patients with allergies. \nFollowing this program\, learners will define the etiology of URD\, pain and inflammation and outline the considerations for arriving at treatment decisions. \nLearners will apply evidence-based methodologies using history\, physical and diagnostic testing in making an accurate diagnosis. \nLearners will discuss the clinical role of skin testing and/or blood testing for IGE in determining the true etiology as well as their benefit in the disease management process. \nFinally\, learners will incorporate the best suited management options and conduct appropriate testing and treating.
URL:https://mecop.org/event/allergy-how-to-do-it-2/
LOCATION:Internet Enduring Material
CATEGORIES:AMA
END:VEVENT
BEGIN:VEVENT
DTSTART;TZID=America/Chicago:20260407T173000
DTEND;TZID=America/Chicago:20260407T193000
DTSTAMP:20260419T072631
CREATED:20260408T212728Z
LAST-MODIFIED:20260412T185809Z
UID:68117-1775583000-1775590200@mecop.org
SUMMARY:FSU-Pensacola
DESCRIPTION:General Overview of Normal Sleep\nPrevalence of Different Sleep Disorders\nGuide for PCP Evaluating Sleep Disorders
URL:https://mecop.org/event/fsu-college-of-medicine-6/
LOCATION:Pensacola Regional Campus\, 11000 University Parkway Bldg 234\, 2nd Floor\, Pensacola\, FL\, 32514-5750\, United States
CATEGORIES:AMA
END:VEVENT
BEGIN:VEVENT
DTSTART;TZID=America/Chicago:20260407T180000
DTEND;TZID=America/Chicago:20260407T200000
DTSTAMP:20260419T072631
CREATED:20260310T194212Z
LAST-MODIFIED:20260326T125527Z
UID:67675-1775584800-1775592000@mecop.org
SUMMARY:FSU-Daytona Beach
DESCRIPTION:Understand our Educational Model and your role as mentor and teacher\, Understand the curriculum\, know how to provide feedback\, Know how to evaluate the students.
URL:https://mecop.org/event/florida-state-university-college-of-medicine-daytona-beach-regional-campus-2/
LOCATION:Zoom
CATEGORIES:AMA
END:VEVENT
BEGIN:VEVENT
DTSTART;TZID=America/Chicago:20260407T180000
DTEND;TZID=America/Chicago:20260407T200000
DTSTAMP:20260419T072631
CREATED:20260310T194840Z
LAST-MODIFIED:20260326T125625Z
UID:67678-1775584800-1775592000@mecop.org
SUMMARY:FSU-Daytona Beach
DESCRIPTION:Access the library web site from off campus on computers and mobile devices. Systematically navigate the e-library in order to locate and browse resources\, including e-journals\, e-books\, patient education handouts and materials\, drug and disease information.\nGet help from a librarian with the library resources.  Get help with loading and using medical apps.
URL:https://mecop.org/event/florida-state-university-college-of-medicine-daytona-beach-regional-campus-3/
LOCATION:Zoom
CATEGORIES:AMA
END:VEVENT
BEGIN:VEVENT
DTSTART;TZID=America/Chicago:20260408T080000
DTEND;TZID=America/Chicago:20260408T170000
DTSTAMP:20260419T072631
CREATED:20260328T185050Z
LAST-MODIFIED:20260416T200818Z
UID:67979-1775635200-1775667600@mecop.org
SUMMARY:Andalusia Health Tumor Board
DESCRIPTION:Unavailable
URL:https://mecop.org/event/andalusia-health-tumor-board-5/
LOCATION:Virtual
CATEGORIES:AMA
END:VEVENT
BEGIN:VEVENT
DTSTART;TZID=America/Chicago:20260408T080000
DTEND;TZID=America/Chicago:20260408T170000
DTSTAMP:20260419T072631
CREATED:20260408T175647Z
LAST-MODIFIED:20260408T181730Z
UID:68094-1775635200-1775667600@mecop.org
SUMMARY:VIP Care Performance Forum
DESCRIPTION:
URL:https://mecop.org/event/vip-care-performance-forum-15/
LOCATION:Virtual
CATEGORIES:AMA
END:VEVENT
END:VCALENDAR