BEGIN:VCALENDAR
VERSION:2.0
PRODID:-//Mecop - ECPv6.5.1.5//NONSGML v1.0//EN
CALSCALE:GREGORIAN
METHOD:PUBLISH
X-ORIGINAL-URL:https://mecop.org
X-WR-CALDESC:Events for Mecop
REFRESH-INTERVAL;VALUE=DURATION:PT1H
X-Robots-Tag:noindex
X-PUBLISHED-TTL:PT1H
BEGIN:VTIMEZONE
TZID:America/Chicago
BEGIN:DAYLIGHT
TZOFFSETFROM:-0600
TZOFFSETTO:-0500
TZNAME:CDT
DTSTART:20250309T080000
END:DAYLIGHT
BEGIN:STANDARD
TZOFFSETFROM:-0500
TZOFFSETTO:-0600
TZNAME:CST
DTSTART:20251102T070000
END:STANDARD
END:VTIMEZONE
BEGIN:VEVENT
DTSTART;TZID=America/Chicago:20250328T080000
DTEND;TZID=America/Chicago:20250328T170000
DTSTAMP:20260422T033916
CREATED:20250623T203522Z
LAST-MODIFIED:20251205T172717Z
UID:63399-1743148800-1743181200@mecop.org
SUMMARY:2025 Faculty Teaching Credits Cardiology Clerkship
DESCRIPTION:Unavailable
URL:https://mecop.org/event/2025-faculty-teaching-credits-cardiology-clerkship/
LOCATION:Orlando Regional Campus\, Orlando\, FL\, United States
CATEGORIES:AMA
END:VEVENT
BEGIN:VEVENT
DTSTART;TZID=America/Chicago:20250328T080000
DTEND;TZID=America/Chicago:20250328T170000
DTSTAMP:20260422T033916
CREATED:20250724T194710Z
LAST-MODIFIED:20250724T194837Z
UID:63825-1743148800-1743181200@mecop.org
SUMMARY:2025 Faculty Teaching Credits Healthy Equity
DESCRIPTION:Unavailable
URL:https://mecop.org/event/2025-faculty-teaching-credits-healthy-equity/
LOCATION:Tallahassee Regional Campus\, Tallahassee\, FL\, United States
CATEGORIES:AMA
END:VEVENT
BEGIN:VEVENT
DTSTART;TZID=America/Chicago:20250328T080000
DTEND;TZID=America/Chicago:20250328T170000
DTSTAMP:20260422T033916
CREATED:20250731T143701Z
LAST-MODIFIED:20251114T141256Z
UID:63927-1743148800-1743181200@mecop.org
SUMMARY:2025 Faculty Teaching Credits Rheumatology Clerkship
DESCRIPTION:Unavailable
URL:https://mecop.org/event/2025-faculty-teaching-credits-rheumatology-clerkship/
LOCATION:Tallahassee Regional Campus\, Tallahassee\, FL\, United States
CATEGORIES:AMA
END:VEVENT
BEGIN:VEVENT
DTSTART;TZID=America/Chicago:20250328T080000
DTEND;TZID=America/Chicago:20250328T170000
DTSTAMP:20260422T033916
CREATED:20251204T001559Z
LAST-MODIFIED:20251215T000542Z
UID:66076-1743148800-1743181200@mecop.org
SUMMARY:2025 Faculty Teaching Credits Internal Medicine/Hospitalist Clerkship
DESCRIPTION:Unavailable
URL:https://mecop.org/event/2025-faculty-teaching-credits-internal-medicine-hospitalist-clerkship/
LOCATION:Pensacola Regional Campus\, 11000 University Parkway Bldg 234\, 2nd Floor\, Pensacola\, FL\, 32514-5750\, United States
CATEGORIES:AMA
END:VEVENT
BEGIN:VEVENT
DTSTART;TZID=America/Chicago:20250328T080000
DTEND;TZID=America/Chicago:20250329T170000
DTSTAMP:20260422T033916
CREATED:20250331T162650Z
LAST-MODIFIED:20250331T163934Z
UID:61965-1743148800-1743267600@mecop.org
SUMMARY:Method Aesthetics Academy: Level 2 Training
DESCRIPTION:Upon completion\, learners will:\nAssess and place lower face neuromodulators and neuromodulators for medical necessity\nPlace and inject dermal filler for tear troughs\, temples\, brow bone\, jaw and chin\nSelect\, place and utilize cannulas effectively
URL:https://mecop.org/event/method-aesthetics-academy-level-2-training-7/
LOCATION:Mela MedSpa
CATEGORIES:AMA
END:VEVENT
BEGIN:VEVENT
DTSTART;TZID=America/Chicago:20250329T080000
DTEND;TZID=America/Chicago:20250329T170000
DTSTAMP:20260422T033916
CREATED:20250401T165315Z
LAST-MODIFIED:20260120T155650Z
UID:61982-1743235200-1743267600@mecop.org
SUMMARY:Cerumen and Ear Foreign-Body Removal Course
DESCRIPTION:Assess pediatric and adult patients who present with ear concerns relating to cerumen impaction and foreign bodies. \nDetermine the best method for retrieval or irrigation. \nUtilize the irrigation tools safely and effectively to remove cerumen and ear foreign bodies. \nAssess risk and refer appropriately. \nApply the appropriate ICD-10 and CPT codes for cerumen and foreign body removal diagnostics and procedures.
URL:https://mecop.org/event/cerumen-removal-course/
LOCATION:Internet Enduring Material
CATEGORIES:AMA
END:VEVENT
BEGIN:VEVENT
DTSTART;TZID=America/Chicago:20250401T080000
DTEND;TZID=America/Chicago:20250401T170000
DTSTAMP:20260422T033916
CREATED:20250325T190538Z
LAST-MODIFIED:20250412T174435Z
UID:61783-1743494400-1743526800@mecop.org
SUMMARY:MUSM Clinical Faculty Development Series
DESCRIPTION:Explain and apply the principles of ethical authorship.\nExplain the function of article processing charges (APCs).\nDifferentiate between traditional\, open access (OA)\, and hybrid publishing.\nExplain your rights as an author and transferring copyright.\nRecognize the benefits/challenges of OA compared to traditional publishing.\nIdentify and avoid predatory publishing.\nDistinguish between predatory vs low quality journals.\nExplain the difference between public access and OA.\nLocate reputable and relevant OA journals using Journalytics.\nVet journals using indexing status\, impact factor/ranking\, and other metrics.\nIdentify OA journals with APC coverage via Mercer University agreements.
URL:https://mecop.org/event/musm-clinical-faculty-development-series-38/
LOCATION:Live
CATEGORIES:AMA
END:VEVENT
BEGIN:VEVENT
DTSTART;TZID=America/Chicago:20250401T080000
DTEND;TZID=America/Chicago:20250401T170000
DTSTAMP:20260422T033916
CREATED:20250408T173147Z
LAST-MODIFIED:20250501T203903Z
UID:62069-1743494400-1743526800@mecop.org
SUMMARY:FSU Fundamentals of Teaching in the FSU COM Clinical Education Program II Module
DESCRIPTION:Unavailable
URL:https://mecop.org/event/fsu-fundamentals-of-teaching-in-the-fsu-com-clinical-education-program-ii-module-14/
LOCATION:Enduring Material
CATEGORIES:AMA
END:VEVENT
BEGIN:VEVENT
DTSTART;TZID=America/Chicago:20250401T080000
DTEND;TZID=America/Chicago:20250401T170000
DTSTAMP:20260422T033916
CREATED:20250520T143428Z
LAST-MODIFIED:20250520T143641Z
UID:62950-1743494400-1743526800@mecop.org
SUMMARY:PEEP Risk Adjustment and Best Practices for Documentation and Coding
DESCRIPTION:Review CMS-HCC risk adjustment model and why it is important\nReview specific official ICD-10-CM coding guidelines and how they are applied for HCC diagnosis coding\nIdentify elements of the medical record that help support the validation of an HCC diagnosis condition\nIdentify documentation deficiencies for specific conditions.
URL:https://mecop.org/event/peep-risk-adjustment-and-best-practices-for-documentation-and-coding-3/
LOCATION:Internet Enduring Material
CATEGORIES:AMA
END:VEVENT
BEGIN:VEVENT
DTSTART;TZID=America/Chicago:20250401T080000
DTEND;TZID=America/Chicago:20250401T170000
DTSTAMP:20260422T033916
CREATED:20250520T214409Z
LAST-MODIFIED:20250520T214416Z
UID:62974-1743494400-1743526800@mecop.org
SUMMARY:PEEP The Cider House Rules of Risk Adjustment
DESCRIPTION:See content
URL:https://mecop.org/event/peep-the-cider-house-rules-of-risk-adjustment-2/
LOCATION:Internet Enduring Material
CATEGORIES:AMA
END:VEVENT
BEGIN:VEVENT
DTSTART;TZID=America/Chicago:20250402T080000
DTEND;TZID=America/Chicago:20250402T170000
DTSTAMP:20260422T033916
CREATED:20250425T231915Z
LAST-MODIFIED:20250425T232104Z
UID:62238-1743580800-1743613200@mecop.org
SUMMARY:KAMAP Introduction to Dermal Fillers
DESCRIPTION:Explain the mechanism of action of hyaluronic acid dermal fillers.\nIdentify safe prescribing practices of hyaluronic acid dermal fillers\nDemonstrate safe administration of hyaluronic acid dermal fillers\nAnticipate the risk of side effects\, adverse events\, and complications of administration of hyaluronic acid dermal fillers.\nOutline possible side effects of hyaluronic acid dermal fillers.\nUnderstand management of emergent complications of hyaluronic acid dermal fillers.
URL:https://mecop.org/event/kamap-introduction-to-dermal-fillers-5/
LOCATION:Live Course
CATEGORIES:AMA
END:VEVENT
BEGIN:VEVENT
DTSTART;TZID=America/Chicago:20250402T080000
DTEND;TZID=America/Chicago:20250411T170000
DTSTAMP:20260422T033916
CREATED:20250425T231700Z
LAST-MODIFIED:20250425T232134Z
UID:62236-1743580800-1744390800@mecop.org
SUMMARY:KAMAP Introduction to Neuromodulators
DESCRIPTION:Explain the mechanism of action of neuromodulators.\nIdentify safe prescribing practices of neuromodulators.\nDemonstrate safe administration of neuromodulators.\nAnticipate the risk of side effects\, adverse events\, and complications of administration of neuromodulators.\nOutline possible side effects of neuromodulator administration.
URL:https://mecop.org/event/kamap-introduction-to-neuromodulators-7/
LOCATION:Live Course
CATEGORIES:AMA
END:VEVENT
BEGIN:VEVENT
DTSTART;TZID=America/Chicago:20250403T080000
DTEND;TZID=America/Chicago:20250403T170000
DTSTAMP:20260422T033916
CREATED:20250408T113943Z
LAST-MODIFIED:20250408T114139Z
UID:62062-1743667200-1743699600@mecop.org
SUMMARY:2025 Faculty Teaching Credits Oncology Clerkship
DESCRIPTION:Unavailable
URL:https://mecop.org/event/2025-faculty-teaching-credits-oncology-clerkship/
LOCATION:Tallahassee Regional Campus\, Tallahassee\, FL\, United States
CATEGORIES:AMA
END:VEVENT
BEGIN:VEVENT
DTSTART;TZID=America/Chicago:20250403T080000
DTEND;TZID=America/Chicago:20250403T170000
DTSTAMP:20260422T033916
CREATED:20250408T190635Z
LAST-MODIFIED:20250408T191001Z
UID:62074-1743667200-1743699600@mecop.org
SUMMARY:Pridopidine in Amyotrophic Lateral Sclerosis:
DESCRIPTION:Unavailable
URL:https://mecop.org/event/pridopidine-in-amyotrophic-lateral-sclerosis/
LOCATION:Enduring Material
CATEGORIES:AMA
END:VEVENT
BEGIN:VEVENT
DTSTART;TZID=America/Chicago:20250403T080000
DTEND;TZID=America/Chicago:20250403T170000
DTSTAMP:20260422T033916
CREATED:20250408T191223Z
LAST-MODIFIED:20250408T191339Z
UID:62077-1743667200-1743699600@mecop.org
SUMMARY:A 25-Year-Old With Verrucous Pustules and Fever
DESCRIPTION:Unavailable
URL:https://mecop.org/event/a-25-year-old-with-verrucous-pustules-and-fever/
LOCATION:Enduring Material
CATEGORIES:AMA
END:VEVENT
BEGIN:VEVENT
DTSTART;TZID=America/Chicago:20250404T080000
DTEND;TZID=America/Chicago:20250404T170000
DTSTAMP:20260422T033916
CREATED:20250409T183602Z
LAST-MODIFIED:20250501T203800Z
UID:62093-1743753600-1743786000@mecop.org
SUMMARY:FSU Fundamentals of Teaching in the FSU COM Clinical Education Program I Module
DESCRIPTION:Unavailable
URL:https://mecop.org/event/fsu-fundamentals-of-teaching-in-the-fsu-com-clinical-education-program-i-module-11/
LOCATION:Enduring Material
CATEGORIES:AMA
END:VEVENT
BEGIN:VEVENT
DTSTART;TZID=America/Chicago:20250404T080000
DTEND;TZID=America/Chicago:20250404T170000
DTSTAMP:20260422T033916
CREATED:20250430T134247Z
LAST-MODIFIED:20250705T171925Z
UID:62263-1743753600-1743786000@mecop.org
SUMMARY:Pediatric Associates Asthma Refresher Series: Asthma Guidelines
DESCRIPTION:
URL:https://mecop.org/event/pediatric-associates-asthma-refresher/
LOCATION:Zoom
CATEGORIES:AMA
END:VEVENT
BEGIN:VEVENT
DTSTART;TZID=America/Chicago:20250404T080000
DTEND;TZID=America/Chicago:20250404T170000
DTSTAMP:20260422T033916
CREATED:20250808T210829Z
LAST-MODIFIED:20250808T210937Z
UID:64022-1743753600-1743786000@mecop.org
SUMMARY:Pediatric Associates Asthma Refresher Series: Asthma Overview "Back to Basics"
DESCRIPTION:
URL:https://mecop.org/event/pediatric-associates-asthma-refresher-series-asthma-overview-back-to-basics/
CATEGORIES:AMA
END:VEVENT
BEGIN:VEVENT
DTSTART;TZID=America/Chicago:20250405T090000
DTEND;TZID=America/Chicago:20250405T173000
DTSTAMP:20260422T033916
CREATED:20250318T174054Z
LAST-MODIFIED:20250410T190001Z
UID:61709-1743843600-1743874200@mecop.org
SUMMARY:Sickle Cell Disease:
DESCRIPTION:1. Discuss the rationale for\nimplementation of the\nCommunity Education Project.\n2 List three best practices for the\napproach to delivery of care to\nthe Sickle Cell Population.\n3. Analyze the need for\nestablishment of policy related\nto the care of individuals with\nSickle Cell disease.\n4. State three actions taken by\nthe legislature to improve\ndelivery of care to the sickle cell\npopulation.\n5. Discuss actions that can be\ntaken on the local\, regional\,\nand national level to assist in\nestablishing best practices for\ndelivery of care to the sickle cell\npopulation.\n6. State three activities that\ncontribute to the development\nof policy for the approach to the\ntreatment of patients with sickle\ncell disease.
URL:https://mecop.org/event/sickle-cell-disease-2/
LOCATION:Holiday Inn\, 2003 Apalachee Parkway\, Tallahassee\, FL\, 32301\, United States
CATEGORIES:AMA
END:VEVENT
BEGIN:VEVENT
DTSTART;TZID=America/Chicago:20250408T080000
DTEND;TZID=America/Chicago:20250408T170000
DTSTAMP:20260422T033916
CREATED:20250516T161454Z
LAST-MODIFIED:20250516T161500Z
UID:62915-1744099200-1744131600@mecop.org
SUMMARY:PEEP Risk Adjustment and The Empire Strikes Back with Diabetes
DESCRIPTION:
URL:https://mecop.org/event/peep-risk-adjustment-and-the-empire-strikes-back-with-diabetes/
LOCATION:Internet Enduring Material
CATEGORIES:AMA
END:VEVENT
BEGIN:VEVENT
DTSTART;TZID=America/Chicago:20250408T120000
DTEND;TZID=America/Chicago:20250408T130000
DTSTAMP:20260422T033916
CREATED:20250324T133331Z
LAST-MODIFIED:20250422T133241Z
UID:61756-1744113600-1744117200@mecop.org
SUMMARY:MUSM Clinical Faculty Development Series
DESCRIPTION:1. Define Cardiovascular Health (CVH) Participants will be able to clearly define cardiovascular health and explain its importance in preventing cardiovascular disease and maintaining overall well-being. \n2. Identify Key Metrics for Cardiovascular Health Participants will understand the key metrics used to assess cardiovascular health. \n3. Explain the Relationship Between CVH Metrics and Cardiovascular Disease Outcomes Attendees will be able to explain how the CVH metrics aggregate correlates with the risk of developing cardiovascular diseases and other related health conditions. \n4. Explain the Impact of Suboptimal CVH on Long-term Health Attendees will understand how deviations from ideal CVH\, increase the risk of heart disease\, stroke\, and other chronic conditions. \n5. Identify Strategies for Achieving and Maintaining Ideal CVH. \n6. Describe evidence-based strategies and lifestyle changes\, that promote and maintain ideal cardiovascular health.
URL:https://mecop.org/event/musm-clinical-faculty-development-series-37/
LOCATION:Live
CATEGORIES:AMA
END:VEVENT
BEGIN:VEVENT
DTSTART;TZID=America/Chicago:20250409T080000
DTEND;TZID=America/Chicago:20250409T170000
DTSTAMP:20260422T033916
CREATED:20250409T210849Z
LAST-MODIFIED:20250410T211001Z
UID:62101-1744185600-1744218000@mecop.org
SUMMARY:Risk Adjustment and Top Gun Coding Tips for Cancer
DESCRIPTION:Review CMS-HCC risk adjustment model and why it is important\nReview specific official ICD-10-CM coding guidelines and how they are applied for HCC diagnosis coding\nIdentify elements of the medical record that help support the validation of an HCC diagnosis condition\nIdentify documentation deficiencies for specific conditions.
URL:https://mecop.org/event/risk-adjustment-and-top-gun-coding-tips-for-cancer/
LOCATION:Live Webinar
CATEGORIES:AMA
END:VEVENT
BEGIN:VEVENT
DTSTART;TZID=America/Chicago:20250409T080000
DTEND;TZID=America/Chicago:20250409T170000
DTSTAMP:20260422T033916
CREATED:20250411T114104Z
LAST-MODIFIED:20250429T174940Z
UID:62123-1744185600-1744218000@mecop.org
SUMMARY:VIP Care Performance Forum
DESCRIPTION:
URL:https://mecop.org/event/vip-care-performance-forum-4/
LOCATION:Virtual
CATEGORIES:AMA
END:VEVENT
BEGIN:VEVENT
DTSTART;TZID=America/Chicago:20250409T123000
DTEND;TZID=America/Chicago:20250409T133000
DTSTAMP:20260422T033916
CREATED:20250116T174217Z
LAST-MODIFIED:20250822T194028Z
UID:60631-1744201800-1744205400@mecop.org
SUMMARY:MUSM Pediatric Alliance Webinar Series
DESCRIPTION:1. Participants should be able to name at least 3 key signs and symptoms associated with measles infection\n2. Participants should be able to explain what diagnostic test(s) are useful in confirming measles infection and identify important next steps for protecting the public’s health\n3. Participants should be able to refresh their working knowledge regarding the MMR vaccine\, including how it works\, dosing regimen\, etc\, to prepare for conversations with parents.
URL:https://mecop.org/event/musm-pediatric-alliance-webinar-series-3/
LOCATION:Virtual
CATEGORIES:AMA
END:VEVENT
BEGIN:VEVENT
DTSTART;TZID=America/Chicago:20250409T180300
DTEND;TZID=America/Chicago:20250409T200300
DTSTAMP:20260422T033916
CREATED:20250318T144339Z
LAST-MODIFIED:20250516T154523Z
UID:61700-1744221780-1744228980@mecop.org
SUMMARY:FSU-Sarasota
DESCRIPTION:As a result of attending this session\, participants will be able to:\n1. Analyze and Review the Pediatric Clerkship General Course Overview\, Objectives and Required\n2. Share successful teaching practices\n3. Discuss Grading Policy Changes\n4. Review Pediatric Clerkship Data\, Comparability among campuses and look for Trends\, Opportunities for Improvement\, Successes\n5. Discuss and Review Changes to the Pediatric Electronic Residency Application Process\n6. Discuss and Analyze the National Residency Match Program Data for Pediatrics
URL:https://mecop.org/event/fsu-sarasota-2/
LOCATION:Zoom
CATEGORIES:AMA
END:VEVENT
BEGIN:VEVENT
DTSTART;TZID=America/Chicago:20250409T183000
DTEND;TZID=America/Chicago:20250409T203000
DTSTAMP:20260422T033916
CREATED:20250304T142036Z
LAST-MODIFIED:20251209T194534Z
UID:61488-1744223400-1744230600@mecop.org
SUMMARY:FSU-Daytona Beach
DESCRIPTION:Presenter: Dr. Debra Andree\n1. The learner will review the Pediatrics Clerkship general overview and learning objectives. 2. The learner will be aware of required clinical encounters and level of participation during the Pediatric Clerkship. 3. The learner will review and discuss grading policy changes. 4. The learner will review and discuss the revised evaluation form for faculty of student.\n5. The learner will review Pediatric Clerkship data and comparability among regional campuses. 6. The learning will share successful teaching practices in the clinical setting. 7. The learner will discuss respiratory syncytial virus updates and prevention.
URL:https://mecop.org/event/fsu-college-of-medicine-daytona-beach-regional-campus-8/
LOCATION:Zoom
CATEGORIES:AMA
END:VEVENT
BEGIN:VEVENT
DTSTART;TZID=America/Chicago:20250409T183000
DTEND;TZID=America/Chicago:20250409T203000
DTSTAMP:20260422T033916
CREATED:20250314T175938Z
LAST-MODIFIED:20250516T162203Z
UID:61666-1744223400-1744230600@mecop.org
SUMMARY:FSU-Orlando
DESCRIPTION:1. Analyze and Review the Pediatric Clerkship General Course Overview\, Objectives and Required Encounters \n2. Share successful teaching practices \n3. Discuss Grading Policy Changes \n4. Review Pediatric Clerkship Data\, Comparability among campuses and look for Trends\, Opportunities for Improvement\, Successes \n5. Discuss and Review Changes to the Pediatric Electronic Residency Application Process \n6. Discuss and Analyze the National Residency Match Program Data for Pediatrics
URL:https://mecop.org/event/2025-fsu-com-pediatric-all-faculty-meeting/
LOCATION:Zoom
CATEGORIES:AMA
END:VEVENT
BEGIN:VEVENT
DTSTART;TZID=America/Chicago:20250410T080000
DTEND;TZID=America/Chicago:20250410T170000
DTSTAMP:20260422T033916
CREATED:20250411T182444Z
LAST-MODIFIED:20250415T143744Z
UID:62134-1744272000-1744304400@mecop.org
SUMMARY:Risk Adjustment and Top Gun Coding Tips for Cancer
DESCRIPTION:Review CMS-HCC risk adjustment model and why it is important\nReview specific official ICD-10-CM coding guidelines and how they are applied for HCC diagnosis coding\nIdentify elements of the medical record that help support the validation of an HCC diagnosis condition\nIdentify documentation deficiencies for specific conditions
URL:https://mecop.org/event/risk-adjustment-and-top-gun-coding-tips-for-cancer-2/
LOCATION:Live Webinar
CATEGORIES:AMA
END:VEVENT
BEGIN:VEVENT
DTSTART;TZID=America/Chicago:20250410T080000
DTEND;TZID=America/Chicago:20250410T170000
DTSTAMP:20260422T033916
CREATED:20250508T213530Z
LAST-MODIFIED:20250508T214241Z
UID:62621-1744272000-1744304400@mecop.org
SUMMARY:NFO Business of Medicine Web Series: Common Otolaryngology Modifiers - Avoiding Denials and Recoupment
DESCRIPTION:Accurate coding and billing require telling the full story of a patient’s care\, including the medical necessity behind procedures and services. This webinar will explore the critical role of modifiers in coding and billing\, focusing on how to use CPT and HCPCS guidelines to ensure claims are complete and compliant. Learn to navigate common challenges\, debunk myths surrounding modifier -59\, and handle scenarios such as patient returns to the OR within the global period or post-op visits for unrelated conditions. By the end of the session\, you’ll be equipped to confidently apply modifiers to align with clinical documentation and meet payer requirements for accurate reimbursement. \nObjectives\n1. Understand the CPT and HCPCS rules for applying modifiers to accurately represent the patient encounter and comply with payer requirements.\n2. Discuss how to correctly use modifier -59\, manage claims for patient returns to the OR during the global period\, and address unrelated conditions during post-op visits.\n3. Gain practical tips for applying modifiers to correlate with clinical documentation\, tell the complete story of care\, and avoid payment delays or denials.
URL:https://mecop.org/event/nfo-business-of-medicine-web-series-common-otolaryngology-modifiers-avoiding-denials-and-recoupment/
LOCATION:Internet Live Webcast
CATEGORIES:AMA
END:VEVENT
BEGIN:VEVENT
DTSTART;TZID=America/Chicago:20250411T080000
DTEND;TZID=America/Chicago:20250411T170000
DTSTAMP:20260422T033916
CREATED:20250411T182648Z
LAST-MODIFIED:20250414T164059Z
UID:62136-1744358400-1744390800@mecop.org
SUMMARY:Risk Adjustment and Top Gun Coding Tips for Cancer
DESCRIPTION:Review CMS-HCC risk adjustment model and why it is important\nReview specific official ICD-10-CM coding guidelines and how they are applied for HCC diagnosis coding\nIdentify elements of the medical record that help support the validation of an HCC diagnosis condition\nIdentify documentation deficiencies for specific conditions
URL:https://mecop.org/event/risk-adjustment-and-top-gun-coding-tips-for-cancer-3/
LOCATION:Live Webinar
CATEGORIES:AMA
END:VEVENT
END:VCALENDAR