BEGIN:VCALENDAR
VERSION:2.0
PRODID:-//Mecop - ECPv6.5.1.5//NONSGML v1.0//EN
CALSCALE:GREGORIAN
METHOD:PUBLISH
X-WR-CALNAME:Mecop
X-ORIGINAL-URL:https://mecop.org
X-WR-CALDESC:Events for Mecop
REFRESH-INTERVAL;VALUE=DURATION:PT1H
X-Robots-Tag:noindex
X-PUBLISHED-TTL:PT1H
BEGIN:VTIMEZONE
TZID:America/Chicago
BEGIN:DAYLIGHT
TZOFFSETFROM:-0600
TZOFFSETTO:-0500
TZNAME:CDT
DTSTART:20240310T080000
END:DAYLIGHT
BEGIN:STANDARD
TZOFFSETFROM:-0500
TZOFFSETTO:-0600
TZNAME:CST
DTSTART:20241103T070000
END:STANDARD
END:VTIMEZONE
BEGIN:VEVENT
DTSTART;TZID=America/Chicago:20241114T080000
DTEND;TZID=America/Chicago:20241114T170000
DTSTAMP:20260420T103920
CREATED:20241205T171409Z
LAST-MODIFIED:20241220T215344Z
UID:59899-1731571200-1731603600@mecop.org
SUMMARY:PEEP Pediatric Chronic Conditions
DESCRIPTION:Review CMS-HCC risk adjustment model and why it is important\nReview specific official ICD-10-CM coding guidelines and how they are applied for HCC diagnosis coding\nIdentify elements of the medical record that help support the validation of an HCC diagnosis condition\nIdentify documentation deficiencies for specific conditions.
URL:https://mecop.org/event/peep-pediatric-chronic-conditions-3/
LOCATION:Internet Enduring Material
CATEGORIES:AMA
END:VEVENT
BEGIN:VEVENT
DTSTART;TZID=America/Chicago:20241114T080000
DTEND;TZID=America/Chicago:20241114T170000
DTSTAMP:20260420T103920
CREATED:20241205T172815Z
LAST-MODIFIED:20241220T171053Z
UID:59907-1731571200-1731603600@mecop.org
SUMMARY:Diabetes Preventing Microvascular Complications ACT
DESCRIPTION:See content.
URL:https://mecop.org/event/diabetes-preventing-microvascular-complications-act-4/
LOCATION:Internet Enduring Material
CATEGORIES:AMA
END:VEVENT
BEGIN:VEVENT
DTSTART;TZID=America/Chicago:20241115T080000
DTEND;TZID=America/Chicago:20241115T170000
DTSTAMP:20260420T103920
CREATED:20241125T154224Z
LAST-MODIFIED:20241125T154336Z
UID:59619-1731657600-1731690000@mecop.org
SUMMARY:18 F-Labeled Fluoroestradiol PET/CT
DESCRIPTION:Unavailable
URL:https://mecop.org/event/18-f-labeled-fluoroestradiol-pet-ct/
LOCATION:Enduring Activity
CATEGORIES:AMA
END:VEVENT
BEGIN:VEVENT
DTSTART;TZID=America/Chicago:20241115T080000
DTEND;TZID=America/Chicago:20241115T170000
DTSTAMP:20260420T103920
CREATED:20241125T154627Z
LAST-MODIFIED:20241125T154728Z
UID:59622-1731657600-1731690000@mecop.org
SUMMARY:Oral CT Contrast Agents
DESCRIPTION:Unavailable
URL:https://mecop.org/event/oral-ct-contrast-agents/
LOCATION:Enduring Activity
CATEGORIES:AMA
END:VEVENT
BEGIN:VEVENT
DTSTART;TZID=America/Chicago:20241115T080000
DTEND;TZID=America/Chicago:20241115T170000
DTSTAMP:20260420T103920
CREATED:20241125T155114Z
LAST-MODIFIED:20241125T155220Z
UID:59625-1731657600-1731690000@mecop.org
SUMMARY:Burnout Is More Than Binary
DESCRIPTION:Unavailable
URL:https://mecop.org/event/burnout-is-more-than-binary/
LOCATION:Enduring Activity
CATEGORIES:AMA
END:VEVENT
BEGIN:VEVENT
DTSTART;TZID=America/Chicago:20241116T080000
DTEND;TZID=America/Chicago:20241116T170000
DTSTAMP:20260420T103920
CREATED:20241119T150756Z
LAST-MODIFIED:20241119T195057Z
UID:59466-1731744000-1731776400@mecop.org
SUMMARY:Creating Health Equity in Pain Management:
DESCRIPTION:Unavailable
URL:https://mecop.org/event/creating-health-equity-in-pain-management/
LOCATION:Enduring Activity
CATEGORIES:AMA,Prescribing of Controlled Substances
END:VEVENT
BEGIN:VEVENT
DTSTART;TZID=America/Chicago:20241116T080000
DTEND;TZID=America/Chicago:20241116T170000
DTSTAMP:20260420T103920
CREATED:20241119T151505Z
LAST-MODIFIED:20241119T195618Z
UID:59470-1731744000-1731776400@mecop.org
SUMMARY:Ask the Expert About Pain Management
DESCRIPTION:Unavailable
URL:https://mecop.org/event/ask-the-expert-about-pain-management/
LOCATION:Internet Enduring Material
CATEGORIES:AMA,Prescribing of Controlled Substances
END:VEVENT
BEGIN:VEVENT
DTSTART;TZID=America/Chicago:20241116T080000
DTEND;TZID=America/Chicago:20241116T170000
DTSTAMP:20260420T103920
CREATED:20241119T152427Z
LAST-MODIFIED:20241206T200516Z
UID:59474-1731744000-1731776400@mecop.org
SUMMARY:Breaking the Opioid Cycle:
DESCRIPTION:Unavailable
URL:https://mecop.org/event/breaking-the-opioid-cycle/
LOCATION:Internet Enduring Material
CATEGORIES:AMA
END:VEVENT
BEGIN:VEVENT
DTSTART;TZID=America/Chicago:20241116T080000
DTEND;TZID=America/Chicago:20241116T170000
DTSTAMP:20260420T103920
CREATED:20241119T153135Z
LAST-MODIFIED:20241119T153717Z
UID:59477-1731744000-1731776400@mecop.org
SUMMARY:Bridging the Gap:
DESCRIPTION:Unavailable
URL:https://mecop.org/event/bridging-the-gap/
LOCATION:Internet Enduring Material
CATEGORIES:AMA,Ethics
END:VEVENT
BEGIN:VEVENT
DTSTART;TZID=America/Chicago:20241116T080000
DTEND;TZID=America/Chicago:20241116T170000
DTSTAMP:20260420T103920
CREATED:20241119T153938Z
LAST-MODIFIED:20241119T154319Z
UID:59481-1731744000-1731776400@mecop.org
SUMMARY:Mitigating Risk:
DESCRIPTION:Unavailable
URL:https://mecop.org/event/mitigating-risk/
LOCATION:Internet Enduring Material
CATEGORIES:AMA,Ethics
END:VEVENT
BEGIN:VEVENT
DTSTART;TZID=America/Chicago:20241116T080000
DTEND;TZID=America/Chicago:20241116T170000
DTSTAMP:20260420T103920
CREATED:20241119T154639Z
LAST-MODIFIED:20250424T145046Z
UID:59484-1731744000-1731776400@mecop.org
SUMMARY:Medical Errors:
DESCRIPTION:Unavailable
URL:https://mecop.org/event/medical-errors-9/
LOCATION:Internet Enduring Material
CATEGORIES:AMA,MedErrors
END:VEVENT
BEGIN:VEVENT
DTSTART;TZID=America/Chicago:20241116T080000
DTEND;TZID=America/Chicago:20241116T170000
DTSTAMP:20260420T103920
CREATED:20241119T155843Z
LAST-MODIFIED:20250424T144917Z
UID:59488-1731744000-1731776400@mecop.org
SUMMARY:Medical Errors:
DESCRIPTION:Unavailable
URL:https://mecop.org/event/medical-errors-10/
LOCATION:Internet Enduring Material
CATEGORIES:AMA,MedErrors
END:VEVENT
BEGIN:VEVENT
DTSTART;TZID=America/Chicago:20241118T080000
DTEND;TZID=America/Chicago:20241118T170000
DTSTAMP:20260420T103920
CREATED:20241125T210719Z
LAST-MODIFIED:20241125T210825Z
UID:59671-1731916800-1731949200@mecop.org
SUMMARY:Gadolinium-Based Contrast Agent Safety Update
DESCRIPTION:Unavailable
URL:https://mecop.org/event/gadolinium-based-contrast-agent-safety-update/
LOCATION:Enduring Activity
CATEGORIES:AMA
END:VEVENT
BEGIN:VEVENT
DTSTART;TZID=America/Chicago:20241118T080000
DTEND;TZID=America/Chicago:20241118T170000
DTSTAMP:20260420T103920
CREATED:20241125T211219Z
LAST-MODIFIED:20241125T211314Z
UID:59674-1731916800-1731949200@mecop.org
SUMMARY:ADC Values to Differentiate Uterine Sarcomas From Leiomyomas
DESCRIPTION:Unavailable
URL:https://mecop.org/event/adc-values-to-differentiate-uterine-sarcomas-from-leiomyomas/
LOCATION:Enduring Activity
CATEGORIES:AMA
END:VEVENT
BEGIN:VEVENT
DTSTART;TZID=America/Chicago:20241119T080000
DTEND;TZID=America/Chicago:20241119T170000
DTSTAMP:20260420T103920
CREATED:20241030T185817Z
LAST-MODIFIED:20241217T155637Z
UID:59116-1732003200-1732035600@mecop.org
SUMMARY:Baldwin Health Tumor Board
DESCRIPTION:1. Review patient cases and all necessary findings (pathology\, radiology\, surgery\, etc.) and discuss key\nfindings to determine course of treatment.\n2. Discuss implications amongst multidisciplinary team members\, and review best practices\, current\nevidence-based findings\, etc.\n3. Assign treatment protocols based on consensus of the multidisciplinary team.
URL:https://mecop.org/event/south-baldwin-tumor-board-34/
LOCATION:Baldwin Health
CATEGORIES:AMA
END:VEVENT
BEGIN:VEVENT
DTSTART;TZID=America/Chicago:20241119T080000
DTEND;TZID=America/Chicago:20241119T170000
DTSTAMP:20260420T103920
CREATED:20241120T123135Z
LAST-MODIFIED:20241218T152217Z
UID:59508-1732003200-1732035600@mecop.org
SUMMARY:Risk Adjustment and the Bucket List Rules for Coding Cancer
DESCRIPTION:Review CMS-HCC risk adjustment model and why it is important\nReview specific official ICD-10-CM coding guidelines and how they are applied for HCC diagnosis coding\nIdentify elements of the medical record that help support the validation of an HCC diagnosis condition\nIdentify documentation deficiencies for specific conditions
URL:https://mecop.org/event/peep-risk-adjustment-and-the-bucket-list-for-coding-cancer/
LOCATION:Live Webinar
CATEGORIES:AMA
END:VEVENT
BEGIN:VEVENT
DTSTART;TZID=America/Chicago:20241120T080000
DTEND;TZID=America/Chicago:20241120T170000
DTSTAMP:20260420T103920
CREATED:20241120T142300Z
LAST-MODIFIED:20241120T142300Z
UID:59513-1732089600-1732122000@mecop.org
SUMMARY:General Adult Tumor Board 2024
DESCRIPTION:Unavailable
URL:https://mecop.org/event/general-adult-tumor-board-2024-27/
LOCATION:Ascension Sacred Heart Hospital\, FL
CATEGORIES:AMA
END:VEVENT
BEGIN:VEVENT
DTSTART;TZID=America/Chicago:20241120T080000
DTEND;TZID=America/Chicago:20241120T170000
DTSTAMP:20260420T103920
CREATED:20241122T142356Z
LAST-MODIFIED:20241122T142356Z
UID:59561-1732089600-1732122000@mecop.org
SUMMARY:FSU Assisting Students with Motivational Interviewing Skills to Enhance Patient Care Module
DESCRIPTION:Unavailable
URL:https://mecop.org/event/fsu-assisting-students-with-motivational-interviewing-skills-to-enhance-patient-care-module-9/
LOCATION:Enduring Material
CATEGORIES:AMA
END:VEVENT
BEGIN:VEVENT
DTSTART;TZID=America/Chicago:20241120T080000
DTEND;TZID=America/Chicago:20241120T170000
DTSTAMP:20260420T103920
CREATED:20241127T201356Z
LAST-MODIFIED:20241127T202300Z
UID:59740-1732089600-1732122000@mecop.org
SUMMARY:CMS Monthly Provider Meeting
DESCRIPTION:Discuss new clinic openings \nPrepare letter for managing MOUD patients \nDevelop lab testing and confirmation testing protocols \nImprove compliance and competency related to appriate lab testing \nImprove patient care through communication with outpatient surgeons and anesthesiologists
URL:https://mecop.org/event/cms-monthly-provider-meeting-6/
LOCATION:Internet Live Webcast
CATEGORIES:AMA
END:VEVENT
BEGIN:VEVENT
DTSTART;TZID=America/Chicago:20241120T123000
DTEND;TZID=America/Chicago:20241120T133000
DTSTAMP:20260420T103920
CREATED:20241108T192641Z
LAST-MODIFIED:20241126T140949Z
UID:59200-1732105800-1732109400@mecop.org
SUMMARY:MUSM Pediatric Advancement Speakers' Series
DESCRIPTION:1. Define vaccine hesitancy\n2. Describe the history of distrust in vaccination\n3. List the positive impacts of vaccinations\n4. Describe the safety of vaccinations\n5. Employ effective strategies to address vaccine hesitation\n6. Presumptive statement\n7. Motivational interviews.
URL:https://mecop.org/event/musm-pediatric-advancement-speakers-series-14/
LOCATION:Live
CATEGORIES:AMA
END:VEVENT
BEGIN:VEVENT
DTSTART;TZID=America/Chicago:20241121T080000
DTEND;TZID=America/Chicago:20241121T170000
DTSTAMP:20260420T103920
CREATED:20241021T135445Z
LAST-MODIFIED:20241208T140021Z
UID:58951-1732176000-1732208400@mecop.org
SUMMARY:Better Health Group Monthly Town Hall Meeting
DESCRIPTION:TBA
URL:https://mecop.org/event/better-health-group-monthly-town-hall-meeting-8/
LOCATION:Zoom
CATEGORIES:AMA
END:VEVENT
BEGIN:VEVENT
DTSTART;TZID=America/Chicago:20241122T080000
DTEND;TZID=America/Chicago:20241122T170000
DTSTAMP:20260420T103920
CREATED:20241124T134536Z
LAST-MODIFIED:20250107T162416Z
UID:59603-1732262400-1732294800@mecop.org
SUMMARY:2024 Faculty Teaching Credits Geriatrics Clerkship
DESCRIPTION:Unavailable
URL:https://mecop.org/event/2024-faculty-teaching-credits-geriatrics-clerkship-3/
LOCATION:Fort Pierce Regional Campus\, 1200 W International Speedway Blvd #101\, Daytona Beach\, FL\, 32114\, United States
CATEGORIES:AMA
END:VEVENT
BEGIN:VEVENT
DTSTART;TZID=America/Chicago:20241122T080000
DTEND;TZID=America/Chicago:20241122T170000
DTSTAMP:20260420T103920
CREATED:20241206T160650Z
LAST-MODIFIED:20241206T160655Z
UID:59942-1732262400-1732294800@mecop.org
SUMMARY:PEEP The Bucket List Rules of Engagement
DESCRIPTION:See content from November live webcast RA.
URL:https://mecop.org/event/peep-the-bucket-list-rules-of-engagement/
LOCATION:Internet Enduring Material
CATEGORIES:AMA
END:VEVENT
BEGIN:VEVENT
DTSTART;TZID=America/Chicago:20241123T080000
DTEND;TZID=America/Chicago:20241123T170000
DTSTAMP:20260420T103920
CREATED:20241201T125259Z
LAST-MODIFIED:20241201T125354Z
UID:59755-1732348800-1732381200@mecop.org
SUMMARY:Continuum Postreading Test 29(5) October 2023 (Peripheral Nerve and Motor Neuron Disorders) - SACME Certificate for Physicians
DESCRIPTION:Unavailable
URL:https://mecop.org/event/continuum-postreading-test-295-october-2023-peripheral-nerve-and-motor-neuron-disorders-sacme-certificate-for-physicians/
LOCATION:Educational Activity
CATEGORIES:AMA
END:VEVENT
BEGIN:VEVENT
DTSTART;TZID=America/Chicago:20241123T080000
DTEND;TZID=America/Chicago:20241123T170000
DTSTAMP:20260420T103920
CREATED:20241205T172451Z
LAST-MODIFIED:20241205T172456Z
UID:59903-1732348800-1732381200@mecop.org
SUMMARY:Coronary Artery Disease ACT
DESCRIPTION:See content.
URL:https://mecop.org/event/coronary-artery-disease-act-2/
LOCATION:Internet Enduring Module
CATEGORIES:AMA
END:VEVENT
BEGIN:VEVENT
DTSTART;TZID=America/Chicago:20241123T080000
DTEND;TZID=America/Chicago:20241123T170000
DTSTAMP:20260420T103920
CREATED:20241205T173124Z
LAST-MODIFIED:20241220T171202Z
UID:59910-1732348800-1732381200@mecop.org
SUMMARY:Hypertension ACT
DESCRIPTION:See content.
URL:https://mecop.org/event/hypertension-act-4/
LOCATION:Internet Enduring Material
CATEGORIES:AMA
END:VEVENT
BEGIN:VEVENT
DTSTART;TZID=America/Chicago:20241124T080000
DTEND;TZID=America/Chicago:20241124T170000
DTSTAMP:20260420T103920
CREATED:20241226T145840Z
LAST-MODIFIED:20241226T145845Z
UID:60317-1732435200-1732467600@mecop.org
SUMMARY:PEEP Risk Adjustment Rules of Engagement ICD-10 Coding
DESCRIPTION:
URL:https://mecop.org/event/peep-risk-adjustment-rules-of-engagement-icd-10-coding-2/
LOCATION:Internet Enduring Material
CATEGORIES:AMA
END:VEVENT
BEGIN:VEVENT
DTSTART;TZID=America/Chicago:20241126T080000
DTEND;TZID=America/Chicago:20241126T170000
DTSTAMP:20260420T103920
CREATED:20241127T114959Z
LAST-MODIFIED:20241129T233457Z
UID:59724-1732608000-1732640400@mecop.org
SUMMARY:Risk Adjustment and the Bucket List Rules for Coding Cancer
DESCRIPTION:Review CMS-HCC risk adjustment model and why it is important\nReview specific official ICD-10-CM coding guidelines and how they are applied for HCC diagnosis coding\nIdentify elements of the medical record that help support the validation of an HCC diagnosis condition\nIdentify documentation deficiencies for specific conditions
URL:https://mecop.org/event/risk-adjustment-and-the-bucket-list-rules-for-coding-cancer/
LOCATION:Live Webinar
CATEGORIES:AMA
END:VEVENT
BEGIN:VEVENT
DTSTART;TZID=America/Chicago:20241126T080000
DTEND;TZID=America/Chicago:20241126T170000
DTSTAMP:20260420T103920
CREATED:20250110T152811Z
LAST-MODIFIED:20250110T152921Z
UID:60502-1732608000-1732640400@mecop.org
SUMMARY:2024 Faculty Teaching Credits PA student preceptor for students
DESCRIPTION:Unavailable
URL:https://mecop.org/event/2024-faculty-teaching-credits-pa-student-preceptor-for-students/
LOCATION:Pensacola Regional Campus\, 11000 University Parkway Bldg 234\, 2nd Floor\, Pensacola\, FL\, 32514-5750\, United States
CATEGORIES:AMA
END:VEVENT
BEGIN:VEVENT
DTSTART;TZID=America/Chicago:20241129T080000
DTEND;TZID=America/Chicago:20241129T170000
DTSTAMP:20260420T103920
CREATED:20241206T122203Z
LAST-MODIFIED:20241206T122203Z
UID:59919-1732867200-1732899600@mecop.org
SUMMARY:2024 Faculty Teaching Credits Critical Care Clerkship
DESCRIPTION:Unavailable
URL:https://mecop.org/event/2024-faculty-teaching-credits-critical-care-clerkship-3/
LOCATION:Fort Pierce Regional Campus\, 1200 W International Speedway Blvd #101\, Daytona Beach\, FL\, 32114\, United States
CATEGORIES:AMA
END:VEVENT
END:VCALENDAR