BEGIN:VCALENDAR
VERSION:2.0
PRODID:-//Mecop - ECPv6.5.1.5//NONSGML v1.0//EN
CALSCALE:GREGORIAN
METHOD:PUBLISH
X-ORIGINAL-URL:https://mecop.org
X-WR-CALDESC:Events for Mecop
REFRESH-INTERVAL;VALUE=DURATION:PT1H
X-Robots-Tag:noindex
X-PUBLISHED-TTL:PT1H
BEGIN:VTIMEZONE
TZID:America/Chicago
BEGIN:DAYLIGHT
TZOFFSETFROM:-0600
TZOFFSETTO:-0500
TZNAME:CDT
DTSTART:20240310T080000
END:DAYLIGHT
BEGIN:STANDARD
TZOFFSETFROM:-0500
TZOFFSETTO:-0600
TZNAME:CST
DTSTART:20241103T070000
END:STANDARD
TZID:America/New_York
BEGIN:DAYLIGHT
TZOFFSETFROM:-0500
TZOFFSETTO:-0400
TZNAME:EDT
DTSTART:20240310T070000
END:DAYLIGHT
BEGIN:STANDARD
TZOFFSETFROM:-0400
TZOFFSETTO:-0500
TZNAME:EST
DTSTART:20241103T060000
END:STANDARD
END:VTIMEZONE
BEGIN:VEVENT
DTSTART;TZID=America/Chicago:20241129T080000
DTEND;TZID=America/Chicago:20241129T170000
DTSTAMP:20260420T051340
CREATED:20241206T122203Z
LAST-MODIFIED:20241206T122203Z
UID:59919-1732867200-1732899600@mecop.org
SUMMARY:2024 Faculty Teaching Credits Critical Care Clerkship
DESCRIPTION:Unavailable
URL:https://mecop.org/event/2024-faculty-teaching-credits-critical-care-clerkship-3/
LOCATION:Fort Pierce Regional Campus\, 1200 W International Speedway Blvd #101\, Daytona Beach\, FL\, 32114\, United States
CATEGORIES:AMA
END:VEVENT
BEGIN:VEVENT
DTSTART;TZID=America/Chicago:20241202T080000
DTEND;TZID=America/Chicago:20241202T170000
DTSTAMP:20260420T051340
CREATED:20241114T220954Z
LAST-MODIFIED:20241114T220954Z
UID:59357-1733126400-1733158800@mecop.org
SUMMARY:2024 Faculty Teaching Credits Surgery/Otolaryngology Clerkship
DESCRIPTION:Unavailable
URL:https://mecop.org/event/2024-faculty-teaching-credits-surgery-otolaryngology-clerkship/
LOCATION:Pensacola Regional Campus\, 11000 University Parkway Bldg 234\, 2nd Floor\, Pensacola\, FL\, 32514-5750\, United States
CATEGORIES:AMA
END:VEVENT
BEGIN:VEVENT
DTSTART;TZID=America/Chicago:20241202T080000
DTEND;TZID=America/Chicago:20241202T170000
DTSTAMP:20260420T051340
CREATED:20241204T231236Z
LAST-MODIFIED:20250107T140829Z
UID:59874-1733126400-1733158800@mecop.org
SUMMARY:FSU Fundamentals of Teaching in the FSU COM Clinical Education Program I Module
DESCRIPTION:Unavailable
URL:https://mecop.org/event/fsu-fundamentals-of-teaching-in-the-fsu-com-clinical-education-program-i-module-7/
LOCATION:Educational Activity
CATEGORIES:AMA
END:VEVENT
BEGIN:VEVENT
DTSTART;TZID=America/Chicago:20241203T080000
DTEND;TZID=America/Chicago:20241203T170000
DTSTAMP:20260420T051340
CREATED:20241203T235406Z
LAST-MODIFIED:20241203T235528Z
UID:59833-1733212800-1733245200@mecop.org
SUMMARY:Child Abuse
DESCRIPTION:Unavailable
URL:https://mecop.org/event/child-abuse/
LOCATION:Educational Activity
CATEGORIES:AMA,DV
END:VEVENT
BEGIN:VEVENT
DTSTART;TZID=America/Chicago:20241203T080000
DTEND;TZID=America/Chicago:20241203T170000
DTSTAMP:20260420T051340
CREATED:20241204T230153Z
LAST-MODIFIED:20241218T162123Z
UID:59871-1733212800-1733245200@mecop.org
SUMMARY:FSU Fundamentals of Teaching in the FSU COM Clinical Education Program II Module
DESCRIPTION:Unavailable
URL:https://mecop.org/event/fsu-fundamentals-of-teaching-in-the-fsu-com-clinical-education-program-ii-module-10/
LOCATION:Enduring Activity
CATEGORIES:AMA
END:VEVENT
BEGIN:VEVENT
DTSTART;TZID=America/Chicago:20241203T080000
DTEND;TZID=America/Chicago:20241203T170000
DTSTAMP:20260420T051340
CREATED:20241211T195743Z
LAST-MODIFIED:20241222T113447Z
UID:60100-1733212800-1733245200@mecop.org
SUMMARY:FSU-Orlando
DESCRIPTION:Describe 3 features of the FSUCOM curriculum that you would include in a conversation with someone who was unfamiliar with the curriculum.\nIdentify learning objectives you can help the FSUCOM student accomplish that are located in the syllabus specific to the required clerkship or elective rotation on which you teach.\nList the three characteristics/skills of effective clinical teachers that you feel are particularly/most important.\nList/describe one characteristic of effective teachers that you feel need to enhance and one characteristic/skill you feel is a strength at this time.\nDescribe the wave model which is a teaching strategy designed to help make teaching in the ambulatory setting efficient.\nDescribe how to provide an orientation at the beginning of a clerkship to a student arriving at your office or clinical setting.\nDescribe the ARCH model for giving feedback to the student.
URL:https://mecop.org/event/fsu-orlando-132/
LOCATION:Orlando Regional Campus\, Orlando\, FL\, United States
CATEGORIES:AMA
END:VEVENT
BEGIN:VEVENT
DTSTART;TZID=America/Chicago:20241204T080000
DTEND;TZID=America/Chicago:20241204T170000
DTSTAMP:20260420T051340
CREATED:20241204T214117Z
LAST-MODIFIED:20241204T214256Z
UID:59867-1733299200-1733331600@mecop.org
SUMMARY:Family Violence Update
DESCRIPTION:Unavailable
URL:https://mecop.org/event/family-violence-update/
LOCATION:Educational Activity
CATEGORIES:AMA,DV
END:VEVENT
BEGIN:VEVENT
DTSTART;TZID=America/Chicago:20241204T080000
DTEND;TZID=America/Chicago:20241204T170000
DTSTAMP:20260420T051340
CREATED:20241220T172532Z
LAST-MODIFIED:20241220T214933Z
UID:60266-1733299200-1733331600@mecop.org
SUMMARY:PEEP Risk Adjustment Rules for Coding Cancer
DESCRIPTION:
URL:https://mecop.org/event/peep-risk-adjustment-rules-for-coding-cancer/
LOCATION:Internet Enduring Material
CATEGORIES:AMA
END:VEVENT
BEGIN:VEVENT
DTSTART;TZID=America/Chicago:20241205T080000
DTEND;TZID=America/Chicago:20241205T170000
DTSTAMP:20260420T051340
CREATED:20241206T192744Z
LAST-MODIFIED:20241206T192845Z
UID:59948-1733385600-1733418000@mecop.org
SUMMARY:Part 1: Assessing Pain and Initiating Non-Opioid Pain Management
DESCRIPTION:Unavailable
URL:https://mecop.org/event/part-1-assessing-pain-and-initiating-non-opioid-pain-management/
LOCATION:Educational Activity
CATEGORIES:AMA
END:VEVENT
BEGIN:VEVENT
DTSTART;TZID=America/Chicago:20241205T080000
DTEND;TZID=America/Chicago:20241205T170000
DTSTAMP:20260420T051340
CREATED:20241206T193451Z
LAST-MODIFIED:20241219T161300Z
UID:59951-1733385600-1733418000@mecop.org
SUMMARY:Medical Errors:
DESCRIPTION:Unavailable
URL:https://mecop.org/event/medical-errors-11/
LOCATION:Enduring Educational Activity
CATEGORIES:AMA,MedErrors
END:VEVENT
BEGIN:VEVENT
DTSTART;TZID=America/Chicago:20241205T080000
DTEND;TZID=America/Chicago:20241205T170000
DTSTAMP:20260420T051340
CREATED:20241206T195040Z
LAST-MODIFIED:20241219T161229Z
UID:59955-1733385600-1733418000@mecop.org
SUMMARY:Medical Errors:
DESCRIPTION:Unavailable
URL:https://mecop.org/event/medical-errors-12/
LOCATION:Enduring Educational Activity
CATEGORIES:AMA,MedErrors
END:VEVENT
BEGIN:VEVENT
DTSTART;TZID=America/Chicago:20241205T080000
DTEND;TZID=America/Chicago:20241205T170000
DTSTAMP:20260420T051340
CREATED:20241206T195353Z
LAST-MODIFIED:20241206T200343Z
UID:59957-1733385600-1733418000@mecop.org
SUMMARY:Breaking the Opioid Cycle:
DESCRIPTION:Unavailable
URL:https://mecop.org/event/breaking-the-opioid-cycle-2/
LOCATION:Enduring Educational Activity
CATEGORIES:AMA
END:VEVENT
BEGIN:VEVENT
DTSTART;TZID=America/Chicago:20241205T080000
DTEND;TZID=America/Chicago:20241205T170000
DTSTAMP:20260420T051340
CREATED:20241219T163125Z
LAST-MODIFIED:20241219T163416Z
UID:60237-1733385600-1733418000@mecop.org
SUMMARY:NFO Business of Medicine Web Series: Using 2024 Audits to Prepare for 2025
DESCRIPTION:Using the 2024 audit targets of a variety of federal audit contractors\, this session will present real-life scenarios applicable to otolaryngologists. \nAt the conclusion of this program\, participants should be able to: 1. Identify current trends in payer audits. 2. Use the trending information to implement proactive measures to protect the practice. 3. Understand what to expect when confronted with a Medicare Targeted Probe & Educate audit.
URL:https://mecop.org/event/nfo-business-of-medicine-web-series-using-2024-audits-to-prepare-for-2025/
LOCATION:Internet Live Webcast
CATEGORIES:AMA
END:VEVENT
BEGIN:VEVENT
DTSTART;TZID=America/Chicago:20241207T080000
DTEND;TZID=America/Chicago:20241207T170000
DTSTAMP:20260420T051340
CREATED:20241212T163527Z
LAST-MODIFIED:20241212T175319Z
UID:60102-1733558400-1733590800@mecop.org
SUMMARY:Method Aesthetics Academy: PRF Course
DESCRIPTION:In this course\, students will learn about the use of Platelet Rich Fibrin for skin rejuvenation. PRF is a natural\, biocompatible matrix made from the patient’s own blood\, which is processed to concentrate platelets and other blood components involved in the healing process. This matrix provides a scaffold for cells to attach and grow\, and the concentrated platelets release growth factors to stimulate the body’s natural healing process. We will discuss various indications for PRF\, as well as the preparation\, application\, and benefits of this innovative procedure. Clinical considerations\, as well as case studies will also be reviewed and there will be an in-depth hands on lab whereby students prepare PRF using a model’s blood with a cannula\, including proper handling and sterilization. .
URL:https://mecop.org/event/method-aesthetics-academy-prf-and-pdo-threads-course-4/
LOCATION:Pensacola\, FL
CATEGORIES:AMA
END:VEVENT
BEGIN:VEVENT
DTSTART;TZID=America/Chicago:20241207T080000
DTEND;TZID=America/Chicago:20241207T170000
DTSTAMP:20260420T051340
CREATED:20241212T184351Z
LAST-MODIFIED:20250219T182214Z
UID:60109-1733558400-1733590800@mecop.org
SUMMARY:Advanced Aesthetics with Injector Coach Institute
DESCRIPTION:Upon completion\, learners will:\nAssess and place lower face neuromodulators and neuromodulators for medical necessity\nPlace and inject dermal filler for tear troughs\, temples\, brow bone\, jaw and chin\nSelect\, place and utilize cannulas effectively
URL:https://mecop.org/event/advanced-aesthetics-with-injector-coach-instititute/
LOCATION:Pensacola\, FL
CATEGORIES:AMA
END:VEVENT
BEGIN:VEVENT
DTSTART;TZID=America/Chicago:20241207T080000
DTEND;TZID=America/Chicago:20241207T170000
DTSTAMP:20260420T051340
CREATED:20241212T184528Z
LAST-MODIFIED:20241212T184923Z
UID:60111-1733558400-1733590800@mecop.org
SUMMARY:Biostimulators with Injector Coach Institute
DESCRIPTION:Identify which aesthetic products qualify as biostimulators. \nIdentify mechanism of action of different biostimulators. \nDemonstrate competency in reconsitituion and dilution of biostimulators\, depending on body area. \nDemonstrate appropriate technique for injection of biostimulators\, depending on body area. \nOutline the uses for biostimulatory agents in regenerative aesthetics and their role in the future of the industry.
URL:https://mecop.org/event/biostimulators-with-injector-coach-institute/
LOCATION:Pensacola\, FL
CATEGORIES:AMA
END:VEVENT
BEGIN:VEVENT
DTSTART;TZID=America/Chicago:20241209T080000
DTEND;TZID=America/Chicago:20241209T170000
DTSTAMP:20260420T051340
CREATED:20241220T185528Z
LAST-MODIFIED:20241220T214807Z
UID:60269-1733731200-1733763600@mecop.org
SUMMARY:PEEP Risk Adjustment Rules of Engagement ICD-10 Coding
DESCRIPTION:
URL:https://mecop.org/event/peep-risk-adjustment-rules-of-engagement-icd-10-coding/
LOCATION:Internet Enduring Material
CATEGORIES:AMA
END:VEVENT
BEGIN:VEVENT
DTSTART;TZID=America/Chicago:20241210T120000
DTEND;TZID=America/Chicago:20241210T130000
DTSTAMP:20260420T051340
CREATED:20241126T152440Z
LAST-MODIFIED:20241217T194457Z
UID:59694-1733832000-1733835600@mecop.org
SUMMARY:MUSM Clinical Faculty Development Series
DESCRIPTION:Review the nature of sleep and circadian rhythms \nDiscuss how sleep affects physiology and health \nExplore how sleep is disturbed in the hospital setting \nEvaluate some new research on how sleep affects sepsis \nDiscuss strategies to improve sleep in the hospital
URL:https://mecop.org/event/musm-clinical-faculty-development-series-8/
LOCATION:Live
CATEGORIES:AMA
END:VEVENT
BEGIN:VEVENT
DTSTART;TZID=America/Chicago:20241210T180000
DTEND;TZID=America/Chicago:20241210T210000
DTSTAMP:20260420T051340
CREATED:20250121T153723Z
LAST-MODIFIED:20250318T132752Z
UID:60712-1733853600-1733864400@mecop.org
SUMMARY:Pediatric Associates PACE Meeting
DESCRIPTION:Explain comprehensive obesity treatments in pediatrics\nExplain the epidemiology and etiology of eating disorders\nDetermine which pneumococcal vaccines is indicated for patients.
URL:https://mecop.org/event/pediatric-associates-pace-meeting-48/
LOCATION:Zoom
CATEGORIES:AMA
END:VEVENT
BEGIN:VEVENT
DTSTART;TZID=America/New_York:20241210T183000
DTEND;TZID=America/New_York:20241210T213000
DTSTAMP:20260420T051340
CREATED:20240206T143851Z
LAST-MODIFIED:20250402T211914Z
UID:55693-1733855400-1733866200@mecop.org
SUMMARY:Pediatric Associates PACE Meeting
DESCRIPTION:Explain comprehensive obesity treatments in pediatrics\nExplain the epidemiology and etiology of eating disorders\nDetermine which pneumococcal vaccines is indicated for patients.
URL:https://mecop.org/event/pediatric-associates-pace-meeting-42/
LOCATION:Zoom
CATEGORIES:AMA
END:VEVENT
BEGIN:VEVENT
DTSTART;TZID=America/Chicago:20241211T080000
DTEND;TZID=America/Chicago:20241211T170000
DTSTAMP:20260420T051340
CREATED:20241125T204617Z
LAST-MODIFIED:20250115T160713Z
UID:59665-1733904000-1733936400@mecop.org
SUMMARY:VIP Care Performance Forum
DESCRIPTION:
URL:https://mecop.org/event/vip-care-performance-forum/
LOCATION:Virtual
CATEGORIES:AMA
END:VEVENT
BEGIN:VEVENT
DTSTART;TZID=America/Chicago:20241211T080000
DTEND;TZID=America/Chicago:20241211T170000
DTSTAMP:20260420T051340
CREATED:20241211T151059Z
LAST-MODIFIED:20241211T151059Z
UID:60091-1733904000-1733936400@mecop.org
SUMMARY:General Adult Tumor Board 2024
DESCRIPTION:Unavailable
URL:https://mecop.org/event/general-adult-tumor-board-2024-28/
LOCATION:Ascension Sacred Heart Hospital\, FL
CATEGORIES:AMA
END:VEVENT
BEGIN:VEVENT
DTSTART;TZID=America/Chicago:20241212T080000
DTEND;TZID=America/Chicago:20241212T170000
DTSTAMP:20260420T051340
CREATED:20241213T233316Z
LAST-MODIFIED:20241214T154734Z
UID:60190-1733990400-1734022800@mecop.org
SUMMARY:Risk Adjustment and Total Recall - The Year in Review
DESCRIPTION:Year-end review 2024. \nThe goal of this session is to enhance your knowledge to the principles of CMS-HCC risk adjustment model and the importance of accurate and complete documentation requirements for ICD-10-CM diagnosis coding.\nThere will be discussions on CMS-HCC risk adjustment coding\, documentation challenges\, and official ICD-10-CM diagnosis coding guidelines. \nObjectives:\nReview CMS-HCC risk adjustment model and why it is important\nReview specific official ICD-10-CM coding guidelines and how they are applied for HCC diagnosis coding\nIdentify elements of the medical record that help support the validation of an HCC diagnosis condition\nIdentify documentation deficiencies for specific conditions \n 
URL:https://mecop.org/event/risk-adjustment-and-total-recall-the-year-in-review/
LOCATION:Internet Live Webcast
CATEGORIES:AMA
END:VEVENT
BEGIN:VEVENT
DTSTART;TZID=America/Chicago:20241213T080000
DTEND;TZID=America/Chicago:20241213T170000
DTSTAMP:20260420T051340
CREATED:20241202T192658Z
LAST-MODIFIED:20241213T142303Z
UID:59799-1734076800-1734109200@mecop.org
SUMMARY:2024 Faculty Teaching Credits Physical Medicine/Longitudinal Clerkship
DESCRIPTION:Unavailable
URL:https://mecop.org/event/2024-faculty-teaching-credits-physical-medicine-longitudinal-clerkship/
LOCATION:Daytona Beach Regional Campus\, 1200 W International Speedway\, Daytona Beach\, FL\, 32114\, United States
CATEGORIES:AMA
END:VEVENT
BEGIN:VEVENT
DTSTART;TZID=America/Chicago:20241213T080000
DTEND;TZID=America/Chicago:20241213T170000
DTSTAMP:20260420T051340
CREATED:20241213T140845Z
LAST-MODIFIED:20241213T140845Z
UID:60177-1734076800-1734109200@mecop.org
SUMMARY:2024 Faculty Teaching Credits Ophthalmology Clerkship
DESCRIPTION:Unavailable
URL:https://mecop.org/event/2024-faculty-teaching-credits-ophthalmology-clerkship-3/
LOCATION:Orlando Regional Campus\, Orlando\, FL\, United States
CATEGORIES:AMA
END:VEVENT
BEGIN:VEVENT
DTSTART;TZID=America/Chicago:20241213T080000
DTEND;TZID=America/Chicago:20241213T170000
DTSTAMP:20260420T051340
CREATED:20241213T141539Z
LAST-MODIFIED:20241213T142104Z
UID:60179-1734076800-1734109200@mecop.org
SUMMARY:2024 Faculty Teaching Credits Internal Medicine/Longitudinal Clerkship
DESCRIPTION:Unavailable
URL:https://mecop.org/event/2024-faculty-teaching-credits-internal-medicine-longitudinal-clerkship/
LOCATION:Daytona Beach Regional Campus\, 1200 W International Speedway\, Daytona Beach\, FL\, 32114\, United States
CATEGORIES:AMA
END:VEVENT
BEGIN:VEVENT
DTSTART;TZID=America/Chicago:20241213T080000
DTEND;TZID=America/Chicago:20241213T170000
DTSTAMP:20260420T051340
CREATED:20241216T101516Z
LAST-MODIFIED:20241218T024302Z
UID:60193-1734076800-1734109200@mecop.org
SUMMARY:Risk Adjustment and Total Recall - The Year in Review
DESCRIPTION:Review CMS-HCC risk adjustment model and why it is important\nReview specific official ICD-10-CM coding guidelines and how they are applied for HCC diagnosis coding\nIdentify elements of the medical record that help support the validation of an HCC diagnosis condition\nIdentify documentation deficiencies for specific conditions
URL:https://mecop.org/event/risk-adjustment-and-total-recall-the-year-in-review-2/
LOCATION:Live Webinar
CATEGORIES:AMA
END:VEVENT
BEGIN:VEVENT
DTSTART;TZID=America/Chicago:20241213T080000
DTEND;TZID=America/Chicago:20241213T170000
DTSTAMP:20260420T051340
CREATED:20250107T005030Z
LAST-MODIFIED:20250110T213931Z
UID:60392-1734076800-1734109200@mecop.org
SUMMARY:PEEP Risk Adjustment and Diabetes with Complications
DESCRIPTION:Review CMS-HCC risk adjustment model and why it is important\nReview specific official ICD-10-CM coding guidelines and how they are applied for HCC diagnosis coding\nIdentify elements of the medical record that help support the validation of an HCC diagnosis condition\nIdentify documentation deficiencies for specific conditions
URL:https://mecop.org/event/peep-risk-adjustment-and-diabetes-with-complications-6/
LOCATION:Internet Enduring Material
CATEGORIES:AMA
END:VEVENT
BEGIN:VEVENT
DTSTART;TZID=America/Chicago:20241213T080000
DTEND;TZID=America/Chicago:20241213T170000
DTSTAMP:20260420T051340
CREATED:20250107T010308Z
LAST-MODIFIED:20250110T214044Z
UID:60400-1734076800-1734109200@mecop.org
SUMMARY:PEEP Risk Adjustment and Pulmonary Conditions
DESCRIPTION:See content.
URL:https://mecop.org/event/peep-risk-adjustment-and-pulmonary-conditions-4/
LOCATION:Internet Enduring Material
CATEGORIES:AMA
END:VEVENT
BEGIN:VEVENT
DTSTART;TZID=America/Chicago:20241213T080000
DTEND;TZID=America/Chicago:20241213T170000
DTSTAMP:20260420T051340
CREATED:20250107T011050Z
LAST-MODIFIED:20250110T214302Z
UID:60402-1734076800-1734109200@mecop.org
SUMMARY:PEEP Risk Adjustment and the Facts of Life about Pediatric Conditions
DESCRIPTION:Review CMS-HCC risk adjustment model and why it is important\nReview specific official ICD-10-CM coding guidelines and how they are applied for HCC diagnosis coding\nIdentify elements of the medical record that help support the validation of an HCC diagnosis condition\nIdentify documentation deficiencies for specific conditions
URL:https://mecop.org/event/peep-risk-adjustment-and-the-facts-of-life-about-pediatric-conditions-2/
LOCATION:Internet Enduring Material
CATEGORIES:AMA
END:VEVENT
END:VCALENDAR