BEGIN:VCALENDAR
VERSION:2.0
PRODID:-//Mecop - ECPv6.5.1.5//NONSGML v1.0//EN
CALSCALE:GREGORIAN
METHOD:PUBLISH
X-ORIGINAL-URL:https://mecop.org
X-WR-CALDESC:Events for Mecop
REFRESH-INTERVAL;VALUE=DURATION:PT1H
X-Robots-Tag:noindex
X-PUBLISHED-TTL:PT1H
BEGIN:VTIMEZONE
TZID:America/Chicago
BEGIN:DAYLIGHT
TZOFFSETFROM:-0600
TZOFFSETTO:-0500
TZNAME:CDT
DTSTART:20240310T080000
END:DAYLIGHT
BEGIN:STANDARD
TZOFFSETFROM:-0500
TZOFFSETTO:-0600
TZNAME:CST
DTSTART:20241103T070000
END:STANDARD
TZID:America/Los_Angeles
BEGIN:DAYLIGHT
TZOFFSETFROM:-0800
TZOFFSETTO:-0700
TZNAME:PDT
DTSTART:20240310T100000
END:DAYLIGHT
BEGIN:STANDARD
TZOFFSETFROM:-0700
TZOFFSETTO:-0800
TZNAME:PST
DTSTART:20241103T090000
END:STANDARD
END:VTIMEZONE
BEGIN:VEVENT
DTSTART;TZID=America/Chicago:20241110T110000
DTEND;TZID=America/Chicago:20241110T113000
DTSTAMP:20260420T051300
CREATED:20241019T010757Z
LAST-MODIFIED:20250329T173823Z
UID:58859-1731236400-1731238200@mecop.org
SUMMARY:Florida Combined Otolaryngology Meeting 2024 - Oropharyngeal Cancer: Circulating Tumor Markers
DESCRIPTION:This session focuses on the emerging role of circulating tumor HPV-DNA as a biomarker in the management of oropharyngeal cancer. Attendees will gain insights into the logistics of measuring circulating tumor DNA\, its applications in guiding treatment decisions\, and its utility in post-treatment surveillance. Through expert discussions\, participants will explore how these advanced molecular markers are transforming patient care and improving outcomes in oropharyngeal carcinoma. \nAttendees will be able to:\n1. Discuss the logistics behind measuring circulating tumor HPV-DNA for oropharyngeal cancer patients.\n2. Describe the utility of circulating tumor DNA for treatment planning in the setting of oropharyngeal carcinoma.\n3. Discuss the utility of circulating tumor DNA for post-treatment surveillance
URL:https://mecop.org/event/fcom-2024-oropharyngeal-cancer-circulating-tumor-markers/
LOCATION:The Boca Raton\, FL
CATEGORIES:AMA
END:VEVENT
BEGIN:VEVENT
DTSTART;TZID=America/Chicago:20241111T080000
DTEND;TZID=America/Chicago:20241111T170000
DTSTAMP:20260420T051300
CREATED:20241112T183429Z
LAST-MODIFIED:20241112T183429Z
UID:59311-1731312000-1731344400@mecop.org
SUMMARY:2024 Maintenance of Certification (MOC) Program
DESCRIPTION:Unavailable
URL:https://mecop.org/event/2024-maintenance-of-certification-moc-program-4/
LOCATION:Enduring Activity
CATEGORIES:AMA
END:VEVENT
BEGIN:VEVENT
DTSTART;TZID=America/Chicago:20241111T080000
DTEND;TZID=America/Chicago:20241111T170000
DTSTAMP:20260420T051300
CREATED:20241125T155541Z
LAST-MODIFIED:20241125T155645Z
UID:59629-1731312000-1731344400@mecop.org
SUMMARY:New Lung-RADS Statement
DESCRIPTION:Unavailable
URL:https://mecop.org/event/new-lung-rads-statement/
LOCATION:Enduring Activity
CATEGORIES:AMA
END:VEVENT
BEGIN:VEVENT
DTSTART;TZID=America/Chicago:20241111T080000
DTEND;TZID=America/Chicago:20241111T170000
DTSTAMP:20260420T051300
CREATED:20241210T160903Z
LAST-MODIFIED:20241210T162537Z
UID:60054-1731312000-1731344400@mecop.org
SUMMARY:ANI Neurotoxin Training
DESCRIPTION:Outline facial skin and muscle anatomy and changes introduced throughout ageing. \nIdentify common landmarks for neurotoxin injections and the desired result. \nOutline risks and complications. \nDifferentiate between all available neurotoxins and their approved and off-label usages. \nConvert and dilute each neurotoxin product appropriately. \nPerform neurotoxin injections succesfully on multiple patients under direct supervision. \n 
URL:https://mecop.org/event/ani-neurotoxin-training-2/
LOCATION:Live
CATEGORIES:AMA
END:VEVENT
BEGIN:VEVENT
DTSTART;TZID=America/Chicago:20241112T080000
DTEND;TZID=America/Chicago:20241112T170000
DTSTAMP:20260420T051300
CREATED:20241114T130810Z
LAST-MODIFIED:20241114T131008Z
UID:59319-1731398400-1731430800@mecop.org
SUMMARY:2024 ABOG Lifelong Learning and Self-Assessment Activity
DESCRIPTION:Unavailable
URL:https://mecop.org/event/2024-abog-lifelong-learning-and-self-assessment-activity/
LOCATION:Enduring Activity
CATEGORIES:AMA
END:VEVENT
BEGIN:VEVENT
DTSTART;TZID=America/Chicago:20241112T080000
DTEND;TZID=America/Chicago:20241112T170000
DTSTAMP:20260420T051300
CREATED:20241202T193503Z
LAST-MODIFIED:20251121T221614Z
UID:59798-1731398400-1731430800@mecop.org
SUMMARY:Summit Medical Grand Rounds: New Options for Managing Common Hand Conditions in a Cost-Effective Manner
DESCRIPTION:Review the clinical presentation\, physical exam features\, pertinent anatomy\, and management of hand disorders in a cost-effective manner. \nProvide an overview of In-office Hand Surgery Procedure Room and cost reduction
URL:https://mecop.org/event/summit-medical-grand-rounds-8/
LOCATION:Knoxville\, TN
CATEGORIES:AMA
END:VEVENT
BEGIN:VEVENT
DTSTART;TZID=America/Chicago:20241112T080000
DTEND;TZID=America/Chicago:20241112T170000
DTSTAMP:20260420T051300
CREATED:20241210T161019Z
LAST-MODIFIED:20250502T221938Z
UID:60056-1731398400-1731430800@mecop.org
SUMMARY:ANI Dermal Filler Training
DESCRIPTION:Describe the facial anatomy involved in ageing\, and understand how the loss of volume in the fat pads impact appearance. \nOutline the various dermal filler categories\, products and brands available. \nPerform a patient consultation and prepare the product for administration.. \nIdentify contraindications and adverse events and perform appropriate management \nInject dermal filler on a variety of patients to successfully address their ageing concern.
URL:https://mecop.org/event/ani-dermal-filler-training-2/
LOCATION:Live
CATEGORIES:AMA
END:VEVENT
BEGIN:VEVENT
DTSTART;TZID=America/Chicago:20241112T080000
DTEND;TZID=America/Chicago:20241112T170000
DTSTAMP:20260420T051300
CREATED:20241229T171845Z
LAST-MODIFIED:20241229T171845Z
UID:60340-1731398400-1731430800@mecop.org
SUMMARY:Pediatric Associates PACE Meeting
DESCRIPTION:
URL:https://mecop.org/event/pediatric-associates-pace-meeting-46/
LOCATION:Zoom
CATEGORIES:AMA
END:VEVENT
BEGIN:VEVENT
DTSTART;TZID=America/Chicago:20241112T120000
DTEND;TZID=America/Chicago:20241112T130000
DTSTAMP:20260420T051300
CREATED:20240717T150301Z
LAST-MODIFIED:20241114T184407Z
UID:57667-1731412800-1731416400@mecop.org
SUMMARY:MUSM Clinical Faculty Development Series
DESCRIPTION:Explain Surgical Informatics and its role in modern surgery.\nExplore the impact of Artificial Intelligence in surgical decision-making.\nIdentify key AI Use Cases in improving surgical outcomes.\nLearn AI applications in Risk Prediction for patient care.\nExamine AI-driven Risk Stratification methods in surgery.\nAssess AI’s role in enhancing Surgical Efficiency.\nDiscover the use of AI for Surgical Coaching and skill improvement.
URL:https://mecop.org/event/musm-clinical-faculty-development-series-28/
LOCATION:Live
CATEGORIES:AMA
END:VEVENT
BEGIN:VEVENT
DTSTART;TZID=America/Los_Angeles:20241112T180000
DTEND;TZID=America/Los_Angeles:20241112T210000
DTSTAMP:20260420T051300
CREATED:20240206T144132Z
LAST-MODIFIED:20250402T202828Z
UID:55695-1731434400-1731445200@mecop.org
SUMMARY:Pediatric Associates PACE Meeting
DESCRIPTION:TBA
URL:https://mecop.org/event/pediatric-associates-pace-meeting-43/
LOCATION:Zoom
CATEGORIES:AMA
END:VEVENT
BEGIN:VEVENT
DTSTART;TZID=America/Chicago:20241113T080000
DTEND;TZID=America/Chicago:20241113T170000
DTSTAMP:20260420T051300
CREATED:20241123T132341Z
LAST-MODIFIED:20241223T191344Z
UID:59591-1731484800-1731517200@mecop.org
SUMMARY:VIP Care Performance Forum
DESCRIPTION:Consistent identification of chronic conditions\, putting a comprehensive treatment plan in place\, and ensuring HEDIS measures/preventative screening protocols are in place.
URL:https://mecop.org/event/vipcare-performance-forum/
LOCATION:Virtual
CATEGORIES:AMA
END:VEVENT
BEGIN:VEVENT
DTSTART;TZID=America/Chicago:20241113T080000
DTEND;TZID=America/Chicago:20241113T170000
DTSTAMP:20260420T051300
CREATED:20241210T161515Z
LAST-MODIFIED:20241210T162606Z
UID:60058-1731484800-1731517200@mecop.org
SUMMARY:ANI BBL Training
DESCRIPTION:Differentiate between the two approved products for BBL and outline the risks and benefits associated with each. \nDiscuss the risks of both surgical and non-surgical BBL to provide informed consent to the patient. \nidentify patient shapes and select the appropriate product and technique to address the shape and patient goals. \nPerform a patient consultation and prepare the product for administration for a non-surgical BBL. \nPerform non-surgical BBL successfully on patient. \n 
URL:https://mecop.org/event/ani-bbl-training/
LOCATION:Live
CATEGORIES:AMA
END:VEVENT
BEGIN:VEVENT
DTSTART;TZID=America/Chicago:20241113T080000
DTEND;TZID=America/Chicago:20241113T170000
DTSTAMP:20260420T051300
CREATED:20241226T144648Z
LAST-MODIFIED:20241226T144654Z
UID:60304-1731484800-1731517200@mecop.org
SUMMARY:PEEP Risk Adjustment and Neurology
DESCRIPTION:Review CMS-HCC risk adjustment model and why it is important\nReview specific official ICD-10-CM coding guidelines and how they are applied for HCC diagnosis coding\nIdentify elements of the medical record that help support the validation of an HCC diagnosis condition\nIdentify documentation deficiencies for specific conditions
URL:https://mecop.org/event/peep-risk-adjustment-and-neurology-4/
LOCATION:Internet Enduring Material/Webcast
CATEGORIES:AMA
END:VEVENT
BEGIN:VEVENT
DTSTART;TZID=America/Chicago:20241113T080000
DTEND;TZID=America/Chicago:20241113T170000
DTSTAMP:20260420T051300
CREATED:20250611T191053Z
LAST-MODIFIED:20250611T191053Z
UID:63244-1731484800-1731517200@mecop.org
SUMMARY:General Adult Tumor Board 2024
DESCRIPTION:Unavailable
URL:https://mecop.org/event/general-adult-tumor-board-2024-30/
LOCATION:Ascension Sacred Heart Hospital\, FL
CATEGORIES:AMA
END:VEVENT
BEGIN:VEVENT
DTSTART;TZID=America/Chicago:20241113T123000
DTEND;TZID=America/Chicago:20241113T133000
DTSTAMP:20260420T051300
CREATED:20240205T185519Z
LAST-MODIFIED:20241126T133909Z
UID:55675-1731501000-1731504600@mecop.org
SUMMARY:MUSM Pediatric Advancement Speakers' Series
DESCRIPTION:Causes of Hyperbilirubinemia\n• Identify and review the diagnostic approach to determining the underlying cause of hyperbilirubinemia. \nBiliary Stricture and ERCP\n• Explain the role of Endoscopic Retrograde Cholangiopancreatography (ERCP) in the diagnosis and management of biliary strictures. \nNeuroendocrine Tumors\n• Describe its epidemiology\, types\, workup and treatment considerations
URL:https://mecop.org/event/musm-pediatric-advancement-speakers-series-5/
LOCATION:Live
CATEGORIES:AMA
END:VEVENT
BEGIN:VEVENT
DTSTART;TZID=America/Chicago:20241114T080000
DTEND;TZID=America/Chicago:20241114T170000
DTSTAMP:20260420T051300
CREATED:20241114T214352Z
LAST-MODIFIED:20241120T193950Z
UID:59351-1731571200-1731603600@mecop.org
SUMMARY:Risk Adjustment and The Bucket List Rules for Coding Cancer
DESCRIPTION:Review CMS-HCC risk adjustment model and why it is important\nReview specific official ICD-10-CM coding guidelines and how they are applied for HCC diagnosis coding\nIdentify elements of the medical record that help support the validation of an HCC diagnosis condition\nIdentify documentation deficiencies for specific conditions.
URL:https://mecop.org/event/phso-risk-adjustment-and-the-bucket-list-for-coding-cancer/
LOCATION:Internet Enduring Material
CATEGORIES:AMA
END:VEVENT
BEGIN:VEVENT
DTSTART;TZID=America/Chicago:20241114T080000
DTEND;TZID=America/Chicago:20241114T170000
DTSTAMP:20260420T051300
CREATED:20241115T194751Z
LAST-MODIFIED:20241115T194751Z
UID:59419-1731571200-1731603600@mecop.org
SUMMARY:2024 Maintenance of Certification (MOC) Program
DESCRIPTION:Unavailable
URL:https://mecop.org/event/2024-maintenance-of-certification-moc-program-5/
LOCATION:Enduring Activity
CATEGORIES:AMA
END:VEVENT
BEGIN:VEVENT
DTSTART;TZID=America/Chicago:20241114T080000
DTEND;TZID=America/Chicago:20241114T170000
DTSTAMP:20260420T051300
CREATED:20241205T171409Z
LAST-MODIFIED:20241220T215344Z
UID:59899-1731571200-1731603600@mecop.org
SUMMARY:PEEP Pediatric Chronic Conditions
DESCRIPTION:Review CMS-HCC risk adjustment model and why it is important\nReview specific official ICD-10-CM coding guidelines and how they are applied for HCC diagnosis coding\nIdentify elements of the medical record that help support the validation of an HCC diagnosis condition\nIdentify documentation deficiencies for specific conditions.
URL:https://mecop.org/event/peep-pediatric-chronic-conditions-3/
LOCATION:Internet Enduring Material
CATEGORIES:AMA
END:VEVENT
BEGIN:VEVENT
DTSTART;TZID=America/Chicago:20241114T080000
DTEND;TZID=America/Chicago:20241114T170000
DTSTAMP:20260420T051300
CREATED:20241205T172815Z
LAST-MODIFIED:20241220T171053Z
UID:59907-1731571200-1731603600@mecop.org
SUMMARY:Diabetes Preventing Microvascular Complications ACT
DESCRIPTION:See content.
URL:https://mecop.org/event/diabetes-preventing-microvascular-complications-act-4/
LOCATION:Internet Enduring Material
CATEGORIES:AMA
END:VEVENT
BEGIN:VEVENT
DTSTART;TZID=America/Chicago:20241115T080000
DTEND;TZID=America/Chicago:20241115T170000
DTSTAMP:20260420T051300
CREATED:20241125T154224Z
LAST-MODIFIED:20241125T154336Z
UID:59619-1731657600-1731690000@mecop.org
SUMMARY:18 F-Labeled Fluoroestradiol PET/CT
DESCRIPTION:Unavailable
URL:https://mecop.org/event/18-f-labeled-fluoroestradiol-pet-ct/
LOCATION:Enduring Activity
CATEGORIES:AMA
END:VEVENT
BEGIN:VEVENT
DTSTART;TZID=America/Chicago:20241115T080000
DTEND;TZID=America/Chicago:20241115T170000
DTSTAMP:20260420T051300
CREATED:20241125T154627Z
LAST-MODIFIED:20241125T154728Z
UID:59622-1731657600-1731690000@mecop.org
SUMMARY:Oral CT Contrast Agents
DESCRIPTION:Unavailable
URL:https://mecop.org/event/oral-ct-contrast-agents/
LOCATION:Enduring Activity
CATEGORIES:AMA
END:VEVENT
BEGIN:VEVENT
DTSTART;TZID=America/Chicago:20241115T080000
DTEND;TZID=America/Chicago:20241115T170000
DTSTAMP:20260420T051300
CREATED:20241125T155114Z
LAST-MODIFIED:20241125T155220Z
UID:59625-1731657600-1731690000@mecop.org
SUMMARY:Burnout Is More Than Binary
DESCRIPTION:Unavailable
URL:https://mecop.org/event/burnout-is-more-than-binary/
LOCATION:Enduring Activity
CATEGORIES:AMA
END:VEVENT
BEGIN:VEVENT
DTSTART;TZID=America/Chicago:20241116T080000
DTEND;TZID=America/Chicago:20241116T170000
DTSTAMP:20260420T051300
CREATED:20241119T150756Z
LAST-MODIFIED:20241119T195057Z
UID:59466-1731744000-1731776400@mecop.org
SUMMARY:Creating Health Equity in Pain Management:
DESCRIPTION:Unavailable
URL:https://mecop.org/event/creating-health-equity-in-pain-management/
LOCATION:Enduring Activity
CATEGORIES:AMA,Prescribing of Controlled Substances
END:VEVENT
BEGIN:VEVENT
DTSTART;TZID=America/Chicago:20241116T080000
DTEND;TZID=America/Chicago:20241116T170000
DTSTAMP:20260420T051300
CREATED:20241119T151505Z
LAST-MODIFIED:20241119T195618Z
UID:59470-1731744000-1731776400@mecop.org
SUMMARY:Ask the Expert About Pain Management
DESCRIPTION:Unavailable
URL:https://mecop.org/event/ask-the-expert-about-pain-management/
LOCATION:Internet Enduring Material
CATEGORIES:AMA,Prescribing of Controlled Substances
END:VEVENT
BEGIN:VEVENT
DTSTART;TZID=America/Chicago:20241116T080000
DTEND;TZID=America/Chicago:20241116T170000
DTSTAMP:20260420T051300
CREATED:20241119T152427Z
LAST-MODIFIED:20241206T200516Z
UID:59474-1731744000-1731776400@mecop.org
SUMMARY:Breaking the Opioid Cycle:
DESCRIPTION:Unavailable
URL:https://mecop.org/event/breaking-the-opioid-cycle/
LOCATION:Internet Enduring Material
CATEGORIES:AMA
END:VEVENT
BEGIN:VEVENT
DTSTART;TZID=America/Chicago:20241116T080000
DTEND;TZID=America/Chicago:20241116T170000
DTSTAMP:20260420T051300
CREATED:20241119T153135Z
LAST-MODIFIED:20241119T153717Z
UID:59477-1731744000-1731776400@mecop.org
SUMMARY:Bridging the Gap:
DESCRIPTION:Unavailable
URL:https://mecop.org/event/bridging-the-gap/
LOCATION:Internet Enduring Material
CATEGORIES:AMA,Ethics
END:VEVENT
BEGIN:VEVENT
DTSTART;TZID=America/Chicago:20241116T080000
DTEND;TZID=America/Chicago:20241116T170000
DTSTAMP:20260420T051300
CREATED:20241119T153938Z
LAST-MODIFIED:20241119T154319Z
UID:59481-1731744000-1731776400@mecop.org
SUMMARY:Mitigating Risk:
DESCRIPTION:Unavailable
URL:https://mecop.org/event/mitigating-risk/
LOCATION:Internet Enduring Material
CATEGORIES:AMA,Ethics
END:VEVENT
BEGIN:VEVENT
DTSTART;TZID=America/Chicago:20241116T080000
DTEND;TZID=America/Chicago:20241116T170000
DTSTAMP:20260420T051300
CREATED:20241119T154639Z
LAST-MODIFIED:20250424T145046Z
UID:59484-1731744000-1731776400@mecop.org
SUMMARY:Medical Errors:
DESCRIPTION:Unavailable
URL:https://mecop.org/event/medical-errors-9/
LOCATION:Internet Enduring Material
CATEGORIES:AMA,MedErrors
END:VEVENT
BEGIN:VEVENT
DTSTART;TZID=America/Chicago:20241116T080000
DTEND;TZID=America/Chicago:20241116T170000
DTSTAMP:20260420T051300
CREATED:20241119T155843Z
LAST-MODIFIED:20250424T144917Z
UID:59488-1731744000-1731776400@mecop.org
SUMMARY:Medical Errors:
DESCRIPTION:Unavailable
URL:https://mecop.org/event/medical-errors-10/
LOCATION:Internet Enduring Material
CATEGORIES:AMA,MedErrors
END:VEVENT
BEGIN:VEVENT
DTSTART;TZID=America/Chicago:20241118T080000
DTEND;TZID=America/Chicago:20241118T170000
DTSTAMP:20260420T051300
CREATED:20241125T210719Z
LAST-MODIFIED:20241125T210825Z
UID:59671-1731916800-1731949200@mecop.org
SUMMARY:Gadolinium-Based Contrast Agent Safety Update
DESCRIPTION:Unavailable
URL:https://mecop.org/event/gadolinium-based-contrast-agent-safety-update/
LOCATION:Enduring Activity
CATEGORIES:AMA
END:VEVENT
END:VCALENDAR