BEGIN:VCALENDAR
VERSION:2.0
PRODID:-//Mecop - ECPv6.5.1.5//NONSGML v1.0//EN
CALSCALE:GREGORIAN
METHOD:PUBLISH
X-WR-CALNAME:Mecop
X-ORIGINAL-URL:https://mecop.org
X-WR-CALDESC:Events for Mecop
REFRESH-INTERVAL;VALUE=DURATION:PT1H
X-Robots-Tag:noindex
X-PUBLISHED-TTL:PT1H
BEGIN:VTIMEZONE
TZID:America/Chicago
BEGIN:DAYLIGHT
TZOFFSETFROM:-0600
TZOFFSETTO:-0500
TZNAME:CDT
DTSTART:20250309T080000
END:DAYLIGHT
BEGIN:STANDARD
TZOFFSETFROM:-0500
TZOFFSETTO:-0600
TZNAME:CST
DTSTART:20251102T070000
END:STANDARD
END:VTIMEZONE
BEGIN:VEVENT
DTSTART;TZID=America/Chicago:20250325T080000
DTEND;TZID=America/Chicago:20250325T170000
DTSTAMP:20260419T084838
CREATED:20251015T234641Z
LAST-MODIFIED:20251015T234641Z
UID:64979-1742889600-1742922000@mecop.org
SUMMARY:Medical Management of Obstetric and Postpartum Hemorrhage (v2)
DESCRIPTION:Unavailable
URL:https://mecop.org/event/medical-management-of-obstetric-and-postpartum-hemorrhage-v2-4/
LOCATION:Enduring Activity
CATEGORIES:AMA
END:VEVENT
BEGIN:VEVENT
DTSTART;TZID=America/Chicago:20250325T080000
DTEND;TZID=America/Chicago:20250325T170000
DTSTAMP:20260419T084838
CREATED:20251217T201201Z
LAST-MODIFIED:20251217T201305Z
UID:66407-1742889600-1742922000@mecop.org
SUMMARY:FSU Reducing the Potential for FSU COM Student Mistreatment Module:
DESCRIPTION:Unavailable
URL:https://mecop.org/event/fsu-reducing-the-potential-for-fsu-com-student-mistreatment-3/
LOCATION:Enduring Activity
CATEGORIES:AMA
END:VEVENT
BEGIN:VEVENT
DTSTART;TZID=America/Chicago:20250325T080000
DTEND;TZID=America/Chicago:20250710T170000
DTSTAMP:20260419T084838
CREATED:20250710T214014Z
LAST-MODIFIED:20250710T214858Z
UID:63585-1742889600-1752166800@mecop.org
SUMMARY:PediPlus Program 2025
DESCRIPTION:Overview of Murmurs\nPediatric Endocrinology in Gen Peds\nInfant Nutrition\nOEP\nOverview; Anxiolytics & Antidepressive Meds\nEval & Mgmt of Sickle Cell Disease\nTrip to the Zoo\nEvaluation & Mgmt of Eczema\nHives\nAsthma Overview\nPediatric Antibiotics and Skin Infections & Antibiotic Baseball\nPEDS Potpurri\nFood Allergies\nIntensive Health Behavior & Lifestyle Treatment\nOCP\nEvaluation of the Newborn Part 1\nDevelopmental Milestones\nAutism\nSports Physical\nNutrition & the Athlete
URL:https://mecop.org/event/pediplus-program-2025/
LOCATION:Live Course
CATEGORIES:AMA
END:VEVENT
BEGIN:VEVENT
DTSTART;TZID=America/Chicago:20250326T080000
DTEND;TZID=America/Chicago:20250326T170000
DTSTAMP:20260419T084838
CREATED:20250329T210407Z
LAST-MODIFIED:20250329T210407Z
UID:61929-1742976000-1743008400@mecop.org
SUMMARY:General Adult Tumor Board 2025
DESCRIPTION:Unavailable
URL:https://mecop.org/event/general-adult-tumor-board-2025-7/
LOCATION:Ascension Sacred Heart Hospital\, FL
CATEGORIES:AMA
END:VEVENT
BEGIN:VEVENT
DTSTART;TZID=America/Chicago:20250326T174500
DTEND;TZID=America/Chicago:20250326T194500
DTSTAMP:20260419T084838
CREATED:20250326T200954Z
LAST-MODIFIED:20250410T133936Z
UID:61814-1743011100-1743018300@mecop.org
SUMMARY:FSU-Ft. Pierce
DESCRIPTION:1. Describe 3 features of the FSUCOM curriculum that you would include in a conversation with someone who was unfamiliar with the curriculum.\n2. Identify learning objectives you can help the FSUCOM student accomplish that are located in the syllabus specific to the required clerkship or elective rotation on which you teach.\n3. List the three characteristics/skills of effective clinical teachers that you feel are particularly/most important.\n4. List/describe one characteristic of effective teachers that you feel need to enhance and one characteristic/skill you feel is a strength at this time.\n5. Describe the wave model which is a teaching strategy designed to help make teaching in the ambulatory setting efficient.\n6. Describe how to provide an orientation at the beginning of a clerkship to a student arriving at your office or clinical setting.\n7. Describe the ARCH model for giving feedback to the student.
URL:https://mecop.org/event/fsu-ft-pierce-195/
LOCATION:Fort Pierce Regional Campus\, 1200 W International Speedway Blvd #101\, Daytona Beach\, FL\, 32114\, United States
CATEGORIES:AMA
END:VEVENT
BEGIN:VEVENT
DTSTART;TZID=America/Chicago:20250327T080000
DTEND;TZID=America/Chicago:20250327T170000
DTSTAMP:20260419T084838
CREATED:20250327T180410Z
LAST-MODIFIED:20250327T180416Z
UID:61856-1743062400-1743094800@mecop.org
SUMMARY:PEEP Risk Adjustment and Vascular Disease
DESCRIPTION:Review CMS-HCC risk adjustment model and why it is important\nReview specific official ICD-10-CM coding guidelines and how they are applied for HCC diagnosis coding\nIdentify elements of the medical record that help support the validation of an HCC diagnosis condition\nIdentify documentation deficiencies for specific conditions
URL:https://mecop.org/event/peep-risk-adjustment-and-vascular-disease-8/
LOCATION:Internet Enduring Material
CATEGORIES:AMA
END:VEVENT
BEGIN:VEVENT
DTSTART;TZID=America/Chicago:20250327T080000
DTEND;TZID=America/Chicago:20250327T170000
DTSTAMP:20260419T084838
CREATED:20250402T144454Z
LAST-MODIFIED:20250402T144710Z
UID:61993-1743062400-1743094800@mecop.org
SUMMARY:Method Aesthetics Academy: Level 1 Training
DESCRIPTION:Demonstrate competency in facial anatomy as it pertains to placement of botulinium toxin and filler. Demonstrate competence in neurotoxin and filler. Perform proper placement and injection of neurotoxin and filler for glabella\, frontalis and crow’s feet\, as well as cheeks\, lips and nasolabial folds.
URL:https://mecop.org/event/method-aesthetics-academy-level-1-training-9/
LOCATION:Mela MedSpa
CATEGORIES:AMA
END:VEVENT
BEGIN:VEVENT
DTSTART;TZID=America/Chicago:20250327T080000
DTEND;TZID=America/Chicago:20250327T170000
DTSTAMP:20260419T084838
CREATED:20250409T154943Z
LAST-MODIFIED:20250512T201723Z
UID:62089-1743062400-1743094800@mecop.org
SUMMARY:NFO Business of Medicine Web Series: When is Modifier 25 Appropriate with Minor Procedures?
DESCRIPTION:In this session the audience will learn about the appropriate and inappropriate us of modifier 25. We will discuss Otolaryngology scenarios that include nasal endoscopies and laryngoscopies. \nWhat you will know at the end of this lesson: \n1. What is modifier 25. 2. What is the risk related to modifier 25. 3. What are the requirements to use modifier 25. 4. When modifier 25 should be used and when if should not be used.
URL:https://mecop.org/event/62089/
LOCATION:Internet Live Webcast
CATEGORIES:AMA
END:VEVENT
BEGIN:VEVENT
DTSTART;TZID=America/Chicago:20250327T080000
DTEND;TZID=America/Chicago:20250327T170000
DTSTAMP:20260419T084838
CREATED:20250409T194139Z
LAST-MODIFIED:20250409T194336Z
UID:62095-1743062400-1743094800@mecop.org
SUMMARY:UpToDate
DESCRIPTION:Unavailable
URL:https://mecop.org/event/uptodate-16/
LOCATION:Internet point-of-care
CATEGORIES:AMA
END:VEVENT
BEGIN:VEVENT
DTSTART;TZID=America/Chicago:20250328T080000
DTEND;TZID=America/Chicago:20250328T170000
DTSTAMP:20260419T084838
CREATED:20250330T191729Z
LAST-MODIFIED:20251206T135904Z
UID:61947-1743148800-1743181200@mecop.org
SUMMARY:2025 Faculty Teaching Credits Doctoring 3
DESCRIPTION:Unavailable
URL:https://mecop.org/event/2025-faculty-teaching-credits-doctoring-3/
LOCATION:Daytona Beach Regional Campus\, 1200 W International Speedway\, Daytona Beach\, FL\, 32114\, United States
CATEGORIES:AMA
END:VEVENT
BEGIN:VEVENT
DTSTART;TZID=America/Chicago:20250328T080000
DTEND;TZID=America/Chicago:20250328T170000
DTSTAMP:20260419T084838
CREATED:20250401T143633Z
LAST-MODIFIED:20260224T184754Z
UID:61974-1743148800-1743181200@mecop.org
SUMMARY:2025 Faculty Teaching Credits Surgery Clerkship
DESCRIPTION:Unavailable
URL:https://mecop.org/event/2025-faculty-teaching-credits-surgery-clerkship-2/
LOCATION:Pensacola Regional Campus\, 11000 University Parkway Bldg 234\, 2nd Floor\, Pensacola\, FL\, 32514-5750\, United States
CATEGORIES:AMA
END:VEVENT
BEGIN:VEVENT
DTSTART;TZID=America/Chicago:20250328T080000
DTEND;TZID=America/Chicago:20250328T170000
DTSTAMP:20260419T084838
CREATED:20250401T163142Z
LAST-MODIFIED:20250401T163627Z
UID:61978-1743148800-1743181200@mecop.org
SUMMARY:FADAA Baby Boomers and Opioid Use Disorder
DESCRIPTION:Describe substance use and opioid use disorder for the baby boomer generation. \nMaster how opioid use disorder impacts the brain and the decision-making pathways of individuals using opioids and related substances. \nDiscover the concepts of medication for opioid use disorder and how medication can support the patient’s road to recovery. \nOutline three FDA-approved medications to treat substance use disorders (SUD). \nApply strategies to help the older generation fight OUD
URL:https://mecop.org/event/fadaa-baby-boomers-and-opioid-use-disorder-2/
LOCATION:Internet Live Webcast
CATEGORIES:AMA
END:VEVENT
BEGIN:VEVENT
DTSTART;TZID=America/Chicago:20250328T080000
DTEND;TZID=America/Chicago:20250328T170000
DTSTAMP:20260419T084838
CREATED:20250405T221633Z
LAST-MODIFIED:20251209T181609Z
UID:62034-1743148800-1743181200@mecop.org
SUMMARY:2025 Faculty Teaching Credits OBGYN Clerkship
DESCRIPTION:Unavailable
URL:https://mecop.org/event/2025-faculty-teaching-credits-obgyn-clerkship-2/
LOCATION:Daytona Beach Regional Campus\, 1200 W International Speedway\, Daytona Beach\, FL\, 32114\, United States
CATEGORIES:AMA
END:VEVENT
BEGIN:VEVENT
DTSTART;TZID=America/Chicago:20250328T080000
DTEND;TZID=America/Chicago:20250328T170000
DTSTAMP:20260419T084838
CREATED:20250406T164439Z
LAST-MODIFIED:20251219T145552Z
UID:62041-1743148800-1743181200@mecop.org
SUMMARY:2025 Faculty Teaching Credits Geriatrics Clerkship
DESCRIPTION:Unavailable
URL:https://mecop.org/event/2025-faculty-teaching-credits-geriatrics-clerkship-2/
LOCATION:Fort Pierce Regional Campus\, 1200 W International Speedway Blvd #101\, Daytona Beach\, FL\, 32114\, United States
CATEGORIES:AMA
END:VEVENT
BEGIN:VEVENT
DTSTART;TZID=America/Chicago:20250328T080000
DTEND;TZID=America/Chicago:20250328T170000
DTSTAMP:20260419T084838
CREATED:20250407T223927Z
LAST-MODIFIED:20251203T185129Z
UID:62051-1743148800-1743181200@mecop.org
SUMMARY:2025 Faculty Teaching Credits Endocrinology Clerkship
DESCRIPTION:Unavailable
URL:https://mecop.org/event/2025-faculty-teaching-credits-endocrinology-clerkship/
LOCATION:Tallahassee Regional Campus\, Tallahassee\, FL\, United States
CATEGORIES:AMA
END:VEVENT
BEGIN:VEVENT
DTSTART;TZID=America/Chicago:20250328T080000
DTEND;TZID=America/Chicago:20250328T170000
DTSTAMP:20260419T084838
CREATED:20250424T153618Z
LAST-MODIFIED:20250502T215446Z
UID:62211-1743148800-1743181200@mecop.org
SUMMARY:ANI Dermal Filler Training
DESCRIPTION:Describe the facial anatomy involved in ageing\, and understand how the loss of volume in the fat pads impact appearance. \nOutline the various dermal filler categories\, products and brands available. \nPerform a patient consultation and prepare the product for administration.. \nIdentify contraindications and adverse events and perform appropriate management \nInject dermal filler on a variety of patients to successfully address their ageing concern.
URL:https://mecop.org/event/ani-dermal-filler-training-3/
LOCATION:Houston\, TX
CATEGORIES:AMA
END:VEVENT
BEGIN:VEVENT
DTSTART;TZID=America/Chicago:20250328T080000
DTEND;TZID=America/Chicago:20250328T170000
DTSTAMP:20260419T084838
CREATED:20250602T165820Z
LAST-MODIFIED:20250602T170006Z
UID:63156-1743148800-1743181200@mecop.org
SUMMARY:2025 Faculty Teaching Credits Geriatrics/Rheumatology Clerkship
DESCRIPTION:Unavailable
URL:https://mecop.org/event/2025-faculty-teaching-credits-geriatrics-rheumatology-clerkship/
LOCATION:Pensacola Regional Campus\, 11000 University Parkway Bldg 234\, 2nd Floor\, Pensacola\, FL\, 32514-5750\, United States
CATEGORIES:AMA
END:VEVENT
BEGIN:VEVENT
DTSTART;TZID=America/Chicago:20250328T080000
DTEND;TZID=America/Chicago:20250328T170000
DTSTAMP:20260419T084838
CREATED:20250623T202216Z
LAST-MODIFIED:20250623T202216Z
UID:63384-1743148800-1743181200@mecop.org
SUMMARY:2025 Faculty Teaching Credits Pediatric Radiology Clerkship
DESCRIPTION:Unavailable
URL:https://mecop.org/event/2025-faculty-teaching-credits-pediatric-radiology-clerkship/
LOCATION:Orlando Regional Campus\, Orlando\, FL\, United States
CATEGORIES:AMA
END:VEVENT
BEGIN:VEVENT
DTSTART;TZID=America/Chicago:20250328T080000
DTEND;TZID=America/Chicago:20250328T170000
DTSTAMP:20260419T084838
CREATED:20250623T203247Z
LAST-MODIFIED:20250623T203247Z
UID:63395-1743148800-1743181200@mecop.org
SUMMARY:2025 Faculty Teaching Credits Medical Intensive Care Unit Clerkship
DESCRIPTION:Unavailable
URL:https://mecop.org/event/2025-faculty-teaching-credits-medical-intensive-care-unit-clerkship-2/
LOCATION:Orlando Regional Campus\, Orlando\, FL\, United States
CATEGORIES:AMA
END:VEVENT
BEGIN:VEVENT
DTSTART;TZID=America/Chicago:20250328T080000
DTEND;TZID=America/Chicago:20250328T170000
DTSTAMP:20260419T084838
CREATED:20250623T203522Z
LAST-MODIFIED:20251205T172717Z
UID:63399-1743148800-1743181200@mecop.org
SUMMARY:2025 Faculty Teaching Credits Cardiology Clerkship
DESCRIPTION:Unavailable
URL:https://mecop.org/event/2025-faculty-teaching-credits-cardiology-clerkship/
LOCATION:Orlando Regional Campus\, Orlando\, FL\, United States
CATEGORIES:AMA
END:VEVENT
BEGIN:VEVENT
DTSTART;TZID=America/Chicago:20250328T080000
DTEND;TZID=America/Chicago:20250328T170000
DTSTAMP:20260419T084838
CREATED:20250724T194710Z
LAST-MODIFIED:20250724T194837Z
UID:63825-1743148800-1743181200@mecop.org
SUMMARY:2025 Faculty Teaching Credits Healthy Equity
DESCRIPTION:Unavailable
URL:https://mecop.org/event/2025-faculty-teaching-credits-healthy-equity/
LOCATION:Tallahassee Regional Campus\, Tallahassee\, FL\, United States
CATEGORIES:AMA
END:VEVENT
BEGIN:VEVENT
DTSTART;TZID=America/Chicago:20250328T080000
DTEND;TZID=America/Chicago:20250328T170000
DTSTAMP:20260419T084838
CREATED:20250731T143701Z
LAST-MODIFIED:20251114T141256Z
UID:63927-1743148800-1743181200@mecop.org
SUMMARY:2025 Faculty Teaching Credits Rheumatology Clerkship
DESCRIPTION:Unavailable
URL:https://mecop.org/event/2025-faculty-teaching-credits-rheumatology-clerkship/
LOCATION:Tallahassee Regional Campus\, Tallahassee\, FL\, United States
CATEGORIES:AMA
END:VEVENT
BEGIN:VEVENT
DTSTART;TZID=America/Chicago:20250328T080000
DTEND;TZID=America/Chicago:20250328T170000
DTSTAMP:20260419T084838
CREATED:20251204T001559Z
LAST-MODIFIED:20251215T000542Z
UID:66076-1743148800-1743181200@mecop.org
SUMMARY:2025 Faculty Teaching Credits Internal Medicine/Hospitalist Clerkship
DESCRIPTION:Unavailable
URL:https://mecop.org/event/2025-faculty-teaching-credits-internal-medicine-hospitalist-clerkship/
LOCATION:Pensacola Regional Campus\, 11000 University Parkway Bldg 234\, 2nd Floor\, Pensacola\, FL\, 32514-5750\, United States
CATEGORIES:AMA
END:VEVENT
BEGIN:VEVENT
DTSTART;TZID=America/Chicago:20250328T080000
DTEND;TZID=America/Chicago:20250329T170000
DTSTAMP:20260419T084838
CREATED:20250331T162650Z
LAST-MODIFIED:20250331T163934Z
UID:61965-1743148800-1743267600@mecop.org
SUMMARY:Method Aesthetics Academy: Level 2 Training
DESCRIPTION:Upon completion\, learners will:\nAssess and place lower face neuromodulators and neuromodulators for medical necessity\nPlace and inject dermal filler for tear troughs\, temples\, brow bone\, jaw and chin\nSelect\, place and utilize cannulas effectively
URL:https://mecop.org/event/method-aesthetics-academy-level-2-training-7/
LOCATION:Mela MedSpa
CATEGORIES:AMA
END:VEVENT
BEGIN:VEVENT
DTSTART;TZID=America/Chicago:20250329T080000
DTEND;TZID=America/Chicago:20250329T170000
DTSTAMP:20260419T084838
CREATED:20250401T165315Z
LAST-MODIFIED:20260120T155650Z
UID:61982-1743235200-1743267600@mecop.org
SUMMARY:Cerumen and Ear Foreign-Body Removal Course
DESCRIPTION:Assess pediatric and adult patients who present with ear concerns relating to cerumen impaction and foreign bodies. \nDetermine the best method for retrieval or irrigation. \nUtilize the irrigation tools safely and effectively to remove cerumen and ear foreign bodies. \nAssess risk and refer appropriately. \nApply the appropriate ICD-10 and CPT codes for cerumen and foreign body removal diagnostics and procedures.
URL:https://mecop.org/event/cerumen-removal-course/
LOCATION:Internet Enduring Material
CATEGORIES:AMA
END:VEVENT
BEGIN:VEVENT
DTSTART;TZID=America/Chicago:20250401T080000
DTEND;TZID=America/Chicago:20250401T170000
DTSTAMP:20260419T084838
CREATED:20250325T190538Z
LAST-MODIFIED:20250412T174435Z
UID:61783-1743494400-1743526800@mecop.org
SUMMARY:MUSM Clinical Faculty Development Series
DESCRIPTION:Explain and apply the principles of ethical authorship.\nExplain the function of article processing charges (APCs).\nDifferentiate between traditional\, open access (OA)\, and hybrid publishing.\nExplain your rights as an author and transferring copyright.\nRecognize the benefits/challenges of OA compared to traditional publishing.\nIdentify and avoid predatory publishing.\nDistinguish between predatory vs low quality journals.\nExplain the difference between public access and OA.\nLocate reputable and relevant OA journals using Journalytics.\nVet journals using indexing status\, impact factor/ranking\, and other metrics.\nIdentify OA journals with APC coverage via Mercer University agreements.
URL:https://mecop.org/event/musm-clinical-faculty-development-series-38/
LOCATION:Live
CATEGORIES:AMA
END:VEVENT
BEGIN:VEVENT
DTSTART;TZID=America/Chicago:20250401T080000
DTEND;TZID=America/Chicago:20250401T170000
DTSTAMP:20260419T084838
CREATED:20250408T173147Z
LAST-MODIFIED:20250501T203903Z
UID:62069-1743494400-1743526800@mecop.org
SUMMARY:FSU Fundamentals of Teaching in the FSU COM Clinical Education Program II Module
DESCRIPTION:Unavailable
URL:https://mecop.org/event/fsu-fundamentals-of-teaching-in-the-fsu-com-clinical-education-program-ii-module-14/
LOCATION:Enduring Material
CATEGORIES:AMA
END:VEVENT
BEGIN:VEVENT
DTSTART;TZID=America/Chicago:20250401T080000
DTEND;TZID=America/Chicago:20250401T170000
DTSTAMP:20260419T084838
CREATED:20250520T143428Z
LAST-MODIFIED:20250520T143641Z
UID:62950-1743494400-1743526800@mecop.org
SUMMARY:PEEP Risk Adjustment and Best Practices for Documentation and Coding
DESCRIPTION:Review CMS-HCC risk adjustment model and why it is important\nReview specific official ICD-10-CM coding guidelines and how they are applied for HCC diagnosis coding\nIdentify elements of the medical record that help support the validation of an HCC diagnosis condition\nIdentify documentation deficiencies for specific conditions.
URL:https://mecop.org/event/peep-risk-adjustment-and-best-practices-for-documentation-and-coding-3/
LOCATION:Internet Enduring Material
CATEGORIES:AMA
END:VEVENT
BEGIN:VEVENT
DTSTART;TZID=America/Chicago:20250401T080000
DTEND;TZID=America/Chicago:20250401T170000
DTSTAMP:20260419T084838
CREATED:20250520T214409Z
LAST-MODIFIED:20250520T214416Z
UID:62974-1743494400-1743526800@mecop.org
SUMMARY:PEEP The Cider House Rules of Risk Adjustment
DESCRIPTION:See content
URL:https://mecop.org/event/peep-the-cider-house-rules-of-risk-adjustment-2/
LOCATION:Internet Enduring Material
CATEGORIES:AMA
END:VEVENT
BEGIN:VEVENT
DTSTART;TZID=America/Chicago:20250402T080000
DTEND;TZID=America/Chicago:20250402T170000
DTSTAMP:20260419T084838
CREATED:20250425T231915Z
LAST-MODIFIED:20250425T232104Z
UID:62238-1743580800-1743613200@mecop.org
SUMMARY:KAMAP Introduction to Dermal Fillers
DESCRIPTION:Explain the mechanism of action of hyaluronic acid dermal fillers.\nIdentify safe prescribing practices of hyaluronic acid dermal fillers\nDemonstrate safe administration of hyaluronic acid dermal fillers\nAnticipate the risk of side effects\, adverse events\, and complications of administration of hyaluronic acid dermal fillers.\nOutline possible side effects of hyaluronic acid dermal fillers.\nUnderstand management of emergent complications of hyaluronic acid dermal fillers.
URL:https://mecop.org/event/kamap-introduction-to-dermal-fillers-5/
LOCATION:Live Course
CATEGORIES:AMA
END:VEVENT
END:VCALENDAR