BEGIN:VCALENDAR
VERSION:2.0
PRODID:-//Mecop - ECPv6.5.1.5//NONSGML v1.0//EN
CALSCALE:GREGORIAN
METHOD:PUBLISH
X-ORIGINAL-URL:https://mecop.org
X-WR-CALDESC:Events for Mecop
REFRESH-INTERVAL;VALUE=DURATION:PT1H
X-Robots-Tag:noindex
X-PUBLISHED-TTL:PT1H
BEGIN:VTIMEZONE
TZID:America/Chicago
BEGIN:DAYLIGHT
TZOFFSETFROM:-0600
TZOFFSETTO:-0500
TZNAME:CDT
DTSTART:20250309T080000
END:DAYLIGHT
BEGIN:STANDARD
TZOFFSETFROM:-0500
TZOFFSETTO:-0600
TZNAME:CST
DTSTART:20251102T070000
END:STANDARD
END:VTIMEZONE
BEGIN:VEVENT
DTSTART;TZID=America/Chicago:20250613T080000
DTEND;TZID=America/Chicago:20250613T170000
DTSTAMP:20260422T141827
CREATED:20250616T201000Z
LAST-MODIFIED:20250617T184442Z
UID:63296-1749801600-1749834000@mecop.org
SUMMARY:Risk Adjustment and Exploring "The Matrix" of Neurological Conditions
DESCRIPTION:1) Explain the importance of risk adjustment in Value Based Care models.\n2) Strengthen understanding of the coding guidelines and regulations\, including compliance and the impact of diagnosis coding on risk-adjusted payment models.\n3) Have an increased awareness of the auditing process for risk adjustment models.\n4) Have a better understanding of how to document for and report diagnosis codes to highest specificity.
URL:https://mecop.org/event/risk-adjustment-and-exploring-the-matrix-with-neurological-conditions-2/
LOCATION:Internet Live Webcast
CATEGORIES:AMA
END:VEVENT
BEGIN:VEVENT
DTSTART;TZID=America/Chicago:20250613T080000
DTEND;TZID=America/Chicago:20250613T170000
DTSTAMP:20260422T141827
CREATED:20250716T150647Z
LAST-MODIFIED:20250716T150647Z
UID:63718-1749801600-1749834000@mecop.org
SUMMARY:2025 Faculty Teaching Credits Summer Clinical Practicum/Longitudinal Clerkship
DESCRIPTION:Unavailable
URL:https://mecop.org/event/2025-faculty-teaching-credits-summer-clinical-practicum-longitudinal-clerkship/
LOCATION:Daytona Beach Regional Campus\, 1200 W International Speedway\, Daytona Beach\, FL\, 32114\, United States
CATEGORIES:AMA
END:VEVENT
BEGIN:VEVENT
DTSTART;TZID=America/Chicago:20250613T080000
DTEND;TZID=America/Chicago:20250613T170000
DTSTAMP:20260422T141827
CREATED:20251001T165701Z
LAST-MODIFIED:20251001T165701Z
UID:64744-1749801600-1749834000@mecop.org
SUMMARY:2025 Faculty Teaching Credits Internal Medicine/Pulmonary Clerkship
DESCRIPTION:Unavailable
URL:https://mecop.org/event/2025-faculty-teaching-credits-internal-medicine-pulmonary-clerkship/
LOCATION:Sarasota Regional Campus\, 5560 Bee Ridge Rd\, Sarasota\, FL\, 34233\, United States
CATEGORIES:AMA
END:VEVENT
BEGIN:VEVENT
DTSTART;TZID=America/Chicago:20250614T080000
DTEND;TZID=America/Chicago:20250614T170000
DTSTAMP:20260422T141827
CREATED:20250622T180918Z
LAST-MODIFIED:20250622T181155Z
UID:63365-1749888000-1749920400@mecop.org
SUMMARY:SNMMI GCNMC Webinar:
DESCRIPTION:Unavailable
URL:https://mecop.org/event/snmmi-gcnmc-webinar/
LOCATION:Enduring Material
CATEGORIES:AMA
END:VEVENT
BEGIN:VEVENT
DTSTART;TZID=America/Chicago:20250616T080000
DTEND;TZID=America/Chicago:20250616T170000
DTSTAMP:20260422T141827
CREATED:20250622T180517Z
LAST-MODIFIED:20250622T180517Z
UID:63362-1750060800-1750093200@mecop.org
SUMMARY:Navigating Professional Boundaries in Health Care
DESCRIPTION:Unavailable
URL:https://mecop.org/event/navigating-professional-boundaries-in-health-care-2/
LOCATION:Enduring Material
CATEGORIES:AMA
END:VEVENT
BEGIN:VEVENT
DTSTART;TZID=America/Chicago:20250616T080000
DTEND;TZID=America/Chicago:20250616T170000
DTSTAMP:20260422T141827
CREATED:20250708T141331Z
LAST-MODIFIED:20250708T141331Z
UID:63566-1750060800-1750093200@mecop.org
SUMMARY:Classic Lectures in Neuroradiology
DESCRIPTION:Unavailable
URL:https://mecop.org/event/classic-lectures-in-neuroradiology/
LOCATION:Enduring Activity
CATEGORIES:AMA
END:VEVENT
BEGIN:VEVENT
DTSTART;TZID=America/Chicago:20250617T000000
DTEND;TZID=America/Chicago:20250617T000000
DTSTAMP:20260422T141827
CREATED:20250619T134453Z
LAST-MODIFIED:20250619T141553Z
UID:63335-1750118400-1750118400@mecop.org
SUMMARY:CMS Monthly Provider Meeting
DESCRIPTION:TBA
URL:https://mecop.org/event/cms-monthly-provider-meeting-13/
LOCATION:Internet Live Webcast
CATEGORIES:AMA
END:VEVENT
BEGIN:VEVENT
DTSTART;TZID=America/Chicago:20250617T080000
DTEND;TZID=America/Chicago:20250617T170000
DTSTAMP:20260422T141827
CREATED:20250617T180134Z
LAST-MODIFIED:20250619T150825Z
UID:63303-1750147200-1750179600@mecop.org
SUMMARY:Risk Adjustment and Exploring "The Matrix" of Neurological Conditions
DESCRIPTION:1) Explain the importance of risk adjustment in Value Based Care models.\n2) Strengthen understanding of the coding guidelines and regulations\, including compliance and the impact of diagnosis coding on risk-adjusted payment models.\n3) Have an increased awareness of the auditing process for risk adjustment models.\n4) Have a better understanding of how to document for and report diagnosis codes to highest specificity.
URL:https://mecop.org/event/risk-adjustment-and-exploring-the-matrix-of-neurological-conditions-2/
LOCATION:Internet Live Webcast
CATEGORIES:AMA
END:VEVENT
BEGIN:VEVENT
DTSTART;TZID=America/Chicago:20250618T080000
DTEND;TZID=America/Chicago:20250618T170000
DTSTAMP:20260422T141827
CREATED:20250618T124035Z
LAST-MODIFIED:20250618T124035Z
UID:63320-1750233600-1750266000@mecop.org
SUMMARY:General Adult Tumor Board 2025
DESCRIPTION:Unavailable
URL:https://mecop.org/event/general-adult-tumor-board-2025-21/
LOCATION:Ascension Sacred Heart Hospital\, FL
CATEGORIES:AMA
END:VEVENT
BEGIN:VEVENT
DTSTART;TZID=America/Chicago:20250618T080000
DTEND;TZID=America/Chicago:20250618T170000
DTSTAMP:20260422T141827
CREATED:20251013T121208Z
LAST-MODIFIED:20251013T121208Z
UID:64937-1750233600-1750266000@mecop.org
SUMMARY:General Adult Tumor Board 2025
DESCRIPTION:Unavailable
URL:https://mecop.org/event/general-adult-tumor-board-2025-35/
LOCATION:Ascension Sacred Heart Hospital\, FL
CATEGORIES:AMA
END:VEVENT
BEGIN:VEVENT
DTSTART;TZID=America/Chicago:20250618T123000
DTEND;TZID=America/Chicago:20250618T133000
DTSTAMP:20260422T141827
CREATED:20250116T174933Z
LAST-MODIFIED:20250822T194139Z
UID:60637-1750249800-1750253400@mecop.org
SUMMARY:MUSM Pediatric Alliance Webinar Series
DESCRIPTION:1. Review management of acute sickle cell disease pain in children\n2. 2025 update on sickle cell disease treatments and trends\n3. Discussion of topics of interest to the audience
URL:https://mecop.org/event/musm-pediatric-alliance-webinar-series-5/
LOCATION:Virtual
CATEGORIES:AMA
END:VEVENT
BEGIN:VEVENT
DTSTART;TZID=America/Chicago:20250619T080000
DTEND;TZID=America/Chicago:20250619T170000
DTSTAMP:20260422T141827
CREATED:20250620T172837Z
LAST-MODIFIED:20250623T143240Z
UID:63352-1750320000-1750352400@mecop.org
SUMMARY:Risk Adjustment and Exploring "The Matrix" of Neurological Conditions
DESCRIPTION:1) Explain the importance of risk adjustment in Value Based Care models.\n2) Strengthen understanding of the coding guidelines and regulations\, including compliance and the impact of diagnosis coding on risk-adjusted payment models.\n3) Have an increased awareness of the auditing process for risk adjustment models.\n4) Have a better understanding of how to document for and report diagnosis codes to highest specificity.
URL:https://mecop.org/event/risk-adjustment-and-exploring-the-matrix-with-neurological-conditions-3/
LOCATION:Internet Live Webcast
CATEGORIES:AMA
END:VEVENT
BEGIN:VEVENT
DTSTART;TZID=America/Chicago:20250619T080000
DTEND;TZID=America/Chicago:20250619T170000
DTSTAMP:20260422T141827
CREATED:20250718T155051Z
LAST-MODIFIED:20250718T155247Z
UID:63739-1750320000-1750352400@mecop.org
SUMMARY:NFO Business of Medicine Web Series: Understanding Health in 2025
DESCRIPTION:What is Telehealth?\nJoin this webinar to get a better understanding of Telehealth\, the PHE Extension\, Florida State requirements\, HIPAA\, documentation requirements and billing.  \nThe attendees will be able to define telehealth\, summarize the key telehealth flexibilities extended through September 30th\, 2025 and understand HIPAA requirements. We will also review documentation requirements\, how to identify the correct CPT® codes\, modifiers\, and place of service (POS) for telehealth.
URL:https://mecop.org/event/nfo-business-of-medicine-web-series-understanding-health-in-2025/
LOCATION:Internet Live Webcast
CATEGORIES:AMA
END:VEVENT
BEGIN:VEVENT
DTSTART;TZID=America/Chicago:20250619T080000
DTEND;TZID=America/Chicago:20250619T170000
DTSTAMP:20260422T141827
CREATED:20250722T163115Z
LAST-MODIFIED:20250722T163128Z
UID:63788-1750320000-1750352400@mecop.org
SUMMARY:PACT\, Update: Practical Approaches to Comprehensive Treatment of Pain 2024-2025
DESCRIPTION:See certificate
URL:https://mecop.org/event/pact-update-practical-approaches-to-comprehensive-treatment-of-pain-2024-2025/
LOCATION:Internet Enduring Material
CATEGORIES:AMA
END:VEVENT
BEGIN:VEVENT
DTSTART;TZID=America/Chicago:20250620T080000
DTEND;TZID=America/Chicago:20250620T170000
DTSTAMP:20260422T141827
CREATED:20250624T122756Z
LAST-MODIFIED:20250624T123323Z
UID:63402-1750406400-1750438800@mecop.org
SUMMARY:FSU Fundamentals of Teaching in the FSU COM Clinical Education Program I Module
DESCRIPTION:Unavailable
URL:https://mecop.org/event/fsu-fundamentals-of-teaching-in-the-fsu-com-clinical-education-program-i-module-12/
LOCATION:Enduring Material
CATEGORIES:AMA
END:VEVENT
BEGIN:VEVENT
DTSTART;TZID=America/Chicago:20250620T080000
DTEND;TZID=America/Chicago:20250620T170000
DTSTAMP:20260422T141827
CREATED:20250625T152249Z
LAST-MODIFIED:20250627T165241Z
UID:63422-1750406400-1750438800@mecop.org
SUMMARY:Pediatric Associates Asthma Refresher Series: Asthma Guidelines
DESCRIPTION:
URL:https://mecop.org/event/pediatric-associates-asthma-refresher-series/
LOCATION:Zoom
CATEGORIES:AMA
END:VEVENT
BEGIN:VEVENT
DTSTART;TZID=America/Chicago:20250620T080000
DTEND;TZID=America/Chicago:20250620T170000
DTSTAMP:20260422T141827
CREATED:20250628T214405Z
LAST-MODIFIED:20250628T214426Z
UID:63465-1750406400-1750438800@mecop.org
SUMMARY:ENT Pearls and Mastery of the Ear & Oral Cavity
DESCRIPTION:Understand oral cavity and oropharyngeal anatomy\, learn proper exam technique\, identify common oral cavity/oropharyngeal disease presentations\, and understand best treatment approaches for these conditions\nUnderstand nasal cavity anatomy\, learn proper exam techniques\, and identify common nasal cavity diagnoses with correct treatment protocols.\nLearn proper neck examination\, best imaging choices for various diagnoses\, and identify common neck pathological states with appropriate treatments.\nBecome much more confident in ear examinations through the use of otoscopy (normal and pneumatic otoscopy)\nLearn the use of performing the Valsalva maneuver during otoscopy – and how this may help diagnostic accuracy.\nLearn the proper use of the tuning fork – and implementing this to help discern middle ear pathology or tympanic membrane perforations.\nLearn how to perform tympanometry – and utilizing this to help detect the presence or absence of middle ear fluid/purulence or a tympanic membrane perforation.\nIdentification and proper treatment of otitis externa\nLearn various cerumen removal tools and techniques for cerumen and ear foreign bodies.\nLearn how to drain an auricular hematoma and properly place bolster.
URL:https://mecop.org/event/ent-pearls-and-mastery-of-the-ear-oral-cavity-4/
LOCATION:Internet Enduring Material
CATEGORIES:AMA
END:VEVENT
BEGIN:VEVENT
DTSTART;TZID=America/Chicago:20250620T080000
DTEND;TZID=America/Chicago:20250620T170000
DTSTAMP:20260422T141827
CREATED:20250811T123809Z
LAST-MODIFIED:20250811T123809Z
UID:64053-1750406400-1750438800@mecop.org
SUMMARY:Pediatric Associates Asthma Refresher Series: Inhalers
DESCRIPTION:
URL:https://mecop.org/event/pediatric-associates-asthma-refresher-series-inhalers/
LOCATION:Virtual
CATEGORIES:AMA
END:VEVENT
BEGIN:VEVENT
DTSTART;TZID=America/Chicago:20250621T080000
DTEND;TZID=America/Chicago:20250621T170000
DTSTAMP:20260422T141827
CREATED:20250625T211644Z
LAST-MODIFIED:20250625T212016Z
UID:63431-1750492800-1750525200@mecop.org
SUMMARY:Curbside Consults on Improving Menopause Management:
DESCRIPTION:Unavailable
URL:https://mecop.org/event/curbside-consults-on-improving-menopause-management/
LOCATION:Enduring Material
CATEGORIES:AMA
END:VEVENT
BEGIN:VEVENT
DTSTART;TZID=America/Chicago:20250622T080000
DTEND;TZID=America/Chicago:20250622T170000
DTSTAMP:20260422T141827
CREATED:20250624T164004Z
LAST-MODIFIED:20250624T164010Z
UID:63409-1750579200-1750611600@mecop.org
SUMMARY:Fundamentals with Injector Coach Institute
DESCRIPTION:Assess facial anatomy to determine proper treatment and placement. Demonstrate competency in facial anatomy as it pertains to placement of botulinium toxin and filler. Demonstrate efficiency in neurotoxin and filler. Perform proper placement and injection of neurotoxin and filler for glabella\, frontalis and crow’s feet\, as well as cheeks\, lips and nasolabial folds.
URL:https://mecop.org/event/fundamentals-with-injector-coach-institute-3/
LOCATION:Mind Body Soul Medical
CATEGORIES:AMA
END:VEVENT
BEGIN:VEVENT
DTSTART;TZID=America/Chicago:20250622T080000
DTEND;TZID=America/Chicago:20250622T170000
DTSTAMP:20260422T141827
CREATED:20250811T183209Z
LAST-MODIFIED:20250811T183631Z
UID:64064-1750579200-1750611600@mecop.org
SUMMARY:FSU Medications and Older Adults:
DESCRIPTION:Unavailable
URL:https://mecop.org/event/fsu-medications-and-older-adults/
LOCATION:Enduring Activity
CATEGORIES:AMA
END:VEVENT
BEGIN:VEVENT
DTSTART;TZID=America/Chicago:20250623T080000
DTEND;TZID=America/Chicago:20250623T170000
DTSTAMP:20260422T141827
CREATED:20250628T214935Z
LAST-MODIFIED:20250628T214956Z
UID:63468-1750665600-1750698000@mecop.org
SUMMARY:Tympanometry Course
DESCRIPTION:Select the appropriate attachment and successfully plan tympanogram to perform tympanometry on an adult or pediatric patient. \nInterpret tympanometry results and the appropriate course of action. \nApply the appropriate ICD-10 and CPT codes for tympanometry procedures.
URL:https://mecop.org/event/tympanometry-course-2/
LOCATION:Internet Enduring Material
CATEGORIES:AMA
END:VEVENT
BEGIN:VEVENT
DTSTART;TZID=America/Chicago:20250623T080000
DTEND;TZID=America/Chicago:20250623T170000
DTSTAMP:20260422T141827
CREATED:20250708T141554Z
LAST-MODIFIED:20250708T141736Z
UID:63568-1750665600-1750698000@mecop.org
SUMMARY:Classic Lectures in Trauma Imaging
DESCRIPTION:Unavailable
URL:https://mecop.org/event/classic-lectures-in-trauma-imaging/
LOCATION:Enduring Activity
CATEGORIES:AMA
END:VEVENT
BEGIN:VEVENT
DTSTART;TZID=America/Chicago:20250624T080000
DTEND;TZID=America/Chicago:20250624T170000
DTSTAMP:20260422T141827
CREATED:20250623T191736Z
LAST-MODIFIED:20250626T132657Z
UID:63380-1750752000-1750784400@mecop.org
SUMMARY:FSU-Pensacola
DESCRIPTION:Explain the strategy to provide educational feedback to learners and obtain a just in time educational tool\, available to use when working with medical student and physician assistant student learners.
URL:https://mecop.org/event/fsu-pensacola-27/
LOCATION:Pensacola Regional Campus\, 11000 University Parkway Bldg 234\, 2nd Floor\, Pensacola\, FL\, 32514-5750\, United States
CATEGORIES:AMA
END:VEVENT
BEGIN:VEVENT
DTSTART;TZID=America/Chicago:20250625T080000
DTEND;TZID=America/Chicago:20250625T170000
DTSTAMP:20260422T141827
CREATED:20251217T201712Z
LAST-MODIFIED:20251217T201712Z
UID:66410-1750838400-1750870800@mecop.org
SUMMARY:FSU Reducing the Potential for FSU COM Student Mistreatment Module:
DESCRIPTION:Unavailable
URL:https://mecop.org/event/fsu-reducing-the-potential-for-fsu-com-student-mistreatment-module-9/
LOCATION:Enduring Activity
CATEGORIES:AMA
END:VEVENT
BEGIN:VEVENT
DTSTART;TZID=America/Chicago:20250626T080000
DTEND;TZID=America/Chicago:20250626T161500
DTSTAMP:20260422T141827
CREATED:20250514T194032Z
LAST-MODIFIED:20250826T175627Z
UID:62830-1750924800-1750954500@mecop.org
SUMMARY:MUSM Maternal Health Symposium
DESCRIPTION:
URL:https://mecop.org/event/musm-maternal-health-symposium/
LOCATION:Live
CATEGORIES:AMA
END:VEVENT
BEGIN:VEVENT
DTSTART;TZID=America/Chicago:20250627T000000
DTEND;TZID=America/Chicago:20250627T000000
DTSTAMP:20260422T141827
CREATED:20250710T223040Z
LAST-MODIFIED:20250710T223415Z
UID:63595-1750982400-1750982400@mecop.org
SUMMARY:PediPlus 2025 Preparation
DESCRIPTION:
URL:https://mecop.org/event/pediplus-2025-preparation-2/
CATEGORIES:AMA
END:VEVENT
BEGIN:VEVENT
DTSTART;TZID=America/Chicago:20250627T080000
DTEND;TZID=America/Chicago:20250627T170000
DTSTAMP:20260422T141827
CREATED:20250710T221327Z
LAST-MODIFIED:20251217T142958Z
UID:63591-1751011200-1751043600@mecop.org
SUMMARY:PediPlus 2025
DESCRIPTION:Endocrinology & Murmurs in Gen Peds\nBreastfeeding\nVitamin Toxicity\nOffice Emergency Preparedness\nCommon Peds ENT Conditions\nChild Abuse\nEval & Mgmt of Sickle Cell Disease\nTrip to the Zoo\nHives\nAsthma Overview\nPediatric Infectious Disease and Skin Infection\nSpirometry\nIntensive Health Behavior & Lifestyle Treatment\nIllicit Drug Use\nADHD\nDevelopmental Milestones\nAutism\nNewborn Part 2\nNB Part 1\nSports Physical\nNutrition & the Athlete
URL:https://mecop.org/event/pediplus-2025/
LOCATION:Live Course
CATEGORIES:AMA
END:VEVENT
BEGIN:VEVENT
DTSTART;TZID=America/Chicago:20250627T080000
DTEND;TZID=America/Chicago:20250627T170000
DTSTAMP:20260422T141827
CREATED:20250917T194834Z
LAST-MODIFIED:20250917T194834Z
UID:64527-1751011200-1751043600@mecop.org
SUMMARY:2025 Faculty Teaching Credits Clinical Medicine Clerkship
DESCRIPTION:Unavailable
URL:https://mecop.org/event/2025-faculty-teaching-credits-clinical-medicine-clerkship/
LOCATION:Tallahassee Regional Campus\, Tallahassee\, FL\, United States
CATEGORIES:AMA
END:VEVENT
BEGIN:VEVENT
DTSTART;TZID=America/Chicago:20250628T080000
DTEND;TZID=America/Chicago:20250628T170000
DTSTAMP:20260422T141827
CREATED:20250814T215500Z
LAST-MODIFIED:20260419T174135Z
UID:64130-1751097600-1751130000@mecop.org
SUMMARY:Continuum Postreading Test 31(1) February 2025 (Epilepsy)
DESCRIPTION:Unavailable
URL:https://mecop.org/event/continuum-postreading-test-311-february-2025-epilepsy-certificate-of-completion-for-physicians/
LOCATION:Educational Activity
CATEGORIES:AMA
END:VEVENT
END:VCALENDAR