BEGIN:VCALENDAR
VERSION:2.0
PRODID:-//Mecop - ECPv6.5.1.5//NONSGML v1.0//EN
CALSCALE:GREGORIAN
METHOD:PUBLISH
X-WR-CALNAME:Mecop
X-ORIGINAL-URL:https://mecop.org
X-WR-CALDESC:Events for Mecop
REFRESH-INTERVAL;VALUE=DURATION:PT1H
X-Robots-Tag:noindex
X-PUBLISHED-TTL:PT1H
BEGIN:VTIMEZONE
TZID:America/Chicago
BEGIN:DAYLIGHT
TZOFFSETFROM:-0600
TZOFFSETTO:-0500
TZNAME:CDT
DTSTART:20250309T080000
END:DAYLIGHT
BEGIN:STANDARD
TZOFFSETFROM:-0500
TZOFFSETTO:-0600
TZNAME:CST
DTSTART:20251102T070000
END:STANDARD
END:VTIMEZONE
BEGIN:VEVENT
DTSTART;TZID=America/Chicago:20251208T080000
DTEND;TZID=America/Chicago:20251208T170000
DTSTAMP:20260419T161339
CREATED:20251216T153628Z
LAST-MODIFIED:20260107T153220Z
UID:66380-1765180800-1765213200@mecop.org
SUMMARY:Community Medical Services Provider Manual: Addiction Primer
DESCRIPTION:
URL:https://mecop.org/event/community-medical-services-provider-manual-addiction-primer-16/
LOCATION:Enduring Material
CATEGORIES:AMA
END:VEVENT
BEGIN:VEVENT
DTSTART;TZID=America/Chicago:20251207T080000
DTEND;TZID=America/Chicago:20251207T170000
DTSTAMP:20260419T161339
CREATED:20251214T003439Z
LAST-MODIFIED:20260105T195733Z
UID:66316-1765094400-1765126800@mecop.org
SUMMARY:FSU Assisting Students with Motivational Interviewing Skills to Enhance Patient Care Module
DESCRIPTION:Unavailable
URL:https://mecop.org/event/fsu-assisting-students-with-motivational-interviewing-skills-to-enhance-patient-care-module-11/
LOCATION:Enduring Activity
CATEGORIES:AMA
END:VEVENT
BEGIN:VEVENT
DTSTART;TZID=America/Chicago:20251207T080000
DTEND;TZID=America/Chicago:20251207T170000
DTSTAMP:20260419T161339
CREATED:20251214T002009Z
LAST-MODIFIED:20251214T002009Z
UID:66313-1765094400-1765126800@mecop.org
SUMMARY:FSU Integrating Learners into Your Busy Practice Module
DESCRIPTION:Unavailable
URL:https://mecop.org/event/fsu-integrating-learners-into-your-busy-practice-module-3/
LOCATION:Enduring Activity
CATEGORIES:AMA
END:VEVENT
BEGIN:VEVENT
DTSTART;TZID=America/Chicago:20251207T080000
DTEND;TZID=America/Chicago:20251207T170000
DTSTAMP:20260419T161339
CREATED:20251214T001603Z
LAST-MODIFIED:20251214T001603Z
UID:66311-1765094400-1765126800@mecop.org
SUMMARY:FSU Essentials for Inpatient Teaching Rounds: From Classroom to Bedside Module
DESCRIPTION:Unavailable
URL:https://mecop.org/event/fsu-essentials-for-inpatient-teaching-rounds-from-classroom-to-bedside-module-4/
LOCATION:Enduring Activity
CATEGORIES:AMA
END:VEVENT
BEGIN:VEVENT
DTSTART;TZID=America/Chicago:20251206T080000
DTEND;TZID=America/Chicago:20251206T170000
DTSTAMP:20260419T161339
CREATED:20260318T212827Z
LAST-MODIFIED:20260318T213757Z
UID:67813-1765008000-1765040400@mecop.org
SUMMARY:21st Annual International Pediatric Orthopaedic Symposium (IPOS®)
DESCRIPTION:Unavailable
URL:https://mecop.org/event/21st-annual-international-pediatric-orthopaedic-symposium-ipos/
LOCATION:Live Activity
CATEGORIES:AMA
END:VEVENT
BEGIN:VEVENT
DTSTART;TZID=America/Chicago:20251206T080000
DTEND;TZID=America/Chicago:20251206T170000
DTSTAMP:20260419T161339
CREATED:20251211T231339Z
LAST-MODIFIED:20260105T193443Z
UID:66264-1765008000-1765040400@mecop.org
SUMMARY:FSU Fundamentals of Teaching in the FSU COM Clinical Education Program II Module
DESCRIPTION:Unavailable
URL:https://mecop.org/event/fsu-fundamentals-of-teaching-in-the-fsu-com-clinical-education-program-ii-module-22/
LOCATION:Enduring Activity
CATEGORIES:AMA
END:VEVENT
BEGIN:VEVENT
DTSTART;TZID=America/Chicago:20251206T080000
DTEND;TZID=America/Chicago:20251206T170000
DTSTAMP:20260419T161339
CREATED:20251208T182002Z
LAST-MODIFIED:20251208T182002Z
UID:66172-1765008000-1765040400@mecop.org
SUMMARY:Prescribing Controlled Substances
DESCRIPTION:Unavailable
URL:https://mecop.org/event/prescribing-controlled-substances-8/
LOCATION:Enduring Activity
CATEGORIES:AMA,Prescribing of Controlled Substances
END:VEVENT
BEGIN:VEVENT
DTSTART;TZID=America/Chicago:20251205T080000
DTEND;TZID=America/Chicago:20251205T170000
DTSTAMP:20260419T161339
CREATED:20251219T162402Z
LAST-MODIFIED:20251219T162453Z
UID:66485-1764921600-1764954000@mecop.org
SUMMARY:Case Challenge: Exploring Optimal Diagnosis and Treatment of Epithelioid Sarcoma
DESCRIPTION:Unavailable
URL:https://mecop.org/event/case-challenge-exploring-optimal-diagnosis-and-treatment-of-epithelioid-sarcoma/
LOCATION:Enduring Material
CATEGORIES:AMA
END:VEVENT
BEGIN:VEVENT
DTSTART;TZID=America/Chicago:20251205T080000
DTEND;TZID=America/Chicago:20251205T170000
DTSTAMP:20260419T161339
CREATED:20251219T162133Z
LAST-MODIFIED:20251219T162227Z
UID:66482-1764921600-1764954000@mecop.org
SUMMARY:Cardiac Myosin Inhibitors in Hypertrophic Cardiomyopathy: From Fast Facts to Patient-Centered Solutions
DESCRIPTION:Unavailable
URL:https://mecop.org/event/cardiac-myosin-inhibitors-in-hypertrophic-cardiomyopathy-from-fast-facts-to-patient-centered-solutions/
LOCATION:Enduring Material
CATEGORIES:AMA
END:VEVENT
BEGIN:VEVENT
DTSTART;TZID=America/Chicago:20251205T080000
DTEND;TZID=America/Chicago:20251205T170000
DTSTAMP:20260419T161339
CREATED:20251219T161641Z
LAST-MODIFIED:20251219T161849Z
UID:66479-1764921600-1764954000@mecop.org
SUMMARY:Building a Comprehensive Treatment Pathway in Ovarian Cancer
DESCRIPTION:Unavailable
URL:https://mecop.org/event/building-a-comprehensive-treatment-pathway-in-ovarian-cancer/
LOCATION:Enduring Material
CATEGORIES:AMA
END:VEVENT
BEGIN:VEVENT
DTSTART;TZID=America/Chicago:20251205T080000
DTEND;TZID=America/Chicago:20251205T170000
DTSTAMP:20260419T161339
CREATED:20251219T161323Z
LAST-MODIFIED:20251219T161421Z
UID:66476-1764921600-1764954000@mecop.org
SUMMARY:Goals of Analgesic Treatment: Understanding What's Important in Acute and Chronic Pain
DESCRIPTION:Unavailable
URL:https://mecop.org/event/goals-of-analgesic-treatment-understanding-whats-important-in-acute-and-chronic-pain/
LOCATION:Enduring Material
CATEGORIES:AMA
END:VEVENT
BEGIN:VEVENT
DTSTART;TZID=America/Chicago:20251205T080000
DTEND;TZID=America/Chicago:20251205T170000
DTSTAMP:20260419T161339
CREATED:20251219T145938Z
LAST-MODIFIED:20251219T150057Z
UID:66445-1764921600-1764954000@mecop.org
SUMMARY:2025 Faculty Teaching Credits Pediatrics/Summer Clinical Practicum
DESCRIPTION:Unavailable
URL:https://mecop.org/event/2025-faculty-teaching-credits-pediatrics-summer-clinical-practicum/
LOCATION:FSU-Immokalee
CATEGORIES:AMA
END:VEVENT
BEGIN:VEVENT
DTSTART;TZID=America/Chicago:20251205T080000
DTEND;TZID=America/Chicago:20251205T170000
DTSTAMP:20260419T161339
CREATED:20251214T235944Z
LAST-MODIFIED:20251215T000220Z
UID:66327-1764921600-1764954000@mecop.org
SUMMARY:2025 Faculty Teaching Credits PA Weekly Meetings
DESCRIPTION:Unavailable
URL:https://mecop.org/event/2025-faculty-teaching-credits-pa-weekly-meetings/
LOCATION:Pensacola Regional Campus\, 11000 University Parkway Bldg 234\, 2nd Floor\, Pensacola\, FL\, 32514-5750\, United States
CATEGORIES:AMA
END:VEVENT
BEGIN:VEVENT
DTSTART;TZID=America/Chicago:20251205T080000
DTEND;TZID=America/Chicago:20251205T170000
DTSTAMP:20260419T161339
CREATED:20251211T231121Z
LAST-MODIFIED:20251217T184547Z
UID:66262-1764921600-1764954000@mecop.org
SUMMARY:FSU Fundamentals of Teaching in the FSU COM Clinical Education Program I Module
DESCRIPTION:Unavailable
URL:https://mecop.org/event/fsu-fundamentals-of-teaching-in-the-fsu-com-clinical-education-program-i-module-18/
LOCATION:Enduring Activity
CATEGORIES:AMA
END:VEVENT
BEGIN:VEVENT
DTSTART;TZID=America/Chicago:20251205T080000
DTEND;TZID=America/Chicago:20251205T170000
DTSTAMP:20260419T161339
CREATED:20251210T210525Z
LAST-MODIFIED:20251210T210640Z
UID:66217-1764921600-1764954000@mecop.org
SUMMARY:2025 Faculty Teaching Credits Global Health Elective
DESCRIPTION:Unavailable
URL:https://mecop.org/event/2025-faculty-teaching-credits-global-health-elective/
LOCATION:Tallahassee Regional Campus\, Tallahassee\, FL\, United States
CATEGORIES:AMA
END:VEVENT
BEGIN:VEVENT
DTSTART;TZID=America/Chicago:20251204T080000
DTEND;TZID=America/Chicago:20251204T170000
DTSTAMP:20260419T161339
CREATED:20251217T150531Z
LAST-MODIFIED:20251217T150536Z
UID:66391-1764835200-1764867600@mecop.org
SUMMARY:PediPlus 2025
DESCRIPTION:Endocrinology & Murmurs in Gen Peds\nBreastfeeding\nVitamin Toxicity\nOffice Emergency Preparedness\nCommon Peds ENT Conditions\nChild Abuse\nEval & Mgmt of Sickle Cell Disease\nTrip to the Zoo\nHives\nAsthma Overview\nPediatric Infectious Disease and Skin Infection\nSpirometry\nIntensive Health Behavior & Lifestyle Treatment\nIllicit Drug Use\nADHD\nDevelopmental Milestones\nAutism\nNewborn Part 2\nNB Part 1\nSports Physical\nNutrition & the Athlete
URL:https://mecop.org/event/pediplus-2025-2/
LOCATION:Pediatric Associates
CATEGORIES:AMA
END:VEVENT
BEGIN:VEVENT
DTSTART;TZID=America/Chicago:20251203T080000
DTEND;TZID=America/Chicago:20251203T170000
DTSTAMP:20260419T161339
CREATED:20251219T154939Z
LAST-MODIFIED:20251219T155035Z
UID:66455-1764748800-1764781200@mecop.org
SUMMARY:Community Focus: Addressing Gaps and Elevating Care for Patients With Basal Cell Carcinoma
DESCRIPTION:Unavailable
URL:https://mecop.org/event/community-focus-addressing-gaps-and-elevating-care-for-patients-with-basal-cell-carcinoma/
LOCATION:Enduring Material
CATEGORIES:AMA
END:VEVENT
BEGIN:VEVENT
DTSTART;TZID=America/Chicago:20251203T080000
DTEND;TZID=America/Chicago:20251203T170000
DTSTAMP:20260419T161339
CREATED:20251219T154654Z
LAST-MODIFIED:20251219T154747Z
UID:66452-1764748800-1764781200@mecop.org
SUMMARY:Medscape Now! Hot Topics in Family Medicine January 2025 Part 1
DESCRIPTION:Unavailable
URL:https://mecop.org/event/medscape-now-hot-topics-in-family-medicine-january-2025-part-1/
LOCATION:Enduring Material
CATEGORIES:AMA
END:VEVENT
BEGIN:VEVENT
DTSTART;TZID=America/Chicago:20251203T080000
DTEND;TZID=America/Chicago:20251203T170000
DTSTAMP:20260419T161339
CREATED:20251215T135215Z
LAST-MODIFIED:20251215T135412Z
UID:66372-1764748800-1764781200@mecop.org
SUMMARY:PET for Assessment of Response to Therapy in Oncology
DESCRIPTION:Unavailable
URL:https://mecop.org/event/pet-for-assessment-of-response-to-therapy-in-oncology/
LOCATION:Enduring Activity
CATEGORIES:AMA
END:VEVENT
BEGIN:VEVENT
DTSTART;TZID=America/Chicago:20251203T080000
DTEND;TZID=America/Chicago:20251203T170000
DTSTAMP:20260419T161339
CREATED:20251215T131442Z
LAST-MODIFIED:20251215T131604Z
UID:66360-1764748800-1764781200@mecop.org
SUMMARY:Implementation of Dosimetry for Radiopharmaceutical Therapy
DESCRIPTION:Unavailable
URL:https://mecop.org/event/implementation-of-dosimetry-for-radiopharmaceutical-therapy/
LOCATION:Enduring Activity
CATEGORIES:AMA
END:VEVENT
BEGIN:VEVENT
DTSTART;TZID=America/Chicago:20251203T080000
DTEND;TZID=America/Chicago:20251203T170000
DTSTAMP:20260419T161339
CREATED:20251215T102452Z
LAST-MODIFIED:20251215T102452Z
UID:66340-1764748800-1764781200@mecop.org
SUMMARY:General Adult Tumor Board 2025
DESCRIPTION:Unavailable
URL:https://mecop.org/event/general-adult-tumor-board-2025-41/
LOCATION:Ascension Sacred Heart Hospital\, FL
CATEGORIES:AMA
END:VEVENT
BEGIN:VEVENT
DTSTART;TZID=America/Chicago:20251202T080000
DTEND;TZID=America/Chicago:20251202T170000
DTSTAMP:20260419T161339
CREATED:20251219T160231Z
LAST-MODIFIED:20251219T160334Z
UID:66467-1764662400-1764694800@mecop.org
SUMMARY:Medscape Onsite-Windy City Edition: New Directions in NSCLC Care
DESCRIPTION:Unavailable
URL:https://mecop.org/event/medscape-onsite-windy-city-edition-new-directions-in-nsclc-care/
LOCATION:Enduring Material
CATEGORIES:AMA
END:VEVENT
BEGIN:VEVENT
DTSTART;TZID=America/Chicago:20251202T080000
DTEND;TZID=America/Chicago:20251202T170000
DTSTAMP:20260419T161339
CREATED:20251219T155556Z
LAST-MODIFIED:20251219T155701Z
UID:66461-1764662400-1764694800@mecop.org
SUMMARY:Chronic Hypoparathyroidism Peer-to-Peer: Addressing Treatment-Related Complications and Comorbid Conditions
DESCRIPTION:Unavailable
URL:https://mecop.org/event/chronic-hypoparathyroidism-peer-to-peer-addressing-treatment-related-complications-and-comorbid-conditions/
LOCATION:Enduring Material
CATEGORIES:AMA
END:VEVENT
BEGIN:VEVENT
DTSTART;TZID=America/Chicago:20251202T080000
DTEND;TZID=America/Chicago:20251202T170000
DTSTAMP:20260419T161339
CREATED:20251219T155243Z
LAST-MODIFIED:20251219T155341Z
UID:66458-1764662400-1764694800@mecop.org
SUMMARY:Medscape Now! Managing Fire Ant Stings: A Guide for the Interprofessional Healthcare Team
DESCRIPTION:Unavailable
URL:https://mecop.org/event/medscape-now-managing-fire-ant-stings-a-guide-for-the-interprofessional-healthcare-team/
LOCATION:Enduring Material
CATEGORIES:AMA
END:VEVENT
BEGIN:VEVENT
DTSTART;TZID=America/Chicago:20251201T080000
DTEND;TZID=America/Chicago:20251201T170000
DTSTAMP:20260419T161339
CREATED:20260129T153559Z
LAST-MODIFIED:20260129T154648Z
UID:67070-1764576000-1764608400@mecop.org
SUMMARY:Pediatric Associates PediPlus Program
DESCRIPTION:Presentation prep for speakers for PediPlus 2025 as follows:\nMary Sorci:\nNeonatal medicine 1\nNeonatal medicine 2\nCultural Competency\nContraception\nMichelle Keane:\nADHD part 1\nDevelopmental Milstones\nADHD Part 2\nAutism\nJay Weinberg:\nPediatric infectious disease/skin infections\nPediatric Potpourri\nAlison Muzii:\nEndo and Murmurs in general Peds\nJanet Jenkin:\nAsthma Overview\nHerbal Meds\nDermatology\nTravis Lewis:\nNutrition and the Athlete\nThe Sports Physical\nBrian Skirvin Leclair\nOffice Emergency Preparedness\nLeigh Ettinger\nWhat is Intensive Health Behavior and Lifestyle Treatment\nBreanna Blake\nVitamin Toxicity\nFabiana Izquierdo\nSickle Cell Disease\nJanelle Sher\nHives\nCarlos Arreaza\nCommon Ped ENT conditions\nScott Baron\nIllicit Drugs\nWhen to refer to ER\nAlex Wang\nConstipation\nPhilip Colaizzo:\nChild Abuse\nAmy Maddalena\nInfant Nutrition
URL:https://mecop.org/event/pediatric-associates-pediplus-program/
LOCATION:Internet Live
CATEGORIES:AMA
END:VEVENT
BEGIN:VEVENT
DTSTART;TZID=America/Chicago:20251201T080000
DTEND;TZID=America/Chicago:20251201T170000
DTSTAMP:20260419T161339
CREATED:20260109T171320Z
LAST-MODIFIED:20260109T172557Z
UID:66717-1764576000-1764608400@mecop.org
SUMMARY:PEEP Risk Adjustment and the Usual Suspects Common Conditions in Primary Care
DESCRIPTION:
URL:https://mecop.org/event/peep-risk-adjustment-and-the-usual-suspects-common-conditions-in-primary-care/
LOCATION:Internet Enduring Material
CATEGORIES:AMA
END:VEVENT
BEGIN:VEVENT
DTSTART;TZID=America/Chicago:20251201T080000
DTEND;TZID=America/Chicago:20251201T170000
DTSTAMP:20260419T161339
CREATED:20260108T170223Z
LAST-MODIFIED:20260109T173551Z
UID:66704-1764576000-1764608400@mecop.org
SUMMARY:PEEP Risk Adjustment and The Empire Strikes Back with Diabetes
DESCRIPTION:Review CMS-HCC risk adjustment model and why it is important\nReview specific official ICD-10-CM coding guidelines and how they are applied for HCC diagnosis coding\nIdentify elements of the medical record that help support the validation of an HCC diagnosis condition\nIdentify documentation deficiencies for specific conditions
URL:https://mecop.org/event/peep-risk-adjustment-and-the-empire-strikes-back-with-diabetes-6/
LOCATION:Internet Enduring Material
CATEGORIES:AMA
END:VEVENT
BEGIN:VEVENT
DTSTART;TZID=America/Chicago:20251201T080000
DTEND;TZID=America/Chicago:20251201T170000
DTSTAMP:20260419T161339
CREATED:20260108T165308Z
LAST-MODIFIED:20260109T194334Z
UID:66696-1764576000-1764608400@mecop.org
SUMMARY:PEEP The Cider House Rules of Risk Adjustment Models
DESCRIPTION:Review CMS-HCC risk adjustment model and why it is important\nReview specific official ICD-10-CM coding guidelines and how they are applied for HCC diagnosis coding\nIdentify elements of the medical record that help support the validation of an HCC diagnosis condition\nIdentify documentation deficiencies for specific conditions
URL:https://mecop.org/event/peep-the-cider-house-rules-of-risk-adjustment-models-3/
LOCATION:Internet Enduring Material
CATEGORIES:AMA
END:VEVENT
BEGIN:VEVENT
DTSTART;TZID=America/Chicago:20251201T080000
DTEND;TZID=America/Chicago:20251201T170000
DTSTAMP:20260419T161339
CREATED:20251219T160844Z
LAST-MODIFIED:20251219T160953Z
UID:66473-1764576000-1764608400@mecop.org
SUMMARY:Bipolar Disorder Case by Case: From Acute Treatment to Maintenance
DESCRIPTION:Unavailable
URL:https://mecop.org/event/bipolar-disorder-case-by-case-from-acute-treatment-to-maintenance/
LOCATION:Enduring Material
CATEGORIES:AMA
END:VEVENT
BEGIN:VEVENT
DTSTART;TZID=America/Chicago:20251201T080000
DTEND;TZID=America/Chicago:20251201T170000
DTSTAMP:20260419T161339
CREATED:20251219T160536Z
LAST-MODIFIED:20251219T160645Z
UID:66470-1764576000-1764608400@mecop.org
SUMMARY:Beyond the Inhaled Corticosteroid Plateau: Targeted Strategies for Moderate to Severe Asthma
DESCRIPTION:Unavailable
URL:https://mecop.org/event/beyond-the-inhaled-corticosteroid-plateau-targeted-strategies-for-moderate-to-severe-asthma/
LOCATION:Enduring Material
CATEGORIES:AMA
END:VEVENT
END:VCALENDAR