BEGIN:VCALENDAR
VERSION:2.0
PRODID:-//Mecop - ECPv6.5.1.5//NONSGML v1.0//EN
CALSCALE:GREGORIAN
METHOD:PUBLISH
X-WR-CALNAME:Mecop
X-ORIGINAL-URL:https://mecop.org
X-WR-CALDESC:Events for Mecop
REFRESH-INTERVAL;VALUE=DURATION:PT1H
X-Robots-Tag:noindex
X-PUBLISHED-TTL:PT1H
BEGIN:VTIMEZONE
TZID:America/Chicago
BEGIN:DAYLIGHT
TZOFFSETFROM:-0600
TZOFFSETTO:-0500
TZNAME:CDT
DTSTART:20250309T080000
END:DAYLIGHT
BEGIN:STANDARD
TZOFFSETFROM:-0500
TZOFFSETTO:-0600
TZNAME:CST
DTSTART:20251102T070000
END:STANDARD
END:VTIMEZONE
BEGIN:VEVENT
DTSTART;TZID=America/Chicago:20250507T080000
DTEND;TZID=America/Chicago:20250507T170000
DTSTAMP:20260422T085524
CREATED:20250516T135944Z
LAST-MODIFIED:20250516T141157Z
UID:62907-1746604800-1746637200@mecop.org
SUMMARY:CORE: Communicate Openly\, Respond Empathetically. 1 Hr On Demand
DESCRIPTION:Unavailable
URL:https://mecop.org/event/core-communicate-openly-respond-empathetically-1-hr-on-demand/
LOCATION:Live Activity
CATEGORIES:AMA
END:VEVENT
BEGIN:VEVENT
DTSTART;TZID=America/Chicago:20250507T080000
DTEND;TZID=America/Chicago:20250507T170000
DTSTAMP:20260422T085524
CREATED:20250611T190326Z
LAST-MODIFIED:20250611T190326Z
UID:63238-1746604800-1746637200@mecop.org
SUMMARY:General Adult Tumor Board 2025
DESCRIPTION:Unavailable
URL:https://mecop.org/event/general-adult-tumor-board-2025-15/
LOCATION:Ascension Sacred Heart Hospital\, FL
CATEGORIES:AMA
END:VEVENT
BEGIN:VEVENT
DTSTART;TZID=America/Chicago:20250508T080000
DTEND;TZID=America/Chicago:20250508T170000
DTSTAMP:20260422T085524
CREATED:20250508T230007Z
LAST-MODIFIED:20250509T230228Z
UID:62639-1746691200-1746723600@mecop.org
SUMMARY:Risk Adjustment and Diners\, Drive-Ins and Dives for Your GI
DESCRIPTION:The goal of this session is to enhance your knowledge to the principles of CMS-HCC risk adjustment model and the importance of accurate and complete documentation requirements for ICD-10-CM diagnosis coding.\nThere will be discussions on CMS-HCC risk adjustment coding\, documentation challenges\, and official ICD-10-CM diagnosis coding guidelines. \nObjectives:\nReview CMS-HCC risk adjustment model and why it is important\nReview specific official ICD-10-CM coding guidelines and how they are applied for HCC diagnosis coding\nIdentify elements of the medical record that help support the validation of an HCC diagnosis cIdentify documentation deficiencies for specific conditions
URL:https://mecop.org/event/risk-adjustment-and-diners-drive-ins-and-dives-for-your-gi/
LOCATION:Internet Live Webcast
CATEGORIES:AMA
END:VEVENT
BEGIN:VEVENT
DTSTART;TZID=America/Chicago:20250508T080000
DTEND;TZID=America/Chicago:20250508T170000
DTSTAMP:20260422T085524
CREATED:20250603T154544Z
LAST-MODIFIED:20250603T162242Z
UID:63178-1746691200-1746723600@mecop.org
SUMMARY:NFO Business of Medicine Web Series: NOI and Subpoena - You've Been Served!
DESCRIPTION:When a medical practice is served with a subpoena or Notice of Intent (NOI)\, understanding the critical next steps is essential to protecting the practice and ensuring compliance with legal obligations. This session will guide office staff and providers through the step-by-step process\, starting from the moment the subpoena is served. With a focus on Florida state law and key regulatory timeframes\, attendees will learn how to handle deadlines\, documentation\, and communication while avoiding common mistakes that could lead to legal or financial consequences. The session will also provide important guidance on promptly notifying the practice’s malpractice insurance carrier\, a crucial step in mitigating risks. With practical advice and real-world examples\, participants will leave feeling confident and prepared should this situation arise. \nObjectives: \n1.Identify and Understand Legal Notifications. Recognize the differences between a Notice of Intent (NOI) and a subpoena\, understand their implications for medical practices\, and know how to initiate the response process.\n2.Manage Critical Timelines and Notification Requirements. Review key timeframes and deadlines under Florida law\, including the necessary steps to notify the malpractice insurance carrier and initiate legal counsel involvement to protect the practice.\n3.Implement Effective Response Strategies. Develop and execute a systematic response plan\, including proper documentation\, internal and external communication\, and compliance with legal obligations while avoiding common mistakes.\n4.Ensure Compliance and Risk Mitigation. Demonstrate the ability to navigate legal and regulatory requirements\, maintain confidentiality\, and uphold professional standards while minimizing risks to the practice.
URL:https://mecop.org/event/nfo-business-of-medicine-web-series-noi-and-subpoena-youve-been-served/
LOCATION:Internet Live Webcast
CATEGORIES:AMA
END:VEVENT
BEGIN:VEVENT
DTSTART;TZID=America/Chicago:20250509T080000
DTEND;TZID=America/Chicago:20250509T170000
DTSTAMP:20260422T085524
CREATED:20250509T190732Z
LAST-MODIFIED:20250513T135552Z
UID:62644-1746777600-1746810000@mecop.org
SUMMARY:Risk Adjustment and Diners\, Drive-Ins and Dives for Your GI
DESCRIPTION:Review CMS-HCC risk adjustment model and why it is important\nReview specific official ICD-10-CM coding guidelines and how they are applied for HCC diagnosis coding\nIdentify elements of the medical record that help support the validation of an HCC diagnosis condition\nIdentify documentation deficiencies for specific conditions
URL:https://mecop.org/event/risk-adjustment-and-diners-drive-ins-and-dives-for-your-gi-2/
LOCATION:Internet Live Webcast
CATEGORIES:AMA
END:VEVENT
BEGIN:VEVENT
DTSTART;TZID=America/Chicago:20250509T080000
DTEND;TZID=America/Chicago:20250509T170000
DTSTAMP:20260422T085524
CREATED:20250509T200756Z
LAST-MODIFIED:20250509T200756Z
UID:62649-1746777600-1746810000@mecop.org
SUMMARY:2025 Faculty Teaching Credits Internal Medicine/Hematology Oncology Clerkship
DESCRIPTION:
URL:https://mecop.org/event/2025-faculty-teaching-credits-internal-medicine-hematology-oncology-clerkship/
LOCATION:Daytona Beach Regional Campus\, 1200 W International Speedway\, Daytona Beach\, FL\, 32114\, United States
CATEGORIES:AMA
END:VEVENT
BEGIN:VEVENT
DTSTART;TZID=America/Chicago:20250509T080000
DTEND;TZID=America/Chicago:20250509T170000
DTSTAMP:20260422T085524
CREATED:20250619T133615Z
LAST-MODIFIED:20251122T222345Z
UID:63332-1746777600-1746810000@mecop.org
SUMMARY:2025 Faculty Teaching Credits Longitudinal Clerkship
DESCRIPTION:Unavailable
URL:https://mecop.org/event/2025-faculty-teaching-credits-longitudinal-clerkship/
LOCATION:Daytona Beach Regional Campus\, 1200 W International Speedway\, Daytona Beach\, FL\, 32114\, United States
CATEGORIES:AMA
END:VEVENT
BEGIN:VEVENT
DTSTART;TZID=America/Chicago:20250509T080000
DTEND;TZID=America/Chicago:20250509T170000
DTSTAMP:20260422T085524
CREATED:20250712T130103Z
LAST-MODIFIED:20250712T130103Z
UID:63631-1746777600-1746810000@mecop.org
SUMMARY:2025 Faculty Teaching Credits Internal Medicine/Pediatrics Clerkship
DESCRIPTION:Unavailable
URL:https://mecop.org/event/2025-faculty-teaching-credits-internal-medicine-pediatrics-clerkship/
LOCATION:Sarasota Regional Campus\, 5560 Bee Ridge Rd\, Sarasota\, FL\, 34233\, United States
CATEGORIES:AMA
END:VEVENT
BEGIN:VEVENT
DTSTART;TZID=America/Chicago:20250509T080000
DTEND;TZID=America/Chicago:20250509T170000
DTSTAMP:20260422T085524
CREATED:20251028T124627Z
LAST-MODIFIED:20251028T124803Z
UID:65145-1746777600-1746810000@mecop.org
SUMMARY:2025 Faculty Teaching Credits Endocrinology/Longitudinal Clerkship
DESCRIPTION:Unavailable
URL:https://mecop.org/event/2025-faculty-teaching-credits-endocrinology-longitudinal-clerkship/
LOCATION:Sarasota Regional Campus\, 5560 Bee Ridge Rd\, Sarasota\, FL\, 34233\, United States
CATEGORIES:AMA
END:VEVENT
BEGIN:VEVENT
DTSTART;TZID=America/Chicago:20250509T080000
DTEND;TZID=America/Chicago:20250509T170000
DTSTAMP:20260422T085524
CREATED:20251030T125104Z
LAST-MODIFIED:20251114T141829Z
UID:65186-1746777600-1746810000@mecop.org
SUMMARY:2025 Faculty Teaching Credits Family Medicine/Doctoring 3
DESCRIPTION:Unavailable
URL:https://mecop.org/event/2025-faculty-teaching-credits-family-medicine-doctoring-3/
LOCATION:Sarasota Regional Campus\, 5560 Bee Ridge Rd\, Sarasota\, FL\, 34233\, United States
CATEGORIES:AMA
END:VEVENT
BEGIN:VEVENT
DTSTART;TZID=America/Chicago:20250510T080000
DTEND;TZID=America/Chicago:20250510T170000
DTSTAMP:20260422T085524
CREATED:20251103T220048Z
LAST-MODIFIED:20251103T220231Z
UID:65263-1746864000-1746896400@mecop.org
SUMMARY:Motivational Interviewing
DESCRIPTION:Unavailable
URL:https://mecop.org/event/motivational-interviewing/
LOCATION:Enduring Activity
CATEGORIES:AMA
END:VEVENT
BEGIN:VEVENT
DTSTART;TZID=America/Chicago:20250510T080000
DTEND;TZID=America/Chicago:20250510T170000
DTSTAMP:20260422T085524
CREATED:20251103T221713Z
LAST-MODIFIED:20251103T221831Z
UID:65269-1746864000-1746896400@mecop.org
SUMMARY:Screening\, Assessment\, and Treatment of Substance Use Disorders
DESCRIPTION:Unavailable
URL:https://mecop.org/event/screening-assessment-and-treatment-of-substance-use-disorders/
LOCATION:Enduring Educational Activity
CATEGORIES:AMA
END:VEVENT
BEGIN:VEVENT
DTSTART;TZID=America/Chicago:20250513T080000
DTEND;TZID=America/Chicago:20250513T170000
DTSTAMP:20260422T085524
CREATED:20251104T203145Z
LAST-MODIFIED:20251104T203524Z
UID:65305-1747123200-1747155600@mecop.org
SUMMARY:Management of Other Substance Use Disorders: Stimulants
DESCRIPTION:Unavailable
URL:https://mecop.org/event/management-of-other-substance-use-disorders-stimulants/
LOCATION:Enduring Educational Activity
CATEGORIES:AMA
END:VEVENT
BEGIN:VEVENT
DTSTART;TZID=America/Chicago:20250513T120000
DTEND;TZID=America/Chicago:20250513T130000
DTSTAMP:20260422T085524
CREATED:20250514T185042Z
LAST-MODIFIED:20250521T184928Z
UID:62827-1747137600-1747141200@mecop.org
SUMMARY:MUSM Clinical Faculty Development Series
DESCRIPTION:Describe the complexities and unique risks associated with medical planning for large-scale events such as the Olympics\, including contemporary threats like mass shootings\, bombings\, and vehicle rammings. \nExplain the historical context of Olympic-related emergencies\, with specific emphasis on how the Munich 1972 incident reshaped global perspectives on event security and medical preparedness. \nIdentify the essential components of a successful mass casualty incident (MCI) response plan\, including unified incident command\, EMS transport coordination\, and trauma center readiness. \nAssess the structure and effectiveness of the Los Angeles Trauma System\, including its transformation after the 2005 and 2008 train incidents and the development of the Medical Alert Center. \nEvaluate the role of first responder training in Olympic readiness\, with a focus on perishable skills\, tactical medical support\, and the integration of law enforcement and EMS personnel in active incident zones. \nRecognize the strategic advantages of Tactical Emergency Medical Support (TEMS) units in providing point-of-injury care during high-risk public safety events. \nApply best practices from past Olympic and mass casualty incidents to local emergency preparedness efforts\, including triage distribution protocols and cross-agency communication.
URL:https://mecop.org/event/musm-clinical-faculty-development-series-43/
LOCATION:Live
CATEGORIES:AMA
END:VEVENT
BEGIN:VEVENT
DTSTART;TZID=America/Chicago:20250514T080000
DTEND;TZID=America/Chicago:20250514T170000
DTSTAMP:20260422T085524
CREATED:20250515T212054Z
LAST-MODIFIED:20250515T212104Z
UID:62875-1747209600-1747242000@mecop.org
SUMMARY:Risk Adjustment and Diners\, Drive-Ins and Dives for Your GI
DESCRIPTION:Review CMS-HCC risk adjustment model and why it is important\nReview specific official ICD-10-CM coding guidelines and how they are applied for HCC diagnosis coding\nIdentify elements of the medical record that help support the validation of an HCC diagnosis condition\nIdentify documentation deficiencies for specific conditions
URL:https://mecop.org/event/risk-adjustment-and-diners-drive-ins-and-dives-for-your-gi-3/
LOCATION:Internet Live Webcast
CATEGORIES:AMA
END:VEVENT
BEGIN:VEVENT
DTSTART;TZID=America/Chicago:20250514T080000
DTEND;TZID=America/Chicago:20250514T170000
DTSTAMP:20260422T085524
CREATED:20250528T193123Z
LAST-MODIFIED:20250626T204137Z
UID:63078-1747209600-1747242000@mecop.org
SUMMARY:VIP Care Performance Forum
DESCRIPTION:
URL:https://mecop.org/event/vip-care-performance-forum-5/
LOCATION:Virtual
CATEGORIES:AMA
END:VEVENT
BEGIN:VEVENT
DTSTART;TZID=America/Chicago:20250514T080000
DTEND;TZID=America/Chicago:20250514T170000
DTSTAMP:20260422T085524
CREATED:20251104T201049Z
LAST-MODIFIED:20251104T201223Z
UID:65299-1747209600-1747242000@mecop.org
SUMMARY:Medical Considerations for People with Substance Use Disorder
DESCRIPTION:Unavailable
URL:https://mecop.org/event/medical-considerations-for-people-with-substance-use-disorder/
LOCATION:Enduring Educational Activity
CATEGORIES:AMA
END:VEVENT
BEGIN:VEVENT
DTSTART;TZID=America/Chicago:20250514T120000
DTEND;TZID=America/Chicago:20250514T130000
DTSTAMP:20260422T085524
CREATED:20250508T184957Z
LAST-MODIFIED:20250522T131918Z
UID:62616-1747224000-1747227600@mecop.org
SUMMARY:MUSM Clinical Faculty Development Series
DESCRIPTION:1. Use a variety of tools to conduct a literature review to help define the research problem\n2. Apply the “Problem\, Gap\, Hook” framework to focus your research topic into a well-defined research question\n3. Consider the seven main principles to guide the conduct of ethical research\n4. Identify appropriate research methods to address your research question
URL:https://mecop.org/event/musm-clinical-faculty-development-series-42/
LOCATION:Live
CATEGORIES:AMA
END:VEVENT
BEGIN:VEVENT
DTSTART;TZID=America/Chicago:20250515T080000
DTEND;TZID=America/Chicago:20250515T170000
DTSTAMP:20260422T085524
CREATED:20250516T134230Z
LAST-MODIFIED:20250519T151302Z
UID:62902-1747296000-1747328400@mecop.org
SUMMARY:Risk Adjustment and Diners\, Drive-Ins and Dives for Your GI
DESCRIPTION:Review CMS-HCC risk adjustment model and why it is important\nReview specific official ICD-10-CM coding guidelines and how they are applied for HCC diagnosis coding\nIdentify elements of the medical record that help support the validation of an HCC diagnosis condition\nIdentify documentation deficiencies for specific conditions.
URL:https://mecop.org/event/risk-adjustment-and-diners-drive-ins-and-dives-for-your-gi-4/
LOCATION:Internet Live Webcast
CATEGORIES:AMA
END:VEVENT
BEGIN:VEVENT
DTSTART;TZID=America/Chicago:20250515T080000
DTEND;TZID=America/Chicago:20250515T170000
DTSTAMP:20260422T085524
CREATED:20250603T155026Z
LAST-MODIFIED:20250603T162341Z
UID:63180-1747296000-1747328400@mecop.org
SUMMARY:NFO Business of Medicine Web Series: Exploring the OIG’s New Compliance Guidance Document
DESCRIPTION:Stay ahead of the curve with the latest updates from the Office of Inspector General (OIG) on effective compliance practices. This webinar will provide an in-depth analysis of the OIG’s newly updated compliance guidance\, helping you decode its key principles and understand how they may influence your organization’s compliance efforts. Discover what’s new\, evaluate the potential impact on your practice\, and learn practical strategies for integrating these updates into your compliance plan to ensure continued adherence to industry standards. \nObjectives: \n1. Analyze the nuances of the OIG’s revised compliance guidance to understand its core principles and applications.\n2. Evaluate how the updated guidance may affect compliance strategies and day-to-day operations within their organization.\n3. Develop strategies to incorporate new elements from the updated OIG guidance into their practice’s compliance plan for improved alignment with regulatory expectations.
URL:https://mecop.org/event/nfo-business-of-medicine-web-series-exploring-the-oigs-new-compliance-guidance-document/
LOCATION:Internet Live Webcast
CATEGORIES:AMA
END:VEVENT
BEGIN:VEVENT
DTSTART;TZID=America/Chicago:20250516T080000
DTEND;TZID=America/Chicago:20250516T170000
DTSTAMP:20260422T085524
CREATED:20250411T181305Z
LAST-MODIFIED:20250612T211358Z
UID:62129-1747382400-1747414800@mecop.org
SUMMARY:FSU Motivational Interviewing Workshops
DESCRIPTION:Workshop #1:\n• Recognize the importance of patient engagement in working with change\n• Demonstrate skills to engage patients in health behavior change\n• Learn to listen and respond to patient motivation about change\n• Recognize ambivalence and learn specific strategies facilitate change\n• Increase the likelihood of patient change using core MI skills \nWorkshop #2\n• Produce more and better-quality\, deeper reflections.\n• Demonstrate advanced skills to interact with change talk.\n• Display the use of reflections and other strategies in response to client sustain talk and dissent.\n• Exhibit increased intentionality and directionality in their work.
URL:https://mecop.org/event/fsu-workshops/
LOCATION:Live
CATEGORIES:AMA
END:VEVENT
BEGIN:VEVENT
DTSTART;TZID=America/Chicago:20250516T080000
DTEND;TZID=America/Chicago:20250516T170000
DTSTAMP:20260422T085524
CREATED:20250526T183621Z
LAST-MODIFIED:20250526T184333Z
UID:63067-1747382400-1747414800@mecop.org
SUMMARY:MUSM Rural Pediatric CE Conference
DESCRIPTION:
URL:https://mecop.org/event/musm-rural-pediatric-ce-conference/
LOCATION:President’s Dining Room\, Mercer University\, Macon Campus
CATEGORIES:AMA
END:VEVENT
BEGIN:VEVENT
DTSTART;TZID=America/Chicago:20250516T080000
DTEND;TZID=America/Chicago:20250516T170000
DTSTAMP:20260422T085524
CREATED:20250925T203504Z
LAST-MODIFIED:20250925T203504Z
UID:64633-1747382400-1747414800@mecop.org
SUMMARY:MUSM Rural Pediatric CE Conference
DESCRIPTION:Unavailable
URL:https://mecop.org/event/musm-rural-pediatric-ce-conference-2/
LOCATION:Enduring Material
CATEGORIES:AMA
END:VEVENT
BEGIN:VEVENT
DTSTART;TZID=America/Chicago:20250516T080000
DTEND;TZID=America/Chicago:20250516T170000
DTSTAMP:20260422T085524
CREATED:20251104T200301Z
LAST-MODIFIED:20251104T200440Z
UID:65296-1747382400-1747414800@mecop.org
SUMMARY:CORE: Communicate Openly. Respond Empathetically. 1 hr On Demand
DESCRIPTION:Unavailable
URL:https://mecop.org/event/core-communicate-openly-respond-empathetically-1-hr-on-demand-2/
LOCATION:Live Activity
CATEGORIES:AMA
END:VEVENT
BEGIN:VEVENT
DTSTART;TZID=America/Chicago:20250516T081500
DTEND;TZID=America/Chicago:20250516T154500
DTSTAMP:20260422T085524
CREATED:20250310T194003Z
LAST-MODIFIED:20250826T173716Z
UID:61569-1747383300-1747410300@mecop.org
SUMMARY:MUSM Rural Pediatric CE Conference
DESCRIPTION:
URL:https://mecop.org/event/musm-rural-pediatric-cme-conference-2/
LOCATION:President’s Dining Room\, Mercer University\, Macon Campus
CATEGORIES:AMA
END:VEVENT
BEGIN:VEVENT
DTSTART;TZID=America/Chicago:20250519T000000
DTEND;TZID=America/Chicago:20250519T000000
DTSTAMP:20260422T085524
CREATED:20250611T005307Z
LAST-MODIFIED:20250611T005313Z
UID:63220-1747612800-1747612800@mecop.org
SUMMARY:PEEP Risk Adjustment and Top Gun Tips for Coding Cancer
DESCRIPTION:See content.
URL:https://mecop.org/event/peep-risk-adjustment-and-top-gun-tips-for-coding-cancer/
LOCATION:Internet Enduring Material
CATEGORIES:AMA
END:VEVENT
BEGIN:VEVENT
DTSTART;TZID=America/Chicago:20250519T080000
DTEND;TZID=America/Chicago:20250519T170000
DTSTAMP:20260422T085524
CREATED:20251104T195356Z
LAST-MODIFIED:20251104T195703Z
UID:65293-1747641600-1747674000@mecop.org
SUMMARY:Co-Occurring Psychiatric Illness and Substance Use Disorder
DESCRIPTION:Unavailable
URL:https://mecop.org/event/co-occurring-psychiatric-illness-and-substance-use-disorder/
LOCATION:Enduring Educational Activity
CATEGORIES:AMA
END:VEVENT
BEGIN:VEVENT
DTSTART;TZID=America/Chicago:20250520T070000
DTEND;TZID=America/Chicago:20250520T080000
DTSTAMP:20260422T085524
CREATED:20250515T224643Z
LAST-MODIFIED:20250630T225343Z
UID:62878-1747724400-1747728000@mecop.org
SUMMARY:Baldwin Health Tumor Board
DESCRIPTION:1. Review patient cases and all necessary findings (pathology\, radiology\, surgery\, etc.) and discuss key findings to determine course of treatment.\n2. Discuss implications amongst multidisciplinary team members\, and review best practices\, current\nevidence-based findings\, etc.\n3. Assign treatment protocols based on consensus of the multidisciplinary team.
URL:https://mecop.org/event/baldwin-health-tumor-board-6/
LOCATION:Baldwin Health
CATEGORIES:AMA
END:VEVENT
BEGIN:VEVENT
DTSTART;TZID=America/Chicago:20250520T080000
DTEND;TZID=America/Chicago:20250520T170000
DTSTAMP:20260422T085524
CREATED:20250520T200643Z
LAST-MODIFIED:20250520T222143Z
UID:62972-1747728000-1747760400@mecop.org
SUMMARY:Risk Adjustment and Diners\, Drive-Ins and Dives for Your GI
DESCRIPTION:Gain understanding of risk adjustment methodology and its role in Value Based Care models.\nReview specific official ICD-10-CM coding guidelines and how they are applied to diagnosis coding and reporting.\nIdentify elements of the medical record that help support the validation of reported conditions.\nIdentify documentation deficiencies for specific conditions.
URL:https://mecop.org/event/risk-adjustment-and-diners-drive-ins-and-dives-for-your-gi-5/
LOCATION:Internet Live Webcast
CATEGORIES:AMA
END:VEVENT
BEGIN:VEVENT
DTSTART;TZID=America/Chicago:20250520T080000
DTEND;TZID=America/Chicago:20250520T170000
DTSTAMP:20260422T085524
CREATED:20250618T191049Z
LAST-MODIFIED:20250709T143318Z
UID:63330-1747728000-1747760400@mecop.org
SUMMARY:Community Medical Services Provider Manual: Addiction Primer
DESCRIPTION:
URL:https://mecop.org/event/community-medical-services-provider-manual-addiction-primer-10/
LOCATION:Enduring Material
CATEGORIES:AMA
END:VEVENT
END:VCALENDAR