BEGIN:VCALENDAR
VERSION:2.0
PRODID:-//Mecop - ECPv6.5.1.5//NONSGML v1.0//EN
CALSCALE:GREGORIAN
METHOD:PUBLISH
X-WR-CALNAME:Mecop
X-ORIGINAL-URL:https://mecop.org
X-WR-CALDESC:Events for Mecop
REFRESH-INTERVAL;VALUE=DURATION:PT1H
X-Robots-Tag:noindex
X-PUBLISHED-TTL:PT1H
BEGIN:VTIMEZONE
TZID:America/Chicago
BEGIN:DAYLIGHT
TZOFFSETFROM:-0600
TZOFFSETTO:-0500
TZNAME:CDT
DTSTART:20250309T080000
END:DAYLIGHT
BEGIN:STANDARD
TZOFFSETFROM:-0500
TZOFFSETTO:-0600
TZNAME:CST
DTSTART:20251102T070000
END:STANDARD
BEGIN:DAYLIGHT
TZOFFSETFROM:-0600
TZOFFSETTO:-0500
TZNAME:CDT
DTSTART:20260308T080000
END:DAYLIGHT
BEGIN:STANDARD
TZOFFSETFROM:-0500
TZOFFSETTO:-0600
TZNAME:CST
DTSTART:20261101T070000
END:STANDARD
END:VTIMEZONE
BEGIN:VEVENT
DTSTART;TZID=America/Chicago:20260106T080000
DTEND;TZID=America/Chicago:20260106T170000
DTSTAMP:20260419T124139
CREATED:20260111T222427Z
LAST-MODIFIED:20260206T193028Z
UID:66767-1767686400-1767718800@mecop.org
SUMMARY:FSU Fundamentals of Teaching in the FSU COM Clinical Education Program II Module
DESCRIPTION:Unavailable
URL:https://mecop.org/event/fsu-fundamentals-of-teaching-in-the-fsu-com-clinical-education-program-ii-module-23/
LOCATION:Enduring Activity
CATEGORIES:AMA
END:VEVENT
BEGIN:VEVENT
DTSTART;TZID=America/Chicago:20260106T080000
DTEND;TZID=America/Chicago:20260106T170000
DTSTAMP:20260419T124139
CREATED:20260111T221856Z
LAST-MODIFIED:20260206T191902Z
UID:66765-1767686400-1767718800@mecop.org
SUMMARY:FSU Fundamentals of Teaching in the FSU COM Clinical Education Program I Module
DESCRIPTION:Unavailable
URL:https://mecop.org/event/fsu-fundamentals-of-teaching-in-the-fsu-com-clinical-education-program-i/
LOCATION:Enduring Activity
CATEGORIES:AMA
END:VEVENT
BEGIN:VEVENT
DTSTART;TZID=America/Chicago:20251231T080000
DTEND;TZID=America/Chicago:20251231T170000
DTSTAMP:20260419T124139
CREATED:20260107T150628Z
LAST-MODIFIED:20260203T190759Z
UID:66672-1767168000-1767200400@mecop.org
SUMMARY:Community Medical Services Provider Manual: Addiction Primer
DESCRIPTION:
URL:https://mecop.org/event/community-medical-services-provider-manual-addiction-primer-17/
LOCATION:Enduring Material
CATEGORIES:AMA
END:VEVENT
BEGIN:VEVENT
DTSTART;TZID=America/Chicago:20251230T080000
DTEND;TZID=America/Chicago:20251230T170000
DTSTAMP:20260419T124139
CREATED:20260131T200108Z
LAST-MODIFIED:20260131T200313Z
UID:67117-1767081600-1767114000@mecop.org
SUMMARY:PALS Certification
DESCRIPTION:Unavailable
URL:https://mecop.org/event/pals-certification/
LOCATION:Enduring Material
CATEGORIES:AMA
END:VEVENT
BEGIN:VEVENT
DTSTART;TZID=America/Chicago:20251230T080000
DTEND;TZID=America/Chicago:20251230T170000
DTSTAMP:20260419T124139
CREATED:20260109T194610Z
LAST-MODIFIED:20260109T194615Z
UID:66739-1767081600-1767114000@mecop.org
SUMMARY:PEEP Risk Adjustment Reaching the Vertical Limit Pulmonary Conditions
DESCRIPTION:See content.
URL:https://mecop.org/event/peep-risk-adjustment-reaching-the-vertical-limit-pulmonary-conditions-5/
LOCATION:Internet Enduring Material
CATEGORIES:AMA
END:VEVENT
BEGIN:VEVENT
DTSTART;TZID=America/Chicago:20251230T080000
DTEND;TZID=America/Chicago:20251230T170000
DTSTAMP:20260419T124139
CREATED:20260101T174335Z
LAST-MODIFIED:20260101T174436Z
UID:66579-1767081600-1767114000@mecop.org
SUMMARY:WHO Guideline on GLP-1 Therapies for Obesity in Adults
DESCRIPTION:Unavailable
URL:https://mecop.org/event/who-guideline-on-glp-1-therapies-for-obesity-in-adults/
LOCATION:Journal based CME activity
CATEGORIES:AMA
END:VEVENT
BEGIN:VEVENT
DTSTART;TZID=America/Chicago:20251230T080000
DTEND;TZID=America/Chicago:20251230T170000
DTSTAMP:20260419T124139
CREATED:20260101T173759Z
LAST-MODIFIED:20260101T173930Z
UID:66576-1767081600-1767114000@mecop.org
SUMMARY:Diagnosis and Treatment of Obstructive Sleep Apnea
DESCRIPTION:Unavailable
URL:https://mecop.org/event/diagnosis-and-treatment-of-obstructive-sleep-apnea/
LOCATION:Journal based CME activity
CATEGORIES:AMA
END:VEVENT
BEGIN:VEVENT
DTSTART;TZID=America/Chicago:20251230T080000
DTEND;TZID=America/Chicago:20251230T170000
DTSTAMP:20260419T124139
CREATED:20260101T173318Z
LAST-MODIFIED:20260101T173446Z
UID:66573-1767081600-1767114000@mecop.org
SUMMARY:Peripheral Neuropathy: A Review
DESCRIPTION:Unavailable
URL:https://mecop.org/event/peripheral-neuropathy-a-review/
LOCATION:Journal based CME activity
CATEGORIES:AMA
END:VEVENT
BEGIN:VEVENT
DTSTART;TZID=America/Chicago:20251230T080000
DTEND;TZID=America/Chicago:20251230T170000
DTSTAMP:20260419T124139
CREATED:20260101T172752Z
LAST-MODIFIED:20260101T173110Z
UID:66570-1767081600-1767114000@mecop.org
SUMMARY:New Palpable Mass Years After Mastectomy
DESCRIPTION:Unavailable
URL:https://mecop.org/event/new-palpable-mass-years-after-mastectomy/
LOCATION:Enduring Activity
CATEGORIES:AMA
END:VEVENT
BEGIN:VEVENT
DTSTART;TZID=America/Chicago:20251230T080000
DTEND;TZID=America/Chicago:20251230T170000
DTSTAMP:20260419T124139
CREATED:20260101T172345Z
LAST-MODIFIED:20260101T172443Z
UID:66567-1767081600-1767114000@mecop.org
SUMMARY:The Rise in Early-Onset Cancer in the US Population
DESCRIPTION:Unavailable
URL:https://mecop.org/event/the-rise-in-early-onset-cancer-in-the-us-population/
LOCATION:Journal based CME activity
CATEGORIES:AMA
END:VEVENT
BEGIN:VEVENT
DTSTART;TZID=America/Chicago:20251230T080000
DTEND;TZID=America/Chicago:20251230T170000
DTSTAMP:20260419T124139
CREATED:20260101T171732Z
LAST-MODIFIED:20260101T171940Z
UID:66564-1767081600-1767114000@mecop.org
SUMMARY:Therapeutic Use of Cannabis and Cannabinoids
DESCRIPTION:Unavailable
URL:https://mecop.org/event/therapeutic-use-of-cannabis-and-cannabinoids/
LOCATION:Journal based CME activity
CATEGORIES:AMA
END:VEVENT
BEGIN:VEVENT
DTSTART;TZID=America/Chicago:20251230T080000
DTEND;TZID=America/Chicago:20251230T170000
DTSTAMP:20260419T124139
CREATED:20260101T171322Z
LAST-MODIFIED:20260101T171429Z
UID:66561-1767081600-1767114000@mecop.org
SUMMARY:Amyloid and Tau PET and Alzheimer Disease Diagnostics
DESCRIPTION:Unavailable
URL:https://mecop.org/event/amyloid-and-tau-pet-and-alzheimer-disease-diagnostics/
LOCATION:Enduring Activity
CATEGORIES:AMA
END:VEVENT
BEGIN:VEVENT
DTSTART;TZID=America/Chicago:20251229T080000
DTEND;TZID=America/Chicago:20251229T170000
DTSTAMP:20260419T124139
CREATED:20251230T000537Z
LAST-MODIFIED:20251230T000544Z
UID:66556-1766995200-1767027600@mecop.org
SUMMARY:MECOP LMS Online CME Activities
DESCRIPTION:
URL:https://mecop.org/event/mecop-lms-online-cme-activities/
LOCATION:Internet Enduring Material
CATEGORIES:AMA,MedErrors,Prescribing of Controlled Substances
END:VEVENT
BEGIN:VEVENT
DTSTART;TZID=America/Chicago:20251228T080000
DTEND;TZID=America/Chicago:20251228T170000
DTSTAMP:20260419T124139
CREATED:20260109T200334Z
LAST-MODIFIED:20260109T200339Z
UID:66755-1766908800-1766941200@mecop.org
SUMMARY:PEEP Risk Adjustment and Back to the Future Year-End Review
DESCRIPTION:See content.
URL:https://mecop.org/event/peep-risk-adjustment-and-back-to-the-future-year-end-review/
LOCATION:Internet Enduring Material
CATEGORIES:AMA
END:VEVENT
BEGIN:VEVENT
DTSTART;TZID=America/Chicago:20251227T080000
DTEND;TZID=America/Chicago:20251227T170000
DTSTAMP:20260419T124139
CREATED:20260109T173442Z
LAST-MODIFIED:20260109T173447Z
UID:66733-1766822400-1766854800@mecop.org
SUMMARY:PEEP Risk Adjustment and the Top Gun Tips for Coding Cancer
DESCRIPTION:Review CMS-HCC risk adjustment model and why it is important\nReview specific official ICD-10-CM coding guidelines and how they are applied for HCC diagnosis coding\nIdentify elements of the medical record that help support the validation of an HCC diagnosis condition\nIdentify documentation deficiencies for specific conditions
URL:https://mecop.org/event/peep-risk-adjustment-and-the-top-gun-tips-for-coding-cancer-3/
LOCATION:Internet Enduring Material
CATEGORIES:AMA
END:VEVENT
BEGIN:VEVENT
DTSTART;TZID=America/Chicago:20251223T080000
DTEND;TZID=America/Chicago:20251223T170000
DTSTAMP:20260419T124139
CREATED:20260109T194743Z
LAST-MODIFIED:20260109T194750Z
UID:66741-1766476800-1766509200@mecop.org
SUMMARY:Hypertension ACT
DESCRIPTION:See content.
URL:https://mecop.org/event/hypertension-act-8/
LOCATION:Internet Enduring Material
CATEGORIES:AMA
END:VEVENT
BEGIN:VEVENT
DTSTART;TZID=America/Chicago:20251222T080000
DTEND;TZID=America/Chicago:20251222T170000
DTSTAMP:20260419T124139
CREATED:20260106T195139Z
LAST-MODIFIED:20260106T195139Z
UID:66669-1766390400-1766422800@mecop.org
SUMMARY:FSU Gen Z is Your Next Wave of Learners Module
DESCRIPTION:Unavailable
URL:https://mecop.org/event/fsu-gen-z-is-your-next-wave-of-learners-module-3/
LOCATION:Enduring Activity
CATEGORIES:AMA
END:VEVENT
BEGIN:VEVENT
DTSTART;TZID=America/Chicago:20251222T080000
DTEND;TZID=America/Chicago:20251222T170000
DTSTAMP:20260419T124139
CREATED:20260105T195426Z
LAST-MODIFIED:20260105T195426Z
UID:66640-1766390400-1766422800@mecop.org
SUMMARY:FSU What Can a Clinician Educator Learn from a Coach? Module
DESCRIPTION:Unavailable
URL:https://mecop.org/event/fsu-what-can-a-clinician-educator-learn-from-a-coach-module-6/
LOCATION:Enduring Activity
CATEGORIES:AMA
END:VEVENT
BEGIN:VEVENT
DTSTART;TZID=America/Chicago:20251222T080000
DTEND;TZID=America/Chicago:20251222T170000
DTSTAMP:20260419T124139
CREATED:20260105T194750Z
LAST-MODIFIED:20260105T194750Z
UID:66636-1766390400-1766422800@mecop.org
SUMMARY:FSU Identifying and Preventing Academic and Non-academic Difficulties Among M3 and M4 Learners Module
DESCRIPTION:Unavailable
URL:https://mecop.org/event/fsu-identifying-and-preventing-academic-and-non-academic-difficulties-among-m3-and-m4-learners-module-9/
LOCATION:Enduring Activity
CATEGORIES:AMA
END:VEVENT
BEGIN:VEVENT
DTSTART;TZID=America/Chicago:20251220T080000
DTEND;TZID=America/Chicago:20251220T170000
DTSTAMP:20260419T124139
CREATED:20260109T172939Z
LAST-MODIFIED:20260109T172944Z
UID:66728-1766217600-1766250000@mecop.org
SUMMARY:PEEP Risk Adjustment and The Force Awakens Behavioral Health Part 2
DESCRIPTION:See content.
URL:https://mecop.org/event/peep-risk-adjustment-and-the-force-awakens-behavioral-health-part-2-3/
LOCATION:Internet Enduring Material
CATEGORIES:AMA
END:VEVENT
BEGIN:VEVENT
DTSTART;TZID=America/Chicago:20251219T080000
DTEND;TZID=America/Chicago:20251219T170000
DTSTAMP:20260419T124139
CREATED:20260402T145702Z
LAST-MODIFIED:20260402T145710Z
UID:68064-1766131200-1766163600@mecop.org
SUMMARY:Facial Balancing with Injector Coach International
DESCRIPTION:Perfect the patient consultation\nDiscuss pricing\nDifferentiate facial shapes\nBlend transition zones\nDemonstrate proficiency on practicum\nDefine biostimulators\nIdentify the mechanism of action of biostimulators\nDemonstrate competency in reconstituting and diluting biostimulators for different treatment areas\nDemonstrate appropriate technique for injection\nDefine the role of biostimulators in regenerative aesthetics
URL:https://mecop.org/event/facial-balancing-with-injector-coach-international-3/
LOCATION:Mind Body Soul Medical
CATEGORIES:AMA
END:VEVENT
BEGIN:VEVENT
DTSTART;TZID=America/Chicago:20251219T080000
DTEND;TZID=America/Chicago:20251219T170000
DTSTAMP:20260419T124139
CREATED:20260109T195005Z
LAST-MODIFIED:20260109T195518Z
UID:66743-1766131200-1766163600@mecop.org
SUMMARY:PEEP Risk Adjustment and Bones - Inflammatory Musculoskeletal Conditions
DESCRIPTION:See content.
URL:https://mecop.org/event/peep-risk-adjustment-and-bones-inflammatory-musculoskeletal-conditions/
LOCATION:Internet Enduring Material
CATEGORIES:AMA
END:VEVENT
BEGIN:VEVENT
DTSTART;TZID=America/Chicago:20251218T080000
DTEND;TZID=America/Chicago:20251218T170000
DTSTAMP:20260419T124139
CREATED:20260109T195828Z
LAST-MODIFIED:20260109T195833Z
UID:66749-1766044800-1766077200@mecop.org
SUMMARY:PEEP Risk Adjustment and Total Recall - Best Practices for Documentation and Coding
DESCRIPTION:See content.
URL:https://mecop.org/event/peep-risk-adjustment-and-total-recall-best-practices-for-documentation-and-coding-5/
LOCATION:Internet Enduring Material
CATEGORIES:AMA
END:VEVENT
BEGIN:VEVENT
DTSTART;TZID=America/Chicago:20251218T080000
DTEND;TZID=America/Chicago:20251218T170000
DTSTAMP:20260419T124139
CREATED:20251220T145450Z
LAST-MODIFIED:20251222T192521Z
UID:66513-1766044800-1766077200@mecop.org
SUMMARY:Risk Adjustment and Back to the Future-Year in Review
DESCRIPTION:Gain understanding of risk adjustment methodology and its role in Value Based Care models.\nReview specific official ICD-10-CM coding guidelines and how they are applied to diagnosis coding and reporting.\nIdentify elements of the medical record that help support the validation of reported conditions.\nIdentify documentation deficiencies for specific conditions.
URL:https://mecop.org/event/risk-adjustment-and-back-to-the-future-year-in-review-5/
LOCATION:Internet Live Webcast
CATEGORIES:AMA
END:VEVENT
BEGIN:VEVENT
DTSTART;TZID=America/Chicago:20251217T080000
DTEND;TZID=America/Chicago:20251217T170000
DTSTAMP:20260419T124139
CREATED:20260101T170951Z
LAST-MODIFIED:20260101T170951Z
UID:66559-1765958400-1765990800@mecop.org
SUMMARY:General Adult Tumor Board 2025
DESCRIPTION:Unavailable
URL:https://mecop.org/event/general-adult-tumor-board-2025-42/
LOCATION:Ascension Sacred Heart Hospital\, FL
CATEGORIES:AMA
END:VEVENT
BEGIN:VEVENT
DTSTART;TZID=America/Chicago:20251216T080000
DTEND;TZID=America/Chicago:20251216T170000
DTSTAMP:20260419T124139
CREATED:20251219T194053Z
LAST-MODIFIED:20251219T194237Z
UID:66490-1765872000-1765904400@mecop.org
SUMMARY:CMS Medical Provider Meeting
DESCRIPTION:Discuss Take-home screening forms and what constitutes a medication loss vs unsafe storage\nReview and discuss Person-First language\nReview gray area cases that need interdepartmental discussion
URL:https://mecop.org/event/cms-medical-provider-meeting/
LOCATION:Internet Live Webcast
CATEGORIES:AMA
END:VEVENT
BEGIN:VEVENT
DTSTART;TZID=America/Chicago:20251216T080000
DTEND;TZID=America/Chicago:20251216T170000
DTSTAMP:20260419T124139
CREATED:20251217T121851Z
LAST-MODIFIED:20251220T145729Z
UID:66389-1765872000-1765904400@mecop.org
SUMMARY:Risk Adjustment and Back to the Future-Year in Review
DESCRIPTION:Gain understanding of risk adjustment methodology and its role in Value Based Care models.\nReview specific official ICD-10-CM coding guidelines and how they are applied to diagnosis coding and reporting.\nIdentify elements of the medical record that help support the validation of reported conditions.\nIdentify documentation deficiencies for specific conditions.
URL:https://mecop.org/event/risk-adjustment-and-back-to-the-future-year-in-review-4/
LOCATION:Internet Live Webcast
CATEGORIES:AMA
END:VEVENT
BEGIN:VEVENT
DTSTART;TZID=America/Chicago:20251216T070000
DTEND;TZID=America/Chicago:20251216T080000
DTSTAMP:20260419T124139
CREATED:20251228T172708Z
LAST-MODIFIED:20251229T142555Z
UID:66528-1765868400-1765872000@mecop.org
SUMMARY:Baldwin Health Tumor Board
DESCRIPTION:
URL:https://mecop.org/event/baldwin-health-tumor-board-12/
LOCATION:Baldwin Health
CATEGORIES:AMA
END:VEVENT
BEGIN:VEVENT
DTSTART;TZID=America/Chicago:20251215T080000
DTEND;TZID=America/Chicago:20251215T170000
DTSTAMP:20260419T124139
CREATED:20260120T213701Z
LAST-MODIFIED:20260120T213737Z
UID:66941-1765785600-1765818000@mecop.org
SUMMARY:Medical Errors:
DESCRIPTION:Unavailable
URL:https://mecop.org/event/medical-errors-13/
LOCATION:Enduring Activity
CATEGORIES:AMA,MedErrors
END:VEVENT
BEGIN:VEVENT
DTSTART;TZID=America/Chicago:20251215T080000
DTEND;TZID=America/Chicago:20251215T170000
DTSTAMP:20260419T124139
CREATED:20260120T211850Z
LAST-MODIFIED:20260120T213948Z
UID:66939-1765785600-1765818000@mecop.org
SUMMARY:Prescribing Controlled Substances
DESCRIPTION:Unavailable
URL:https://mecop.org/event/prescribing-controlled-substances-9/
LOCATION:Enduring Activity
CATEGORIES:AMA,Prescribing of Controlled Substances
END:VEVENT
END:VCALENDAR