BEGIN:VCALENDAR
VERSION:2.0
PRODID:-//Mecop - ECPv6.5.1.5//NONSGML v1.0//EN
CALSCALE:GREGORIAN
METHOD:PUBLISH
X-WR-CALNAME:Mecop
X-ORIGINAL-URL:https://mecop.org
X-WR-CALDESC:Events for Mecop
REFRESH-INTERVAL;VALUE=DURATION:PT1H
X-Robots-Tag:noindex
X-PUBLISHED-TTL:PT1H
BEGIN:VTIMEZONE
TZID:America/Chicago
BEGIN:DAYLIGHT
TZOFFSETFROM:-0600
TZOFFSETTO:-0500
TZNAME:CDT
DTSTART:20250309T080000
END:DAYLIGHT
BEGIN:STANDARD
TZOFFSETFROM:-0500
TZOFFSETTO:-0600
TZNAME:CST
DTSTART:20251102T070000
END:STANDARD
END:VTIMEZONE
BEGIN:VEVENT
DTSTART;TZID=America/Chicago:20250414T080000
DTEND;TZID=America/Chicago:20250414T170000
DTSTAMP:20260422T053026
CREATED:20250421T204446Z
LAST-MODIFIED:20250421T204641Z
UID:62178-1744617600-1744650000@mecop.org
SUMMARY:Medical Management of Obstetric and Postpartum Hemorrhage (v2)
DESCRIPTION:Unavailable
URL:https://mecop.org/event/medical-management-of-obstetric-and-postpartum-hemorrhage-v2/
LOCATION:Enduring Activity
CATEGORIES:AMA
END:VEVENT
BEGIN:VEVENT
DTSTART;TZID=America/Chicago:20250414T080000
DTEND;TZID=America/Chicago:20250414T170000
DTSTAMP:20260422T053026
CREATED:20250601T205731Z
LAST-MODIFIED:20250601T205731Z
UID:63147-1744617600-1744650000@mecop.org
SUMMARY:Medical Management of Shoulder Dystocia
DESCRIPTION:Unavailable
URL:https://mecop.org/event/medical-management-of-shoulder-dystocia-4/
LOCATION:Enduring Activity
CATEGORIES:AMA
END:VEVENT
BEGIN:VEVENT
DTSTART;TZID=America/Chicago:20250414T080000
DTEND;TZID=America/Chicago:20250414T170000
DTSTAMP:20260422T053026
CREATED:20250601T210050Z
LAST-MODIFIED:20250601T210050Z
UID:63151-1744617600-1744650000@mecop.org
SUMMARY:Fetal Heart Monitoring (v2)
DESCRIPTION:Unavailable
URL:https://mecop.org/event/fetal-heart-monitoring-v2-7/
LOCATION:Enduring Activity
CATEGORIES:AMA
END:VEVENT
BEGIN:VEVENT
DTSTART;TZID=America/Chicago:20250415T070000
DTEND;TZID=America/Chicago:20250415T080000
DTSTAMP:20260422T053026
CREATED:20250403T112101Z
LAST-MODIFIED:20250424T195013Z
UID:62005-1744700400-1744704000@mecop.org
SUMMARY:Baldwin Health Tumor Board
DESCRIPTION:1. Review patient cases and all necessary findings (pathology\, radiology\, surgery\, etc.) and discuss key findings to determine course of treatment.\n2. Discuss implications amongst multidisciplinary team members\, and review best practices\, current\nevidence-based findings\, etc.\n3. Assign treatment protocols based on consensus of the multidisciplinary team.
URL:https://mecop.org/event/baldwin-health-tumor-board-5/
LOCATION:Baldwin Health
CATEGORIES:AMA
END:VEVENT
BEGIN:VEVENT
DTSTART;TZID=America/Chicago:20250415T080000
DTEND;TZID=America/Chicago:20250415T170000
DTSTAMP:20260422T053026
CREATED:20250416T164559Z
LAST-MODIFIED:20250418T144010Z
UID:62153-1744704000-1744736400@mecop.org
SUMMARY:Risk Adjustment and Top Gun Coding Tips for Cancer
DESCRIPTION:Review CMS-HCC risk adjustment model and why it is important\nReview specific official ICD-10-CM coding guidelines and how they are applied for HCC diagnosis coding\nIdentify elements of the medical record that help support the validation of an HCC diagnosis condition\nIdentify documentation deficiencies for specific conditions.
URL:https://mecop.org/event/risk-adjustment-top-gun-tips-for-cancer/
LOCATION:Live Webinar
CATEGORIES:AMA
END:VEVENT
BEGIN:VEVENT
DTSTART;TZID=America/Chicago:20250415T180300
DTEND;TZID=America/Chicago:20250415T200300
DTSTAMP:20260422T053026
CREATED:20250403T145626Z
LAST-MODIFIED:20250501T181608Z
UID:62010-1744740180-1744747380@mecop.org
SUMMARY:FSU-Sarasota
DESCRIPTION:Objectives for the session:\n– Be able to discuss and be aware of any changes to the 3rd and 4th year Syllabi.\n– Review the importance of rotation evaluations and mid-clerkship feedback\n– Review the FM experience with PA students and discuss any issues.\n– Identify FM resources for faculty in the FSU medical library.\n– Identify any issues or need for FM faculty recruitment at the different campuses
URL:https://mecop.org/event/fsu-sarasota-29/
LOCATION:Zoom
CATEGORIES:AMA
END:VEVENT
BEGIN:VEVENT
DTSTART;TZID=America/Chicago:20250415T183000
DTEND;TZID=America/Chicago:20250415T203000
DTSTAMP:20260422T053026
CREATED:20250328T204122Z
LAST-MODIFIED:20251207T151722Z
UID:61887-1744741800-1744749000@mecop.org
SUMMARY:FSU-Daytona Beach
DESCRIPTION:Presenter: Dr. Joanne Saxour\nObjectives: Be able to discuss and be aware of any changes to the 3rd and 4th year Syllabi. Review the importance of rotation evaluations and mid-clerkship feedback. Review the FM experience with PA students and discuss any issues. Identify FM resources for faculty in the FSU medical library. Identify any issues or need for FM faculty recruitment at the different campuses. Open discussion will be the opportunity for faculty to voice their concerns or issues and see how those are being handled at different campuses in an attempt to resolve them.
URL:https://mecop.org/event/fsu-daytona-beach-148/
LOCATION:Zoom
CATEGORIES:AMA
END:VEVENT
BEGIN:VEVENT
DTSTART;TZID=America/Chicago:20250416T080000
DTEND;TZID=America/Chicago:20250416T170000
DTSTAMP:20260422T053026
CREATED:20250417T131633Z
LAST-MODIFIED:20250417T132913Z
UID:62161-1744790400-1744822800@mecop.org
SUMMARY:General Adult Tumor Board 2025
DESCRIPTION:Unavailable
URL:https://mecop.org/event/general-adult-tumor-board-2025-8/
LOCATION:Ascension Sacred Heart Hospital\, FL
CATEGORIES:AMA
END:VEVENT
BEGIN:VEVENT
DTSTART;TZID=America/Chicago:20250416T080000
DTEND;TZID=America/Chicago:20250416T170000
DTSTAMP:20260422T053026
CREATED:20250421T142308Z
LAST-MODIFIED:20250508T230350Z
UID:62169-1744790400-1744822800@mecop.org
SUMMARY:CMS Monthly Provider Meeting
DESCRIPTION:Discussed appropriate use of telemedicine and how to use consent forms. Discussed the processes may be different from State to State.\nReviewed recent article discussing the increased potency of Kratom.\nDiscussed new label changes from Sublocade
URL:https://mecop.org/event/cms-monthly-provider-meeting-11/
LOCATION:Internet Live Webcast
CATEGORIES:AMA
END:VEVENT
BEGIN:VEVENT
DTSTART;TZID=America/Chicago:20250417T080000
DTEND;TZID=America/Chicago:20250417T170000
DTSTAMP:20260422T053026
CREATED:20250421T140630Z
LAST-MODIFIED:20250421T162258Z
UID:62167-1744876800-1744909200@mecop.org
SUMMARY:Risk Adjustment and Top Gun Coding Tips for Cancer
DESCRIPTION:Review CMS-HCC risk adjustment model and why it is important\nReview specific official ICD-10-CM coding guidelines and how they are applied for HCC diagnosis coding\nIdentify elements of the medical record that help support the validation of an HCC diagnosis condition\nIdentify documentation deficiencies for specific conditions.
URL:https://mecop.org/event/risk-adjustment-and-top-gun-coding-tips-for-cancer-4/
LOCATION:Live Webinar
CATEGORIES:AMA
END:VEVENT
BEGIN:VEVENT
DTSTART;TZID=America/Chicago:20250417T080000
DTEND;TZID=America/Chicago:20250417T170000
DTSTAMP:20260422T053026
CREATED:20250508T214535Z
LAST-MODIFIED:20250508T214917Z
UID:62626-1744876800-1744909200@mecop.org
SUMMARY:NFO Business of Medicine Web Series: Florida Diagnostic Errors- Overview\, Analysis\, and Emerging Risks
DESCRIPTION:Diagnostic errors are often underrecognized despite being common\, more likely to cause harm than other types of errors\, and frequently preventable. The diagnostic process is complex and multifaceted\, involving multiple clinicians\, processes\, communication platforms\, and time gaps—factors that contribute to errors across all specialties within the healthcare continuum. Providers in Florida can benefit from reviewing the most prevalent diagnostic errors\, including error types\, locations\, and underlying causes.\nRoot Cause Analysis is a key tool for identifying the causes of diagnostic errors. Understanding the root causes is crucial for recognizing potential risks and implementing strategies to mitigate harm and improve patient safety. Healthcare professionals must prioritize the design and implementation of processes and systems that reduce and prevent diagnostic errors as well as other medical errors.\nThis program examines Florida’s most common diagnostic errors and trends in malpractice claims related to diagnosis. It includes data on clinical and financial severity\, responsible services\, claimant characteristics\, and clinical settings. Additionally\, it explores emerging risks and strategies to mitigate these risks. \nObjectives:\n• Discuss top diagnostic process failures and causations\, including the top five specific to Florida (MD and DOs).\n• Understand the root cause analysis (RCA) process.\n• Discuss emerging diagnosis-related risks.\n• Identify processes and systems that reduce and prevent diagnostic errors.
URL:https://mecop.org/event/nfo-business-of-medicine-web-series-florida-diagnostic-errors-overview-analysis-and-emerging-risks/
LOCATION:Internet Live Webcast
CATEGORIES:AMA
END:VEVENT
BEGIN:VEVENT
DTSTART;TZID=America/Chicago:20250417T080000
DTEND;TZID=America/Chicago:20250417T170000
DTSTAMP:20260422T053026
CREATED:20250520T215518Z
LAST-MODIFIED:20250520T215524Z
UID:62982-1744876800-1744909200@mecop.org
SUMMARY:PEEP Risk Adjustment and The Empire Strikes Back with Diabetes
DESCRIPTION:See content.
URL:https://mecop.org/event/peep-risk-adjustment-and-the-empire-strikes-back-with-diabetes-2/
LOCATION:Internet Enduring Material
CATEGORIES:AMA
END:VEVENT
BEGIN:VEVENT
DTSTART;TZID=America/Chicago:20250422T080000
DTEND;TZID=America/Chicago:20250422T170000
DTSTAMP:20260422T053026
CREATED:20250601T205013Z
LAST-MODIFIED:20250601T205504Z
UID:63139-1745308800-1745341200@mecop.org
SUMMARY:Medical Management of Hypertensive Disorders in Pregnancy (v2)
DESCRIPTION:Unavailable
URL:https://mecop.org/event/medical-management-of-hypertensive-disorders-in-pregnancy-v2/
LOCATION:Enduring Activity
CATEGORIES:AMA
END:VEVENT
BEGIN:VEVENT
DTSTART;TZID=America/Chicago:20250422T080000
DTEND;TZID=America/Chicago:20250422T170000
DTSTAMP:20260422T053026
CREATED:20250601T205409Z
LAST-MODIFIED:20250601T205409Z
UID:63142-1745308800-1745341200@mecop.org
SUMMARY:Medical Management of Obstetric and Postpartum Hemorrhage (v2)
DESCRIPTION:Unavailable
URL:https://mecop.org/event/medical-management-of-obstetric-and-postpartum-hemorrhage-v2-2/
LOCATION:Enduring Activity
CATEGORIES:AMA
END:VEVENT
BEGIN:VEVENT
DTSTART;TZID=America/Chicago:20250422T120000
DTEND;TZID=America/Chicago:20250422T130000
DTSTAMP:20260422T053026
CREATED:20250401T120014Z
LAST-MODIFIED:20250427T211318Z
UID:61972-1745323200-1745326800@mecop.org
SUMMARY:MUSM Clinical Faculty Development Series
DESCRIPTION:
URL:https://mecop.org/event/musm-clinical-faculty-development-series-39/
LOCATION:Live
CATEGORIES:AMA
END:VEVENT
BEGIN:VEVENT
DTSTART;TZID=America/Chicago:20250422T180000
DTEND;TZID=America/Chicago:20250422T200000
DTSTAMP:20260422T053026
CREATED:20250424T193452Z
LAST-MODIFIED:20250501T174107Z
UID:62213-1745344800-1745352000@mecop.org
SUMMARY:FSU-Tallahassee
DESCRIPTION:
URL:https://mecop.org/event/fsu-tallahassee-167/
LOCATION:Zoom
CATEGORIES:AMA
END:VEVENT
BEGIN:VEVENT
DTSTART;TZID=America/Chicago:20250423T080000
DTEND;TZID=America/Chicago:20250423T170000
DTSTAMP:20260422T053026
CREATED:20250425T110837Z
LAST-MODIFIED:20250425T110837Z
UID:62221-1745395200-1745427600@mecop.org
SUMMARY:General Adult Tumor Board 2025
DESCRIPTION:Unavailable
URL:https://mecop.org/event/general-adult-tumor-board-2025-9/
LOCATION:Ascension Sacred Heart Hospital\, FL
CATEGORIES:AMA
END:VEVENT
BEGIN:VEVENT
DTSTART;TZID=America/Chicago:20250423T080000
DTEND;TZID=America/Chicago:20250423T170000
DTSTAMP:20260422T053026
CREATED:20250611T190529Z
LAST-MODIFIED:20250612T184726Z
UID:63240-1745395200-1745427600@mecop.org
SUMMARY:General Adult Tumor Board 2025
DESCRIPTION:Unavailable
URL:https://mecop.org/event/general-adult-tumor-board-2025-16/
LOCATION:Ascension Sacred Heart Hospital\, FL
CATEGORIES:AMA
END:VEVENT
BEGIN:VEVENT
DTSTART;TZID=America/Chicago:20250423T080000
DTEND;TZID=America/Chicago:20250430T170000
DTSTAMP:20260422T053026
CREATED:20250430T180710Z
LAST-MODIFIED:20250430T180724Z
UID:62275-1745395200-1746032400@mecop.org
SUMMARY:ENT Pearls and Mastery of the Ear & Oral Cavity
DESCRIPTION:Understand oral cavity and oropharyngeal anatomy\, learn proper exam technique\, identify common oral cavity/oropharyngeal disease presentations\, and understand best treatment approaches for these conditions\nUnderstand nasal cavity anatomy\, learn proper exam techniques\, and identify common nasal cavity diagnoses with correct treatment protocols.\nLearn proper neck examination\, best imaging choices for various diagnoses\, and identify common neck pathological states with appropriate treatments.\nBecome much more confident in ear examinations through the use of otoscopy (normal and pneumatic otoscopy)\nLearn the use of performing the Valsalva maneuver during otoscopy – and how this may help diagnostic accuracy.\nLearn the proper use of the tuning fork – and implementing this to help discern middle ear pathology or tympanic membrane perforations.\nLearn how to perform tympanometry – and utilizing this to help detect the presence or absence of middle ear fluid/purulence or a tympanic membrane perforation.\nIdentification and proper treatment of otitis externa\nLearn various cerumen removal tools and techniques for cerumen and ear foreign bodies.\nLearn how to drain an auricular hematoma and properly place bolster.
URL:https://mecop.org/event/ent-pearls-and-mastery-of-the-ear-oral-cavity-3/
LOCATION:Internet Enduring Material
CATEGORIES:AMA
END:VEVENT
BEGIN:VEVENT
DTSTART;TZID=America/Chicago:20250424T080000
DTEND;TZID=America/Chicago:20250424T170000
DTSTAMP:20260422T053026
CREATED:20250421T211832Z
LAST-MODIFIED:20250520T115738Z
UID:62182-1745481600-1745514000@mecop.org
SUMMARY:Better Health Group Provider Bootcamp
DESCRIPTION:To discuss the impact of metabolic disorder on chronic conditions\, pathophysiology\, treatment and care plans.
URL:https://mecop.org/event/the-better-health-group-educational-series/
LOCATION:Zoom
CATEGORIES:AMA
END:VEVENT
BEGIN:VEVENT
DTSTART;TZID=America/Chicago:20250424T080000
DTEND;TZID=America/Chicago:20250424T170000
DTSTAMP:20260422T053026
CREATED:20250502T165721Z
LAST-MODIFIED:20250507T192843Z
UID:62299-1745481600-1745514000@mecop.org
SUMMARY:SMG Risk Adjustment and New Provider Training
DESCRIPTION:Review Hierarchical Condition Category (HCC) Value Based Risk Adjustment model(s) and why it is important \nStronger understanding of the medical coding guidelines and regulations\, including compliance and the impact of diagnosis coding \nMindfulness to the auditing process for Center for Medicare and Medicaid Services (CMS) – HCC risk adjustment models and documenting and reporting chronic conditions yearly \nAwareness of “other” HCC Risk Models (Commercial\, Medicaid (TENNCARE))
URL:https://mecop.org/event/smg-risk-adjustment-and-new-provider-training-4/
CATEGORIES:AMA
END:VEVENT
BEGIN:VEVENT
DTSTART;TZID=America/Chicago:20250425T080000
DTEND;TZID=America/Chicago:20250425T170000
DTSTAMP:20260422T053026
CREATED:20250504T125456Z
LAST-MODIFIED:20250707T151936Z
UID:62329-1745568000-1745600400@mecop.org
SUMMARY:Pediatric Associates Asthma Refresher Series: Asthma Guidelines
DESCRIPTION:
URL:https://mecop.org/event/pediatric-associates-asthma-training-series-asthma-guidelines/
LOCATION:Zoom
CATEGORIES:AMA
END:VEVENT
BEGIN:VEVENT
DTSTART;TZID=America/Chicago:20250425T080000
DTEND;TZID=America/Chicago:20250425T170000
DTSTAMP:20260422T053026
CREATED:20250820T191906Z
LAST-MODIFIED:20250820T192537Z
UID:64189-1745568000-1745600400@mecop.org
SUMMARY:Radiographic Changes of the Nasolacrimal Duct in Silent Sinus Syndrome
DESCRIPTION:Unavailable
URL:https://mecop.org/event/radiographic-changes-of-the-nasolacrimal-duct-in-silent-sinus-syndrome/
LOCATION:Peer Review
CATEGORIES:AMA
END:VEVENT
BEGIN:VEVENT
DTSTART;TZID=America/Chicago:20250425T080000
DTEND;TZID=America/Chicago:20250425T170000
DTSTAMP:20260422T053026
CREATED:20251014T144029Z
LAST-MODIFIED:20251014T144217Z
UID:64949-1745568000-1745600400@mecop.org
SUMMARY:2025 Faculty Teaching Credits Outpatient Medicine Clerkship
DESCRIPTION:Unavailable
URL:https://mecop.org/event/2025-faculty-teaching-credits-outpatient-medicine-clerkship/
LOCATION:Sarasota Regional Campus\, 5560 Bee Ridge Rd\, Sarasota\, FL\, 34233\, United States
CATEGORIES:AMA
END:VEVENT
BEGIN:VEVENT
DTSTART;TZID=America/Chicago:20250426T080000
DTEND;TZID=America/Chicago:20250426T170000
DTSTAMP:20260422T053026
CREATED:20250430T175436Z
LAST-MODIFIED:20250430T175443Z
UID:62273-1745654400-1745686800@mecop.org
SUMMARY:Method Aesthetics Academy: Biostimulators
DESCRIPTION:Students will learn skin rejuvenation through biostimulatory products. Use of biostimulators stimulates the natural repair process within the fibroblasts for skin healing and restores collagen and elastin production over time\, making it an ideal treatment for facial rejuvenation\, hand\, neck and chest rejuvenation. Case studies will be reviewed with thorough discussion of indications\, treatment technique and proper use of cannulas. Each student will also pariticpate in a hands-on lab where they are closely proctoredwith model patients from consultation/assessment\, to product preparation\, proper insertion and application technique and completion/after care.
URL:https://mecop.org/event/method-aesthetics-academy-biostimulators/
LOCATION:Live Course
CATEGORIES:AMA
END:VEVENT
BEGIN:VEVENT
DTSTART;TZID=America/Chicago:20250426T080000
DTEND;TZID=America/Chicago:20250427T170000
DTSTAMP:20260422T053026
CREATED:20250501T163044Z
LAST-MODIFIED:20250502T223804Z
UID:62286-1745654400-1745773200@mecop.org
SUMMARY:MedSpa Militia: Confidence to Command
DESCRIPTION:Define challenges for running a successful medspa. \nDiscuss best practices in hiring and firing medspa clinical and non-clinical support staff. \nOutline tools for hosting $50\,000 medspa events. \nOutline tools for effective marketing and social media branding. \nOutline best practices for maximizing patient relationships. \nConduct multiple in-depth roundtables around solving learner hurdles to moving forward in their business. \n 
URL:https://mecop.org/event/medspa-militia-confidence-to-command/
LOCATION:Mind Body Soul Medical
CATEGORIES:AMA
END:VEVENT
BEGIN:VEVENT
DTSTART;TZID=America/Chicago:20250427T080000
DTEND;TZID=America/Chicago:20250427T170000
DTSTAMP:20260422T053026
CREATED:20250515T190942Z
LAST-MODIFIED:20250515T191100Z
UID:62860-1745740800-1745773200@mecop.org
SUMMARY:Lipoprotein(a)
DESCRIPTION:Unavailable
URL:https://mecop.org/event/lipoproteina/
LOCATION:Journal based CME activity
CATEGORIES:AMA
END:VEVENT
BEGIN:VEVENT
DTSTART;TZID=America/Chicago:20250427T080000
DTEND;TZID=America/Chicago:20250427T170000
DTSTAMP:20260422T053026
CREATED:20250516T133059Z
LAST-MODIFIED:20250516T133159Z
UID:62899-1745740800-1745773200@mecop.org
SUMMARY:Vitamin D for Prevention of Disease
DESCRIPTION:Unavailable
URL:https://mecop.org/event/vitamin-d-for-prevention-of-disease/
LOCATION:Journal based CME activity
CATEGORIES:AMA
END:VEVENT
BEGIN:VEVENT
DTSTART;TZID=America/Chicago:20250427T080000
DTEND;TZID=America/Chicago:20250427T170000
DTSTAMP:20260422T053026
CREATED:20250602T114327Z
LAST-MODIFIED:20250602T114327Z
UID:63153-1745740800-1745773200@mecop.org
SUMMARY:ASAM 56th Annual Conference
DESCRIPTION:Unavailable
URL:https://mecop.org/event/asam-56th-annual-conference/
LOCATION:Live Activity
CATEGORIES:AMA
END:VEVENT
BEGIN:VEVENT
DTSTART;TZID=America/Chicago:20250428T080000
DTEND;TZID=America/Chicago:20250428T170000
DTSTAMP:20260422T053026
CREATED:20250429T131321Z
LAST-MODIFIED:20250429T131700Z
UID:62258-1745827200-1745859600@mecop.org
SUMMARY:ASAM 55th Annual Conference
DESCRIPTION:Unavailable
URL:https://mecop.org/event/asam-55th-annual-conference/
LOCATION:Live
CATEGORIES:AMA,Prescribing of Controlled Substances
END:VEVENT
END:VCALENDAR